Workbook

Sheet Januari
A1: LAPORAN BERKAS IZIN MASUK DAN TERPROSES DINAS PENANAMAN MODAL DAN PELAYANAN TERPADU SATU PINTU
A2: KABUPATEN KEBUMEN
A3: Bulan Januari 2017
A5: NO | B5: JENIS IZIN | C5: TANGGAL | AH5: JML PEMOHON | AI5: JML BULAN LALU | AJ5: TOTAL | AK5: TERPROSES (SK) | AL5: KETERANGAN
C6: 1 | D6: 2 | E6: 3 | F6: 4 | G6: 5 | H6: 6 | I6: 7 | J6: 8 | K6: 9 | L6: 10 | M6: 11 | N6: 12 | O6: 13 | P6: 14 | Q6: 15 | R6: 16 | S6: 17 | T6: 18 | U6: 19 | V6: 20 | W6: 21 | X6: 22 | Y6: 23 | Z6: 24 | AA6: 25 | AB6: 26 | AC6: 27 | AD6: 28 | AE6: 29 | AF6: 30 | AG6: 31
A7: 1 | B7: Izin Prinsip | C7: 0 | D7: 0 | E7: 0 | F7: 0 | G7: 0 | H7: 0 | I7: 0 | J7: 0 | K7: 0 | L7: 0 | M7: 0 | N7: 0 | O7: 0 | P7: 0 | Q7: 0 | R7: 0 | S7: 1 | T7: 0 | U7: 0 | V7: 0 | W7: 0 | X7: 0 | Y7: 0 | Z7: 1 | AA7: 0 | AB7: 0 | AC7: 1 | AD7: 0 | AE7: 0 | AF7: 0 | AG7: 2 | AH7: =SUM(C7:AG7) -> 5 | AI7: 0 | AJ7: =AH7+AI7 -> 5 | AK7: 1 | AL7: =AJ7-AK7 -> 4 | AM7: dlm proses
A8: 2 | B8: Izin Lokasi/Izin perencanaan letak penggunaan tanah/ penetapan lokasi | C8: 0 | D8: 0 | E8: 0 | F8: 0 | G8: 0 | H8: 0 | I8: 0 | J8: 0 | K8: 0 | L8: 0 | M8: 1 | N8: 1 | O8: 0 | P8: 0 | Q8: 0 | R8: 0 | S8: 0 | T8: 1 | U8: 1 | V8: 0 | W8: 0 | X8: 0 | Y8: 0 | Z8: 0 | AA8: 0 | AB8: 0 | AC8: 0 | AD8: 0 | AE8: 0 | AF8: 0 | AG8: 0 | AH8: =SUM(C8:AG8) -> 4 | AI8: 0 | AJ8: =AH8+AI8 -> 4 | AK8: 1 | AL8: =AJ8-AK8 -> 3 | AM8: dlm proses
A9: 3 | B9: Izin Gangguan/HO | C9: 0 | D9: 0 | E9: 3 | F9: 1 | G9: 0 | H9: 0 | I9: 0 | J9: 0 | K9: 1 | L9: 0 | M9: 0 | N9: 1 | O9: 1 | P9: 0 | Q9: 0 | R9: 0 | S9: 4 | T9: 0 | U9: 1 | V9: 0 | W9: 0 | X9: 0 | Y9: 0 | Z9: 1 | AA9: 0 | AB9: 0 | AC9: 0 | AD9: 0 | AE9: 0 | AF9: 0 | AG9: 0 | AH9: =SUM(C9:AG9) -> 13 | AI9: 0 | AJ9: =AH9+AI9 -> 13 | AK9: 8 | AL9: =AJ9-AK9 -> 5 | AM9: dlm proses
B10: Izin Gangguan Ulang / HO | C10: 0 | D10: 0 | E10: 0 | F10: 0 | G10: 0 | H10: 0 | I10: 0 | J10: 0 | K10: 0 | L10: 0 | M10: 1 | N10: 0 | O10: 9 | P10: 0 | Q10: 0 | R10: 0 | S10: 0 | T10: 0 | U10: 16 | V10: 7 | W10: 0 | X10: 0 | Y10: 0 | Z10: 4 | AA10: 8 | AB10: 0 | AC10: 0 | AD10: 0 | AE10: 0 | AF10: 0 | AG10: 0 | AH10: =SUM(C10:AG10) -> 45 | AI10: 0 | AJ10: =AH10+AI10 -> 45 | AK10: 43 | AL10: =AJ10-AK10 -> 2 | AM10: dlm proses
A11: 4 | B11: Izin Penggilingan Padi Keliling | C11: 0 | D11: 0 | E11: 0 | F11: 0 | G11: 0 | H11: 0 | I11: 0 | J11: 0 | K11: 0 | L11: 0 | M11: 0 | N11: 0 | O11: 0 | P11: 0 | Q11: 0 | R11: 0 | S11: 0 | T11: 0 | U11: 0 | V11: 0 | W11: 0 | X11: 0 | Y11: 0 | Z11: 0 | AA11: 0 | AB11: 0 | AC11: 0 | AD11: 0 | AE11: 0 | AF11: 0 | AG11: 0 | AH11: =SUM(C11:AG11) -> 0 | AI11: 0 | AJ11: =AH11+AI11 -> 0 | AK11: 0 | AL11: =AJ11-AK11 -> 0
A12: 5 | B12: Izin Usaha Pengangkutan | C12: 0 | D12: 0 | E12: 0 | F12: 0 | G12: 0 | H12: 0 | I12: 0 | J12: 0 | K12: 0 | L12: 0 | M12: 0 | N12: 0 | O12: 0 | P12: 0 | Q12: 0 | R12: 0 | S12: 0 | T12: 0 | U12: 0 | V12: 0 | W12: 0 | X12: 0 | Y12: 0 | Z12: 0 | AA12: 0 | AB12: 0 | AC12: 0 | AD12: 0 | AE12: 0 | AF12: 0 | AG12: 0 | AH12: =SUM(C12:AG12) -> 0 | AI12: 0 | AJ12: =AH12+AI12 -> 0 | AK12: 0 | AL12: =AJ12-AK12 -> 0
A13: 6 | B13: Izin Trayek | C13: 0 | D13: 0 | E13: 0 | F13: 0 | G13: 0 | H13: 0 | I13: 0 | J13: 0 | K13: 0 | L13: 0 | M13: 0 | N13: 0 | O13: 0 | P13: 0 | Q13: 0 | R13: 0 | S13: 0 | T13: 0 | U13: 0 | V13: 0 | W13: 0 | X13: 0 | Y13: 0 | Z13: 0 | AA13: 0 | AB13: 0 | AC13: 0 | AD13: 0 | AE13: 0 | AF13: 0 | AG13: 0 | AH13: =SUM(C13:AG13) -> 0 | AI13: 0 | AJ13: =AH13+AI13 -> 0 | AK13: 0 | AL13: =AJ13-AK13 -> 0
A14: 7 | B14: Izin Insidentil | C14: 0 | D14: 0 | E14: 0 | F14: 0 | G14: 0 | H14: 0 | I14: 0 | J14: 0 | K14: 0 | L14: 0 | M14: 0 | N14: 0 | O14: 0 | P14: 0 | Q14: 0 | R14: 0 | S14: 0 | T14: 0 | U14: 0 | V14: 0 | W14: 0 | X14: 0 | Y14: 0 | Z14: 0 | AA14: 0 | AB14: 0 | AC14: 0 | AD14: 0 | AE14: 0 | AF14: 0 | AG14: 0 | AH14: =SUM(C14:AG14) -> 0 | AI14: 0 | AJ14: =AH14+AI14 -> 0 | AK14: 0 | AL14: =AJ14-AK14 -> 0
A15: 8 | B15: Izin Mendirikan Bangunan (IMB) | C15: 0 | D15: 0 | E15: 3 | F15: 0 | G15: 0 | H15: 0 | I15: 0 | J15: 0 | K15: 1 | L15: 0 | M15: 0 | N15: 1 | O15: 0 | P15: 0 | Q15: 0 | R15: 1 | S15: 2 | T15: 0 | U15: 2 | V15: 0 | W15: 0 | X15: 0 | Y15: 1 | Z15: 1 | AA15: 1 | AB15: 0 | AC15: 0 | AD15: 0 | AE15: 0 | AF15: 1 | AG15: 2 | AH15: =SUM(C15:AG15) -> 16 | AI15: 0 | AJ15: =AH15+AI15 -> 16 | AK15: 5 | AL15: =AJ15-AK15 -> 11 | AM15: dlm proses
A16: 9 | B16: Izin Usaha Industri (IUI) | C16: 0 | D16: 0 | E16: 0 | F16: 0 | G16: 0 | H16: 0 | I16: 0 | J16: 0 | K16: 0 | L16: 0 | M16: 0 | N16: 0 | O16: 0 | P16: 0 | Q16: 0 | R16: 0 | S16: 0 | T16: 0 | U16: 0 | V16: 0 | W16: 0 | X16: 0 | Y16: 0 | Z16: 0 | AA16: 0 | AB16: 0 | AC16: 0 | AD16: 0 | AE16: 0 | AF16: 0 | AG16: 0 | AH16: =SUM(C16:AG16) -> 0 | AI16: 0 | AJ16: =AH16+AI16 -> 0 | AK16: 0 | AL16: =AJ16-AK16 -> 0
A17: 10 | B17: Tanda Daftar Industri (TDI) | C17: 0 | D17: 0 | E17: 0 | F17: 0 | G17: 0 | H17: 0 | I17: 0 | J17: 0 | K17: 0 | L17: 1 | M17: 0 | N17: 0 | O17: 0 | P17: 0 | Q17: 0 | R17: 0 | S17: 1 | T17: 0 | U17: 0 | V17: 0 | W17: 0 | X17: 0 | Y17: 0 | Z17: 0 | AA17: 0 | AB17: 0 | AC17: 0 | AD17: 0 | AE17: 0 | AF17: 0 | AG17: 0 | AH17: =SUM(C17:AG17) -> 2 | AI17: 0 | AJ17: =AH17+AI17 -> 2 | AK17: 0 | AL17: =AJ17-AK17 -> 2 | AM17: dlm proses
A18: 11 | B18: Surat Izin Usaha Perdagangan (SIUP) | C18: 0 | D18: 0 | E18: 1 | F18: 1 | G18: 1 | H18: 5 | I18: 0 | J18: 0 | K18: 2 | L18: 1 | M18: 1 | N18: 1 | O18: 2 | P18: 0 | Q18: 0 | R18: 2 | S18: 1 | T18: 3 | U18: 0 | V18: 2 | W18: 0 | X18: 0 | Y18: 1 | Z18: 6 | AA18: 3 | AB18: 2 | AC18: 2 | AD18: 0 | AE18: 0 | AF18: 1 | AG18: 3 | AH18: =SUM(C18:AG18) -> 41 | AI18: 0 | AJ18: =AH18+AI18 -> 41 | AK18: 26 | AL18: =AJ18-AK18 -> 15 | AM18: dlm proses
B19: Surat Izin Usaha Perdagangan (SIUP) perpanjangan | C19: 0 | D19: 0 | E19: 0 | F19: 1 | G19: 1 | H19: 0 | I19: 0 | J19: 0 | K19: 0 | L19: 0 | M19: 1 | N19: 0 | O19: 3 | P19: 0 | Q19: 0 | R19: 2 | S19: 1 | T19: 0 | U19: 1 | V19: 1 | W19: 0 | X19: 0 | Y19: 0 | Z19: 0 | AA19: 1 | AB19: 0 | AC19: 2 | AD19: 0 | AE19: 0 | AF19: 2 | AG19: 0 | AH19: =SUM(C19:AG19) -> 16 | AI19: 0 | AJ19: =AH19+AI19 -> 16 | AK19: 16 | AL19: =AJ19-AK19 -> 0
A20: 12 | B20: Tanda Daftar Gudang (TDG) | C20: 0 | D20: 0 | E20: 1 | F20: 1 | G20: 0 | H20: 0 | I20: 0 | J20: 0 | K20: 0 | L20: 0 | M20: 0 | N20: 0 | O20: 0 | P20: 0 | Q20: 0 | R20: 0 | S20: 0 | T20: 0 | U20: 0 | V20: 0 | W20: 0 | X20: 0 | Y20: 2 | Z20: 0 | AA20: 0 | AB20: 0 | AC20: 0 | AD20: 0 | AE20: 0 | AF20: 0 | AG20: 0 | AH20: =SUM(C20:AG20) -> 4 | AI20: 0 | AJ20: =AH20+AI20 -> 4 | AK20: 1 | AL20: =AJ20-AK20 -> 3 | AM20: dlm proses
A21: 13 | B21: Tanda Daftar Perusahaan (TDP) | C21: 0 | D21: 0 | E21: 1 | F21: 1 | G21: 1 | H21: 4 | I21: 0 | J21: 0 | K21: 2 | L21: 1 | M21: 1 | N21: 1 | O21: 1 | P21: 0 | Q21: 0 | R21: 2 | S21: 1 | T21: 3 | U21: 0 | V21: 1 | W21: 0 | X21: 0 | Y21: 1 | Z21: 0 | AA21: 3 | AB21: 2 | AC21: 2 | AD21: 0 | AE21: 0 | AF21: 1 | AG21: 1 | AH21: =SUM(C21:AG21) -> 30 | AI21: 0 | AJ21: =AH21+AI21 -> 30 | AK21: 14 | AL21: =AJ21-AK21 -> 16 | AM21: dlm proses
B22: Tanda Daftar Perusahaan (TDP) perpanjangan | C22: 0 | D22: 0 | E22: 0 | F22: 1 | G22: 2 | H22: 0 | I22: 0 | J22: 0 | K22: 1 | L22: 0 | M22: 0 | N22: 0 | O22: 3 | P22: 0 | Q22: 0 | R22: 3 | S22: 2 | T22: 0 | U22: 1 | V22: 1 | W22: 0 | X22: 0 | Y22: 1 | Z22: 6 | AA22: 0 | AB22: 0 | AC22: 1 | AD22: 0 | AE22: 0 | AF22: 2 | AG22: 0 | AH22: =SUM(C22:AG22) -> 24 | AI22: 0 | AJ22: =AH22+AI22 -> 24 | AK22: 14 | AL22: =AJ22-AK22 -> 10 | AM22: dlm proses
A23: 14 | B23: Izin Usaha Jasa Kontruksi (IUJK) | C23: 0 | D23: 0 | E23: 0 | F23: 1 | G23: 0 | H23: 1 | I23: 0 | J23: 0 | K23: 0 | L23: 0 | M23: 1 | N23: 1 | O23: 1 | P23: 0 | Q23: 0 | R23: 0 | S23: 0 | T23: 0 | U23: 1 | V23: 0 | W23: 0 | X23: 0 | Y23: 0 | Z23: 2 | AA23: 0 | AB23: 0 | AC23: 0 | AD23: 0 | AE23: 0 | AF23: 0 | AG23: 0 | AH23: =SUM(C23:AG23) -> 8 | AI23: 0 | AJ23: =AH23+AI23 -> 8 | AK23: 0 | AL23: =AJ23-AK23 -> 8 | AM23: dlm proses
B24: Kartu Penanggungjawab Teknik Badan (KPTJBU) | C24: 0 | D24: 0 | E24: 0 | F24: 0 | G24: 0 | H24: 1 | I24: 0 | J24: 0 | K24: 0 | L24: 0 | M24: 1 | N24: 1 | O24: 1 | P24: 0 | Q24: 0 | R24: 0 | S24: 0 | T24: 0 | U24: 1 | V24: 0 | W24: 0 | X24: 0 | Y24: 0 | Z24: 1 | AA24: 0 | AB24: 0 | AC24: 0 | AD24: 0 | AE24: 0 | AF24: 0 | AG24: 0 | AH24: =SUM(C24:AG24) -> 6 | AI24: 0 | AJ24: =AH24+AI24 -> 6 | AK24: 6 | AL24: =AJ24-AK24 -> 0
A25: 15 | B25: Tanda Daftar Usaha Pariwisata | C25: 0 | D25: 0 | E25: 0 | F25: 1 | G25: 0 | H25: 0 | I25: 0 | J25: 0 | K25: 0 | L25: 0 | M25: 1 | N25: 0 | O25: 0 | P25: 0 | Q25: 0 | R25: 0 | S25: 0 | T25: 0 | U25: 0 | V25: 0 | W25: 0 | X25: 0 | Y25: 1 | Z25: 0 | AA25: 0 | AB25: 0 | AC25: 0 | AD25: 0 | AE25: 0 | AF25: 0 | AG25: 0 | AH25: =SUM(C25:AG25) -> 3 | AI25: 0 | AJ25: =AH25+AI25 -> 3 | AK25: 1 | AL25: =AJ25-AK25 -> 2 | AM25: dlm proses
A26: 16 | B26: Izin Penggunaan Gedung Juang | C26: 0 | D26: 0 | E26: 0 | F26: 0 | G26: 1 | H26: 0 | I26: 0 | J26: 0 | K26: 0 | L26: 0 | M26: 1 | N26: 0 | O26: 0 | P26: 0 | Q26: 0 | R26: 0 | S26: 0 | T26: 0 | U26: 0 | V26: 0 | W26: 0 | X26: 0 | Y26: 0 | Z26: 0 | AA26: 0 | AB26: 0 | AC26: 0 | AD26: 0 | AE26: 0 | AF26: 1 | AG26: 0 | AH26: =SUM(C26:AG26) -> 3 | AI26: 0 | AJ26: =AH26+AI26 -> 3 | AK26: 1 | AL26: =AJ26-AK26 -> 2 | AM26: dlm proses
A27: 17 | B27: Izin Penggunaan Stadion Candradimuka | C27: 0 | D27: 0 | E27: 0 | F27: 0 | G27: 0 | H27: 0 | I27: 0 | J27: 0 | K27: 0 | L27: 0 | M27: 0 | N27: 0 | O27: 0 | P27: 0 | Q27: 0 | R27: 0 | S27: 0 | T27: 0 | U27: 0 | V27: 0 | W27: 0 | X27: 0 | Y27: 0 | Z27: 0 | AA27: 0 | AB27: 0 | AC27: 0 | AD27: 0 | AE27: 0 | AF27: 0 | AG27: 0 | AH27: =SUM(C27:AG27) -> 0 | AI27: 0 | AJ27: =AH27+AI27 -> 0 | AK27: 0 | AL27: =AJ27-AK27 -> 0
A28: 18 | B28: Izin Penggunaan Alun-alun Kebumen | C28: 0 | D28: 0 | E28: 0 | F28: 0 | G28: 0 | H28: 0 | I28: 0 | J28: 0 | K28: 0 | L28: 0 | M28: 0 | N28: 0 | O28: 0 | P28: 0 | Q28: 0 | R28: 0 | S28: 0 | T28: 0 | U28: 0 | V28: 0 | W28: 0 | X28: 0 | Y28: 0 | Z28: 0 | AA28: 0 | AB28: 0 | AC28: 0 | AD28: 0 | AE28: 0 | AF28: 1 | AG28: 0 | AH28: =SUM(C28:AG28) -> 1 | AI28: 0 | AJ28: =AH28+AI28 -> 1 | AK28: 1 | AL28: =AJ28-AK28 -> 0
A29: 19 | B29: Izin Pemasangan Reklame | C29: 0 | D29: 0 | E29: 3 | F29: 1 | G29: 0 | H29: 1 | I29: 0 | J29: 0 | K29: 2 | L29: 1 | M29: 23 | N29: 2 | O29: 1 | P29: 0 | Q29: 0 | R29: 2 | S29: 4 | T29: 0 | U29: 2 | V29: 0 | W29: 0 | X29: 0 | Y29: 0 | Z29: 2 | AA29: 1 | AB29: 3 | AC29: 1 | AD29: 0 | AE29: 0 | AF29: 1 | AG29: 1 | AH29: =SUM(C29:AG29) -> 51 | AI29: 0 | AJ29: =AH29+AI29 -> 51 | AK29: 51 | AL29: =AJ29-AK29 -> 0
A30: 20 | B30: Izin Pengelolaan Sarang Burung Lawet | C30: 0 | D30: 0 | E30: 0 | F30: 0 | G30: 0 | H30: 0 | I30: 0 | J30: 0 | K30: 0 | L30: 0 | M30: 0 | N30: 0 | O30: 0 | P30: 0 | Q30: 0 | R30: 0 | S30: 0 | T30: 0 | U30: 0 | V30: 0 | W30: 0 | X30: 0 | Y30: 0 | Z30: 0 | AA30: 0 | AB30: 0 | AC30: 0 | AD30: 0 | AE30: 0 | AF30: 0 | AG30: 0 | AH30: =SUM(C30:AG30) -> 0 | AI30: 0 | AJ30: =AH30+AI30 -> 0 | AK30: 0 | AL30: =AJ30-AK30 -> 0
A31: 21 | B31: Izin Mendirikan Rumah Sakit Umum | C31: 0 | D31: 0 | E31: 0 | F31: 0 | G31: 0 | H31: 0 | I31: 0 | J31: 0 | K31: 0 | L31: 0 | M31: 0 | N31: 0 | O31: 0 | P31: 0 | Q31: 0 | R31: 0 | S31: 0 | T31: 0 | U31: 0 | V31: 0 | W31: 0 | X31: 0 | Y31: 0 | Z31: 0 | AA31: 0 | AB31: 0 | AC31: 0 | AD31: 0 | AE31: 0 | AF31: 0 | AG31: 0 | AH31: =SUM(C31:AG31) -> 0 | AI31: 0 | AJ31: =AH31+AI31 -> 0 | AK31: 0 | AL31: =AJ31-AK31 -> 0
A32: 22 | B32: Izin Mendirikan Rumah Sakit Khusus | C32: 0 | D32: 0 | E32: 0 | F32: 0 | G32: 0 | H32: 0 | I32: 0 | J32: 0 | K32: 0 | L32: 0 | M32: 0 | N32: 0 | O32: 0 | P32: 0 | Q32: 0 | R32: 0 | S32: 0 | T32: 0 | U32: 0 | V32: 0 | W32: 0 | X32: 0 | Y32: 0 | Z32: 0 | AA32: 0 | AB32: 0 | AC32: 0 | AD32: 0 | AE32: 0 | AF32: 0 | AG32: 0 | AH32: =SUM(C32:AG32) -> 0 | AI32: 0 | AJ32: =AH32+AI32 -> 0 | AK32: 0 | AL32: =AJ32-AK32 -> 0
A33: 23 | B33: Izin Klinik Pratama | C33: 0 | D33: 0 | E33: 0 | F33: 0 | G33: 0 | H33: 0 | I33: 0 | J33: 0 | K33: 0 | L33: 0 | M33: 0 | N33: 0 | O33: 0 | P33: 0 | Q33: 0 | R33: 0 | S33: 0 | T33: 0 | U33: 0 | V33: 0 | W33: 0 | X33: 0 | Y33: 0 | Z33: 0 | AA33: 0 | AB33: 0 | AC33: 0 | AD33: 0 | AE33: 0 | AF33: 0 | AG33: 0 | AH33: =SUM(C33:AG33) -> 0 | AI33: 0 | AJ33: =AH33+AI33 -> 0 | AK33: 0 | AL33: =AJ33-AK33 -> 0
A34: 24 | B34: Izin Klinik Utama | C34: 0 | D34: 0 | E34: 0 | F34: 0 | G34: 0 | H34: 0 | I34: 0 | J34: 0 | K34: 0 | L34: 0 | M34: 0 | N34: 0 | O34: 0 | P34: 0 | Q34: 0 | R34: 0 | S34: 0 | T34: 0 | U34: 0 | V34: 0 | W34: 0 | X34: 0 | Y34: 0 | Z34: 0 | AA34: 0 | AB34: 0 | AC34: 0 | AD34: 0 | AE34: 0 | AF34: 0 | AG34: 0 | AH34: =SUM(C34:AG34) -> 0 | AI34: 0 | AJ34: =AH34+AI34 -> 0 | AK34: 0 | AL34: =AJ34-AK34 -> 0
A35: 25 | B35: Izin Laboratorium Klinik Pratama | C35: 0 | D35: 0 | E35: 0 | F35: 0 | G35: 0 | H35: 0 | I35: 0 | J35: 0 | K35: 0 | L35: 0 | M35: 0 | N35: 0 | O35: 0 | P35: 0 | Q35: 0 | R35: 0 | S35: 0 | T35: 0 | U35: 0 | V35: 0 | W35: 0 | X35: 0 | Y35: 0 | Z35: 0 | AA35: 0 | AB35: 0 | AC35: 0 | AD35: 0 | AE35: 0 | AF35: 0 | AG35: 0 | AH35: =SUM(C35:AG35) -> 0 | AI35: 0 | AJ35: =AH35+AI35 -> 0 | AK35: 0 | AL35: =AJ35-AK35 -> 0
A36: 26 | B36: Izin Laboratorium Klinik Utama | C36: 0 | D36: 0 | E36: 0 | F36: 0 | G36: 0 | H36: 0 | I36: 0 | J36: 0 | K36: 0 | L36: 0 | M36: 0 | N36: 0 | O36: 0 | P36: 0 | Q36: 0 | R36: 0 | S36: 0 | T36: 0 | U36: 0 | V36: 0 | W36: 0 | X36: 0 | Y36: 0 | Z36: 0 | AA36: 0 | AB36: 0 | AC36: 0 | AD36: 0 | AE36: 0 | AF36: 0 | AG36: 0 | AH36: =SUM(C36:AG36) -> 0 | AI36: 0 | AJ36: =AH36+AI36 -> 0 | AK36: 0 | AL36: =AJ36-AK36 -> 0
A37: 27 | B37: Izin Apotik | C37: 0 | D37: 0 | E37: 0 | F37: 0 | G37: 0 | H37: 1 | I37: 0 | J37: 0 | K37: 0 | L37: 0 | M37: 0 | N37: 0 | O37: 1 | P37: 0 | Q37: 0 | R37: 0 | S37: 0 | T37: 0 | U37: 0 | V37: 0 | W37: 0 | X37: 0 | Y37: 0 | Z37: 0 | AA37: 0 | AB37: 1 | AC37: 0 | AD37: 0 | AE37: 0 | AF37: 1 | AG37: 0 | AH37: =SUM(C37:AG37) -> 4 | AI37: 0 | AJ37: =AH37+AI37 -> 4 | AK37: 3 | AL37: =AJ37-AK37 -> 1 | AM37: dlm proses
A38: 28 | B38: Izin Toko Obat | C38: 0 | D38: 0 | E38: 0 | F38: 0 | G38: 0 | H38: 0 | I38: 0 | J38: 0 | K38: 0 | L38: 0 | M38: 0 | N38: 0 | O38: 0 | P38: 0 | Q38: 0 | R38: 0 | S38: 0 | T38: 0 | U38: 0 | V38: 0 | W38: 0 | X38: 0 | Y38: 0 | Z38: 0 | AA38: 0 | AB38: 0 | AC38: 0 | AD38: 0 | AE38: 0 | AF38: 0 | AG38: 0 | AH38: =SUM(C38:AG38) -> 0 | AI38: 0 | AJ38: =AH38+AI38 -> 0 | AK38: 0 | AL38: =AJ38-AK38 -> 0
A39: 29 | B39: Izin optik | C39: 0 | D39: 0 | E39: 0 | F39: 0 | G39: 0 | H39: 0 | I39: 0 | J39: 0 | K39: 0 | L39: 0 | M39: 0 | N39: 0 | O39: 0 | P39: 0 | Q39: 0 | R39: 0 | S39: 0 | T39: 0 | U39: 0 | V39: 0 | W39: 0 | X39: 0 | Y39: 0 | Z39: 0 | AA39: 0 | AB39: 0 | AC39: 0 | AD39: 0 | AE39: 0 | AF39: 0 | AG39: 0 | AH39: =SUM(C39:AG39) -> 0 | AI39: 0 | AJ39: =AH39+AI39 -> 0 | AK39: 0 | AL39: =AJ39-AK39 -> 0
A40: 30 | B40: Izin Industri Rumah Tangga Makanan Minuman (PIRT) | C40: 0 | D40: 0 | E40: 1 | F40: 3 | G40: 0 | H40: 1 | I40: 0 | J40: 0 | K40: 0 | L40: 1 | M40: 0 | N40: 0 | O40: 1 | P40: 0 | Q40: 0 | R40: 1 | S40: 1 | T40: 1 | U40: 1 | V40: 0 | W40: 0 | X40: 0 | Y40: 1 | Z40: 1 | AA40: 0 | AB40: 3 | AC40: 0 | AD40: 0 | AE40: 0 | AF40: 0 | AG40: 1 | AH40: =SUM(C40:AG40) -> 17 | AI40: 0 | AJ40: =AH40+AI40 -> 17 | AK40: 6 | AL40: =AJ40-AK40 -> 11 | AM40: dlm proses
A41: 31 | B41: Tanda Daftar Depot Air Minum | C41: 0 | D41: 0 | E41: 1 | F41: 0 | G41: 0 | H41: 0 | I41: 0 | J41: 0 | K41: 0 | L41: 0 | M41: 0 | N41: 0 | O41: 0 | P41: 0 | Q41: 0 | R41: 0 | S41: 0 | T41: 0 | U41: 0 | V41: 0 | W41: 0 | X41: 0 | Y41: 0 | Z41: 0 | AA41: 1 | AB41: 0 | AC41: 0 | AD41: 0 | AE41: 0 | AF41: 0 | AG41: 0 | AH41: =SUM(C41:AG41) -> 2 | AI41: 0 | AJ41: =AH41+AI41 -> 2 | AK41: 1 | AL41: =AJ41-AK41 -> 1 | AM41: dlm proses
...

Sheet Februari
A1: LAPORAN BERKAS IZIN MASUK DAN TERPROSES DINAS PENANAMAN MODAL DAN PELAYANAN TERPADU SATU PINTU
A2: KABUPATEN KEBUMEN
A3: Bulan Februari 2017
A5: NO | B5: JENIS IZIN | C5: TANGGAL | AE5: PEMOHON BLN INI | AF5: PEMOHON BULAN LALU | AG5: TOTAL PERMOHONAN | AH5: TERPROSES BULAN LALU | AI5: DALAM PROSES BULAN LALU | AJ5: TERPROSES BLN INI (SK) | AK5: TOTAL TERPROSES | AL5: IZIN BELUM JADI | AM5: KETERANGAN
C6: 1 | D6: 2 | E6: 3 | F6: 4 | G6: 5 | H6: 6 | I6: 7 | J6: 8 | K6: 9 | L6: 10 | M6: 11 | N6: 12 | O6: 13 | P6: 14 | Q6: 15 | R6: 16 | S6: 17 | T6: 18 | U6: 19 | V6: 20 | W6: 21 | X6: 22 | Y6: 23 | Z6: 24 | AA6: 25 | AB6: 26 | AC6: 27 | AD6: 28
A7: 1 | B7: Izin Prinsip | C7: 0 | D7: 1 | E7: 0 | F7: 0 | G7: 0 | H7: 0 | I7: 0 | J7: 0 | K7: 0 | L7: 0 | M7: 0 | N7: 0 | O7: 2 | P7: 1 | Q7: 0 | R7: 4 | S7: 0 | T7: 0 | U7: 0 | V7: 2 | W7: 6 | X7: 0 | Y7: 2 | Z7: 1 | AA7: 0 | AB7: 0 | AC7: 3 | AD7: 0 | AE7: =SUM(C7:AD7) -> 22 | AF7: =Januari!AJ7 -> 5 | AG7: =AE7+AF7 -> 27 | AH7: =Januari!AK7 -> 1 | AI7: =Januari!AL7 -> 4 | AJ7: 5 | AK7: =AH7+AJ7 -> 6 | AL7: =AG7-AK7 -> 21 | AM7: dalam proses
A8: 2 | B8: Izin Lokasi/Izin perencanaan letak penggunaan tanah/ penetapan lokasi | C8: 0 | D8: 0 | E8: 0 | F8: 0 | G8: 0 | H8: 0 | I8: 0 | J8: 0 | K8: 0 | L8: 0 | M8: 0 | N8: 0 | O8: 2 | P8: 0 | Q8: 0 | R8: 0 | S8: 0 | T8: 0 | U8: 0 | V8: 1 | W8: 0 | X8: 0 | Y8: 1 | Z8: 0 | AA8: 0 | AB8: 0 | AC8: 0 | AD8: 0 | AE8: =SUM(C8:AD8) -> 4 | AF8: =Januari!AJ8 -> 4 | AG8: =AE8+AF8 -> 8 | AH8: =Januari!AK8 -> 1 | AI8: =Januari!AL8 -> 3 | AJ8: 2 | AK8: =AH8+AJ8 -> 3 | AL8: =AG8-AK8 -> 5 | AM8: dalam proses
A9: 3 | B9: Izin Gangguan/HO | C9: 1 | D9: 0 | E9: 0 | F9: 0 | G9: 0 | H9: 0 | I9: 1 | J9: 1 | K9: 1 | L9: 0 | M9: 0 | N9: 0 | O9: 1 | P9: 0 | Q9: 0 | R9: 1 | S9: 0 | T9: 0 | U9: 0 | V9: 1 | W9: 0 | X9: 0 | Y9: 1 | Z9: 0 | AA9: 0 | AB9: 0 | AC9: 1 | AD9: 2 | AE9: =SUM(C9:AD9) -> 11 | AF9: =Januari!AJ9 -> 13 | AG9: =AE9+AF9 -> 24 | AH9: =Januari!AK9 -> 8 | AI9: =Januari!AL9 -> 5 | AJ9: 4 | AK9: =AH9+AJ9 -> 12 | AL9: =AG9-AK9 -> 12 | AM9: dalam proses
B10: Izin Gangguan Ulang / HO | C10: 1 | D10: 1 | E10: 0 | F10: 0 | G10: 0 | H10: 0 | I10: 0 | J10: 0 | K10: 0 | L10: 0 | M10: 0 | N10: 0 | O10: 0 | P10: 1 | Q10: 0 | R10: 0 | S10: 0 | T10: 0 | U10: 0 | V10: 1 | W10: 1 | X10: 0 | Y10: 0 | Z10: 1 | AA10: 0 | AB10: 0 | AC10: 0 | AD10: 0 | AE10: =SUM(C10:AD10) -> 6 | AF10: =Januari!AJ10 -> 45 | AG10: =AE10+AF10 -> 51 | AH10: =Januari!AK10 -> 43 | AI10: =Januari!AL10 -> 2 | AJ10: 5 | AK10: =AH10+AJ10 -> 48 | AL10: =AG10-AK10 -> 3 | AM10: dalam proses
A11: 4 | B11: Izin Penggilingan Padi Keliling | C11: 0 | D11: 0 | E11: 0 | F11: 0 | G11: 0 | H11: 0 | I11: 0 | J11: 0 | K11: 0 | L11: 0 | M11: 0 | N11: 0 | O11: 0 | P11: 0 | Q11: 0 | R11: 0 | S11: 0 | T11: 0 | U11: 0 | V11: 0 | W11: 0 | X11: 0 | Y11: 0 | Z11: 0 | AA11: 0 | AB11: 0 | AC11: 0 | AD11: 0 | AE11: =SUM(C11:AD11) -> 0 | AF11: =Januari!AJ11 -> 0 | AG11: =AE11+AF11 -> 0 | AH11: =Januari!AK11 -> 0 | AI11: =Januari!AL11 -> 0 | AJ11: 0 | AK11: =AH11+AJ11 -> 0
A12: 5 | B12: Izin Usaha Pengangkutan | C12: 0 | D12: 0 | E12: 0 | F12: 0 | G12: 0 | H12: 0 | I12: 0 | J12: 0 | K12: 0 | L12: 0 | M12: 0 | N12: 0 | O12: 0 | P12: 0 | Q12: 0 | R12: 0 | S12: 0 | T12: 0 | U12: 0 | V12: 0 | W12: 0 | X12: 0 | Y12: 0 | Z12: 0 | AA12: 0 | AB12: 0 | AC12: 0 | AD12: 0 | AE12: =SUM(C12:AD12) -> 0 | AF12: =Januari!AJ12 -> 0 | AG12: =AE12+AF12 -> 0 | AH12: =Januari!AK12 -> 0 | AI12: =Januari!AL12 -> 0 | AJ12: 0 | AK12: =AH12+AJ12 -> 0
A13: 6 | B13: Izin Trayek | C13: 0 | D13: 0 | E13: 0 | F13: 0 | G13: 0 | H13: 0 | I13: 0 | J13: 0 | K13: 0 | L13: 0 | M13: 0 | N13: 0 | O13: 0 | P13: 0 | Q13: 0 | R13: 0 | S13: 0 | T13: 0 | U13: 0 | V13: 0 | W13: 0 | X13: 0 | Y13: 0 | Z13: 0 | AA13: 0 | AB13: 0 | AC13: 0 | AD13: 0 | AE13: =SUM(C13:AD13) -> 0 | AF13: =Januari!AJ13 -> 0 | AG13: =AE13+AF13 -> 0 | AH13: =Januari!AK13 -> 0 | AI13: =Januari!AL13 -> 0 | AJ13: 0 | AK13: =AH13+AJ13 -> 0
A14: 7 | B14: Izin Insidentil | C14: 0 | D14: 0 | E14: 0 | F14: 0 | G14: 0 | H14: 0 | I14: 0 | J14: 0 | K14: 0 | L14: 0 | M14: 0 | N14: 0 | O14: 0 | P14: 0 | Q14: 0 | R14: 0 | S14: 0 | T14: 0 | U14: 0 | V14: 0 | W14: 0 | X14: 0 | Y14: 0 | Z14: 0 | AA14: 0 | AB14: 0 | AC14: 0 | AD14: 0 | AE14: =SUM(C14:AD14) -> 0 | AF14: =Januari!AJ14 -> 0 | AG14: =AE14+AF14 -> 0 | AH14: =Januari!AK14 -> 0 | AI14: =Januari!AL14 -> 0 | AJ14: 0 | AK14: =AH14+AJ14 -> 0
A15: 8 | B15: Izin Mendirikan Bangunan (IMB) | C15: 2 | D15: 0 | E15: 1 | F15: 0 | G15: 0 | H15: 0 | I15: 0 | J15: 0 | K15: 0 | L15: 1 | M15: 0 | N15: 0 | O15: 3 | P15: 1 | Q15: 0 | R15: 1 | S15: 0 | T15: 0 | U15: 0 | V15: 1 | W15: 0 | X15: 2 | Y15: 0 | Z15: 0 | AA15: 0 | AB15: 0 | AC15: 0 | AD15: 0 | AE15: =SUM(C15:AD15) -> 12 | AF15: =Januari!AJ15 -> 16 | AG15: =AE15+AF15 -> 28 | AH15: =Januari!AK15 -> 5 | AI15: =Januari!AL15 -> 11 | AJ15: 11 | AK15: =AH15+AJ15 -> 16 | AL15: =AG15-AK15 -> 12 | AM15: dalam proses
A16: 9 | B16: Izin Usaha Industri (IUI) | C16: 0 | D16: 0 | E16: 0 | F16: 0 | G16: 0 | H16: 0 | I16: 0 | J16: 0 | K16: 0 | L16: 0 | M16: 0 | N16: 0 | O16: 0 | P16: 0 | Q16: 0 | R16: 0 | S16: 0 | T16: 0 | U16: 0 | V16: 0 | W16: 0 | X16: 0 | Y16: 0 | Z16: 0 | AA16: 0 | AB16: 0 | AC16: 0 | AD16: 0 | AE16: =SUM(C16:AD16) -> 0 | AF16: =Januari!AJ16 -> 0 | AG16: =AE16+AF16 -> 0 | AH16: =Januari!AK16 -> 0 | AI16: =Januari!AL16 -> 0 | AJ16: 0 | AK16: =AH16+AJ16 -> 0
A17: 10 | B17: Tanda Daftar Industri (TDI) | C17: 0 | D17: 0 | E17: 0 | F17: 0 | G17: 0 | H17: 0 | I17: 0 | J17: 0 | K17: 0 | L17: 0 | M17: 0 | N17: 0 | O17: 0 | P17: 0 | Q17: 0 | R17: 1 | S17: 0 | T17: 0 | U17: 0 | V17: 0 | W17: 1 | X17: 0 | Y17: 0 | Z17: 0 | AA17: 0 | AB17: 0 | AC17: 1 | AD17: 0 | AE17: =SUM(C17:AD17) -> 3 | AF17: =Januari!AJ17 -> 2 | AG17: =AE17+AF17 -> 5 | AH17: =Januari!AK17 -> 0 | AI17: =Januari!AL17 -> 2 | AJ17: 2 | AK17: =AH17+AJ17 -> 2 | AL17: =AG17-AK17 -> 3 | AM17: dalam proses
A18: 11 | B18: Surat Izin Usaha Perdagangan (SIUP) | C18: 2 | D18: 1 | E18: 0 | F18: 0 | G18: 0 | H18: 0 | I18: 1 | J18: 2 | K18: 2 | L18: 0 | M18: 0 | N18: 0 | O18: 4 | P18: 3 | Q18: 0 | R18: 4 | S18: 0 | T18: 0 | U18: 0 | V18: 2 | W18: 3 | X18: 2 | Y18: 1 | Z18: 1 | AA18: 0 | AB18: 0 | AC18: 4 | AD18: 0 | AE18: =SUM(C18:AD18) -> 32 | AF18: =Januari!AJ18 -> 41 | AG18: =AE18+AF18 -> 73 | AH18: =Januari!AK18 -> 26 | AI18: =Januari!AL18 -> 15 | AJ18: 28 | AK18: =AH18+AJ18 -> 54 | AL18: =AG18-AK18 -> 19 | AM18: dalam proses
B19: Surat Izin Usaha Perdagangan (SIUP) perpanjangan | C19: 2 | D19: 0 | E19: 0 | F19: 0 | G19: 0 | H19: 1 | I19: 0 | J19: 4 | K19: 1 | L19: 1 | M19: 0 | N19: 0 | O19: 1 | P19: 4 | Q19: 0 | R19: 0 | S19: 0 | T19: 0 | U19: 0 | V19: 0 | W19: 1 | X19: 0 | Y19: 0 | Z19: 2 | AA19: 0 | AB19: 0 | AC19: 0 | AD19: 0 | AE19: =SUM(C19:AD19) -> 17 | AF19: =Januari!AJ19 -> 16 | AG19: =AE19+AF19 -> 33 | AH19: =Januari!AK19 -> 16 | AI19: =Januari!AL19 -> 0 | AJ19: 17 | AK19: =AH19+AJ19 -> 33
A20: 12 | B20: Tanda Daftar Gudang (TDG) | C20: 0 | D20: 0 | E20: 0 | F20: 0 | G20: 0 | H20: 0 | I20: 0 | J20: 0 | K20: 0 | L20: 0 | M20: 0 | N20: 0 | O20: 0 | P20: 1 | Q20: 0 | R20: 0 | S20: 1 | T20: 0 | U20: 0 | V20: 0 | W20: 0 | X20: 0 | Y20: 0 | Z20: 0 | AA20: 0 | AB20: 0 | AC20: 0 | AD20: 0 | AE20: =SUM(C20:AD20) -> 2 | AF20: =Januari!AJ20 -> 4 | AG20: =AE20+AF20 -> 6 | AH20: =Januari!AK20 -> 1 | AI20: =Januari!AL20 -> 3 | AJ20: 2 | AK20: =AH20+AJ20 -> 3 | AL20: =AG20-AK20 -> 3 | AM20: dalam proses
A21: 13 | B21: Tanda Daftar Perusahaan (TDP) | C21: 3 | D21: 0 | E21: 0 | F21: 0 | G21: 0 | H21: 0 | I21: 1 | J21: 1 | K21: 2 | L21: 0 | M21: 0 | N21: 0 | O21: 4 | P21: 3 | Q21: 0 | R21: 4 | S21: 0 | T21: 0 | U21: 0 | V21: 2 | W21: 3 | X21: 2 | Y21: 1 | Z21: 1 | AA21: 0 | AB21: 0 | AC21: 4 | AD21: 0 | AE21: =SUM(C21:AD21) -> 31 | AF21: =Januari!AJ21 -> 30 | AG21: =AE21+AF21 -> 61 | AH21: =Januari!AK21 -> 14 | AI21: =Januari!AL21 -> 16 | AJ21: 26 | AK21: =AH21+AJ21 -> 40 | AL21: =AG21-AK21 -> 21 | AM21: dalam proses
B22: Tanda Daftar Perusahaan (TDP) perpanjangan | C22: 2 | D22: 0 | E22: 0 | F22: 0 | G22: 0 | H22: 1 | I22: 1 | J22: 6 | K22: 1 | L22: 0 | M22: 0 | N22: 0 | O22: 1 | P22: 4 | Q22: 0 | R22: 0 | S22: 0 | T22: 0 | U22: 0 | V22: 3 | W22: 3 | X22: 0 | Y22: 0 | Z22: 2 | AA22: 0 | AB22: 0 | AC22: 0 | AD22: 1 | AE22: =SUM(C22:AD22) -> 25 | AF22: =Januari!AJ22 -> 24 | AG22: =AE22+AF22 -> 49 | AH22: =Januari!AK22 -> 14 | AI22: =Januari!AL22 -> 10 | AJ22: 20 | AK22: =AH22+AJ22 -> 34 | AL22: =AG22-AK22 -> 15 | AM22: dalam proses
A23: 14 | B23: Izin Usaha Jasa Kontruksi (IUJK) | C23: 0 | D23: 1 | E23: 0 | F23: 0 | G23: 0 | H23: 0 | I23: 0 | J23: 0 | K23: 0 | L23: 0 | M23: 0 | N23: 0 | O23: 2 | P23: 0 | Q23: 0 | R23: 1 | S23: 0 | T23: 0 | U23: 0 | V23: 0 | W23: 0 | X23: 1 | Y23: 0 | Z23: 0 | AA23: 0 | AB23: 0 | AC23: 2 | AD23: 1 | AE23: =SUM(C23:AD23) -> 8 | AF23: =Januari!AJ23 -> 8 | AG23: =AE23+AF23 -> 16 | AH23: =Januari!AK23 -> 0 | AI23: =Januari!AL23 -> 8 | AJ23: 10 | AK23: =AH23+AJ23 -> 10 | AL23: =AG23-AK23 -> 6 | AM23: dalam proses
B24: Kartu Penanggungjawab Teknik Badan (KPTJBU) | C24: 0 | D24: 1 | E24: 0 | F24: 0 | G24: 0 | H24: 2 | I24: 0 | J24: 0 | K24: 0 | L24: 0 | M24: 0 | N24: 0 | O24: 1 | P24: 0 | Q24: 0 | R24: 0 | S24: 0 | T24: 0 | U24: 0 | V24: 0 | W24: 0 | X24: 1 | Y24: 0 | Z24: 0 | AA24: 0 | AB24: 0 | AC24: 2 | AD24: 1 | AE24: =SUM(C24:AD24) -> 8 | AF24: =Januari!AJ24 -> 6 | AG24: =AE24+AF24 -> 14 | AH24: =Januari!AK24 -> 6 | AI24: =Januari!AL24 -> 0 | AJ24: 8 | AK24: =AH24+AJ24 -> 14
A25: 15 | B25: Tanda Daftar Usaha Pariwisata | C25: 0 | D25: 0 | E25: 0 | F25: 0 | G25: 0 | H25: 0 | I25: 0 | J25: 0 | K25: 0 | L25: 0 | M25: 0 | N25: 0 | O25: 0 | P25: 0 | Q25: 0 | R25: 0 | S25: 0 | T25: 0 | U25: 0 | V25: 0 | W25: 0 | X25: 0 | Y25: 0 | Z25: 0 | AA25: 0 | AB25: 0 | AC25: 0 | AD25: 0 | AE25: =SUM(C25:AD25) -> 0 | AF25: =Januari!AJ25 -> 3 | AG25: =AE25+AF25 -> 3 | AH25: =Januari!AK25 -> 1 | AI25: =Januari!AL25 -> 2 | AJ25: 1 | AK25: =AH25+AJ25 -> 2 | AL25: =AG25-AK25 -> 1 | AM25: dalam proses
A26: 16 | B26: Izin Penggunaan Gedung Juang | C26: 0 | D26: 0 | E26: 0 | F26: 0 | G26: 0 | H26: 1 | I26: 0 | J26: 0 | K26: 0 | L26: 0 | M26: 0 | N26: 0 | O26: 1 | P26: 0 | Q26: 0 | R26: 0 | S26: 0 | T26: 0 | U26: 0 | V26: 0 | W26: 0 | X26: 0 | Y26: 1 | Z26: 0 | AA26: 0 | AB26: 0 | AC26: 1 | AD26: 0 | AE26: =SUM(C26:AD26) -> 4 | AF26: =Januari!AJ26 -> 3 | AG26: =AE26+AF26 -> 7 | AH26: =Januari!AK26 -> 1 | AI26: =Januari!AL26 -> 2 | AJ26: 1 | AK26: =AH26+AJ26 -> 2 | AL26: =AG26-AK26 -> 5 | AM26: dalam proses
A27: 17 | B27: Izin Penggunaan Stadion Candradimuka | C27: 0 | D27: 0 | E27: 0 | F27: 0 | G27: 0 | H27: 0 | I27: 0 | J27: 0 | K27: 0 | L27: 0 | M27: 0 | N27: 0 | O27: 0 | P27: 0 | Q27: 0 | R27: 0 | S27: 0 | T27: 0 | U27: 0 | V27: 0 | W27: 0 | X27: 0 | Y27: 0 | Z27: 0 | AA27: 0 | AB27: 0 | AC27: 0 | AD27: 0 | AE27: =SUM(C27:AD27) -> 0 | AF27: =Januari!AJ27 -> 0 | AG27: =AE27+AF27 -> 0 | AH27: =Januari!AK27 -> 0 | AI27: =Januari!AL27 -> 0 | AJ27: 0 | AK27: =AH27+AJ27 -> 0
A28: 18 | B28: Izin Penggunaan Alun-alun Kebumen | C28: 0 | D28: 0 | E28: 0 | F28: 0 | G28: 0 | H28: 0 | I28: 0 | J28: 0 | K28: 0 | L28: 3 | M28: 0 | N28: 0 | O28: 0 | P28: 0 | Q28: 0 | R28: 0 | S28: 0 | T28: 0 | U28: 0 | V28: 0 | W28: 1 | X28: 0 | Y28: 0 | Z28: 0 | AA28: 0 | AB28: 0 | AC28: 0 | AD28: 0 | AE28: =SUM(C28:AD28) -> 4 | AF28: =Januari!AJ28 -> 1 | AG28: =AE28+AF28 -> 5 | AH28: =Januari!AK28 -> 1 | AI28: =Januari!AL28 -> 0 | AJ28: 2 | AK28: =AH28+AJ28 -> 3 | AL28: =AG28-AK28 -> 2 | AM28: dalam proses
A29: 19 | B29: Izin Pemasangan Reklame | C29: 1 | D29: 2 | E29: 0 | F29: 0 | G29: 0 | H29: 3 | I29: 1 | J29: 1 | K29: 2 | L29: 2 | M29: 0 | N29: 0 | O29: 4 | P29: 3 | Q29: 0 | R29: 1 | S29: 2 | T29: 0 | U29: 0 | V29: 1 | W29: 1 | X29: 1 | Y29: 2 | Z29: 1 | AA29: 0 | AB29: 0 | AC29: 3 | AD29: 0 | AE29: =SUM(C29:AD29) -> 31 | AF29: =Januari!AJ29 -> 51 | AG29: =AE29+AF29 -> 82 | AH29: =Januari!AK29 -> 51 | AI29: =Januari!AL29 -> 0 | AJ29: 31 | AK29: =AH29+AJ29 -> 82
A30: 20 | B30: Izin Pengelolaan Sarang Burung Lawet | C30: 0 | D30: 0 | E30: 0 | F30: 0 | G30: 0 | H30: 0 | I30: 0 | J30: 0 | K30: 0 | L30: 0 | M30: 0 | N30: 0 | O30: 0 | P30: 0 | Q30: 0 | R30: 0 | S30: 0 | T30: 0 | U30: 0 | V30: 0 | W30: 0 | X30: 0 | Y30: 0 | Z30: 0 | AA30: 0 | AB30: 0 | AC30: 0 | AD30: 0 | AE30: =SUM(C30:AD30) -> 0 | AF30: =Januari!AJ30 -> 0 | AG30: =AE30+AF30 -> 0 | AH30: =Januari!AK30 -> 0 | AI30: =Januari!AL30 -> 0 | AJ30: 0 | AK30: =AH30+AJ30 -> 0
A31: 21 | B31: Izin Mendirikan Rumah Sakit Umum | C31: 0 | D31: 0 | E31: 0 | F31: 0 | G31: 0 | H31: 0 | I31: 0 | J31: 0 | K31: 0 | L31: 0 | M31: 0 | N31: 0 | O31: 0 | P31: 0 | Q31: 0 | R31: 0 | S31: 0 | T31: 0 | U31: 0 | V31: 0 | W31: 0 | X31: 0 | Y31: 0 | Z31: 0 | AA31: 0 | AB31: 0 | AC31: 0 | AD31: 0 | AE31: =SUM(C31:AD31) -> 0 | AF31: =Januari!AJ31 -> 0 | AG31: =AE31+AF31 -> 0 | AH31: =Januari!AK31 -> 0 | AI31: =Januari!AL31 -> 0 | AJ31: 0 | AK31: =AH31+AJ31 -> 0
A32: 22 | B32: Izin Mendirikan Rumah Sakit Khusus | C32: 0 | D32: 0 | E32: 0 | F32: 0 | G32: 0 | H32: 0 | I32: 0 | J32: 0 | K32: 0 | L32: 0 | M32: 0 | N32: 0 | O32: 0 | P32: 0 | Q32: 0 | R32: 0 | S32: 0 | T32: 0 | U32: 0 | V32: 0 | W32: 0 | X32: 0 | Y32: 0 | Z32: 0 | AA32: 0 | AB32: 0 | AC32: 0 | AD32: 0 | AE32: =SUM(C32:AD32) -> 0 | AF32: =Januari!AJ32 -> 0 | AG32: =AE32+AF32 -> 0 | AH32: =Januari!AK32 -> 0 | AI32: =Januari!AL32 -> 0 | AJ32: 0 | AK32: =AH32+AJ32 -> 0
A33: 23 | B33: Izin Klinik Pratama | C33: 0 | D33: 0 | E33: 0 | F33: 0 | G33: 0 | H33: 0 | I33: 0 | J33: 0 | K33: 0 | L33: 0 | M33: 0 | N33: 0 | O33: 0 | P33: 0 | Q33: 0 | R33: 0 | S33: 0 | T33: 0 | U33: 0 | V33: 0 | W33: 0 | X33: 0 | Y33: 0 | Z33: 0 | AA33: 0 | AB33: 0 | AC33: 0 | AD33: 0 | AE33: =SUM(C33:AD33) -> 0 | AF33: =Januari!AJ33 -> 0 | AG33: =AE33+AF33 -> 0 | AH33: =Januari!AK33 -> 0 | AI33: =Januari!AL33 -> 0 | AJ33: 0 | AK33: =AH33+AJ33 -> 0
A34: 24 | B34: Izin Klinik Utama | C34: 0 | D34: 0 | E34: 0 | F34: 0 | G34: 0 | H34: 0 | I34: 0 | J34: 0 | K34: 0 | L34: 0 | M34: 0 | N34: 0 | O34: 0 | P34: 0 | Q34: 0 | R34: 0 | S34: 0 | T34: 0 | U34: 0 | V34: 0 | W34: 0 | X34: 0 | Y34: 0 | Z34: 0 | AA34: 0 | AB34: 0 | AC34: 0 | AD34: 0 | AE34: =SUM(C34:AD34) -> 0 | AF34: =Januari!AJ34 -> 0 | AG34: =AE34+AF34 -> 0 | AH34: =Januari!AK34 -> 0 | AI34: =Januari!AL34 -> 0 | AJ34: 0 | AK34: =AH34+AJ34 -> 0
A35: 25 | B35: Izin Laboratorium Klinik Pratama | C35: 0 | D35: 0 | E35: 0 | F35: 0 | G35: 0 | H35: 0 | I35: 0 | J35: 0 | K35: 0 | L35: 0 | M35: 0 | N35: 0 | O35: 0 | P35: 0 | Q35: 0 | R35: 0 | S35: 0 | T35: 0 | U35: 0 | V35: 0 | W35: 0 | X35: 0 | Y35: 0 | Z35: 0 | AA35: 0 | AB35: 0 | AC35: 0 | AD35: 0 | AE35: =SUM(C35:AD35) -> 0 | AF35: =Januari!AJ35 -> 0 | AG35: =AE35+AF35 -> 0 | AH35: =Januari!AK35 -> 0 | AI35: =Januari!AL35 -> 0 | AJ35: 0 | AK35: =AH35+AJ35 -> 0
A36: 26 | B36: Izin Laboratorium Klinik Utama | C36: 0 | D36: 0 | E36: 0 | F36: 0 | G36: 0 | H36: 0 | I36: 0 | J36: 0 | K36: 0 | L36: 0 | M36: 0 | N36: 0 | O36: 0 | P36: 0 | Q36: 0 | R36: 0 | S36: 0 | T36: 0 | U36: 0 | V36: 0 | W36: 0 | X36: 0 | Y36: 0 | Z36: 0 | AA36: 0 | AB36: 0 | AC36: 0 | AD36: 0 | AE36: =SUM(C36:AD36) -> 0 | AF36: =Januari!AJ36 -> 0 | AG36: =AE36+AF36 -> 0 | AH36: =Januari!AK36 -> 0 | AI36: =Januari!AL36 -> 0 | AJ36: 0 | AK36: =AH36+AJ36 -> 0
A37: 27 | B37: Izin Apotik | C37: 0 | D37: 0 | E37: 0 | F37: 0 | G37: 0 | H37: 0 | I37: 0 | J37: 0 | K37: 0 | L37: 0 | M37: 0 | N37: 0 | O37: 0 | P37: 0 | Q37: 0 | R37: 0 | S37: 0 | T37: 0 | U37: 0 | V37: 0 | W37: 0 | X37: 0 | Y37: 0 | Z37: 0 | AA37: 0 | AB37: 0 | AC37: 0 | AD37: 0 | AE37: =SUM(C37:AD37) -> 0 | AF37: =Januari!AJ37 -> 4 | AG37: =AE37+AF37 -> 4 | AH37: =Januari!AK37 -> 3 | AI37: =Januari!AL37 -> 1 | AJ37: 1 | AK37: =AH37+AJ37 -> 4
A38: 28 | B38: Izin Toko Obat | C38: 0 | D38: 0 | E38: 0 | F38: 0 | G38: 0 | H38: 0 | I38: 0 | J38: 0 | K38: 0 | L38: 0 | M38: 0 | N38: 0 | O38: 3 | P38: 0 | Q38: 0 | R38: 0 | S38: 0 | T38: 0 | U38: 0 | V38: 0 | W38: 0 | X38: 0 | Y38: 0 | Z38: 0 | AA38: 0 | AB38: 0 | AC38: 0 | AD38: 0 | AE38: =SUM(C38:AD38) -> 3 | AF38: =Januari!AJ38 -> 0 | AG38: =AE38+AF38 -> 3 | AH38: =Januari!AK38 -> 0 | AI38: =Januari!AL38 -> 0 | AJ38: 0 | AK38: =AH38+AJ38 -> 0 | AL38: =AG38-AK38 -> 3 | AM38: dalam proses
A39: 29 | B39: Izin Optik | C39: 0 | D39: 0 | E39: 0 | F39: 0 | G39: 0 | H39: 0 | I39: 0 | J39: 0 | K39: 0 | L39: 0 | M39: 0 | N39: 0 | O39: 0 | P39: 0 | Q39: 0 | R39: 0 | S39: 0 | T39: 0 | U39: 0 | V39: 0 | W39: 0 | X39: 0 | Y39: 0 | Z39: 0 | AA39: 0 | AB39: 0 | AC39: 0 | AD39: 0 | AE39: =SUM(C39:AD39) -> 0 | AF39: =Januari!AJ39 -> 0 | AG39: =AE39+AF39 -> 0 | AH39: =Januari!AK39 -> 0 | AI39: =Januari!AL39 -> 0 | AJ39: 0 | AK39: =AH39+AJ39 -> 0
A40: 30 | B40: Izin Industri Rumah Tangga Makanan Minuman (PIRT) | C40: 0 | D40: 1 | E40: 0 | F40: 0 | G40: 0 | H40: 0 | I40: 0 | J40: 1 | K40: 1 | L40: 1 | M40: 0 | N40: 0 | O40: 0 | P40: 1 | Q40: 0 | R40: 2 | S40: 0 | T40: 0 | U40: 0 | V40: 2 | W40: 2 | X40: 0 | Y40: 0 | Z40: 0 | AA40: 0 | AB40: 0 | AC40: 17 | AD40: 17 | AE40: =SUM(C40:AD40) -> 45 | AF40: =Januari!AJ40 -> 17 | AG40: =AE40+AF40 -> 62 | AH40: =Januari!AK40 -> 6 | AI40: =Januari!AL40 -> 11 | AJ40: 13 | AK40: =AH40+AJ40 -> 19 | AL40: =AG40-AK40 -> 43 | AM40: dalam proses
A41: 31 | B41: Tanda Daftar Depot Air Minum | C41: 0 | D41: 0 | E41: 0 | F41: 0 | G41: 0 | H41: 0 | I41: 1 | J41: 0 | K41: 0 | L41: 0 | M41: 0 | N41: 0 | O41: 0 | P41: 0 | Q41: 0 | R41: 0 | S41: 0 | T41: 0 | U41: 0 | V41: 0 | W41: 0 | X41: 0 | Y41: 0 | Z41: 0 | AA41: 0 | AB41: 0 | AC41: 0 | AD41: 0 | AE41: =SUM(C41:AD41) -> 1 | AF41: =Januari!AJ41 -> 2 | AG41: =AE41+AF41 -> 3 | AH41: =Januari!AK41 -> 1 | AI41: =Januari!AL41 -> 1 | AJ41: 1 | AK41: =AH41+AJ41 -> 2 | AL41: =AG41-AK41 -> 1 | AM41: dalam proses
...

Sheet Maret
A1: LAPORAN BERKAS IZIN MASUK DAN TERPROSES DINAS PENANAMAN MODAL DAN PELAYANAN TERPADU SATU PINTU
A2: KABUPATEN KEBUMEN
A3: Bulan Maret 2017
A5: NO | B5: JENIS IZIN | C5: TANGGAL | AH5: PEMOHON BLN INI | AI5: PEMOHON BULAN LALU | AJ5: TOTAL PERMOHONAN | AK5: TERPROSES BULAN LALU | AL5: DALAM PROSES BULAN LALU | AM5: TERPROSES BLN INI (SK) | AN5: TOTAL TERPROSES | AO5: IZIN BELUM JADI | AP5: KETERANGAN
C6: 1 | D6: 2 | E6: 3 | F6: 4 | G6: 5 | H6: 6 | I6: 7 | J6: 8 | K6: 9 | L6: 10 | M6: 11 | N6: 12 | O6: 13 | P6: 14 | Q6: 15 | R6: 16 | S6: 17 | T6: 18 | U6: 19 | V6: 20 | W6: 21 | X6: 22 | Y6: 23 | Z6: 24 | AA6: 25 | AB6: 26 | AC6: 27 | AD6: 28 | AE6: 29 | AF6: 30 | AG6: 31
A7: 1 | B7: Izin Prinsip | C7: 2 | D7: 0 | E7: 0 | F7: 0 | G7: 0 | H7: 0 | I7: 0 | J7: 0 | K7: 0 | L7: 0 | M7: 0 | N7: 0 | O7: 0 | P7: 1 | Q7: 0 | R7: 0 | S7: 0 | T7: 0 | U7: 0 | V7: 0 | W7: 0 | X7: 0 | Y7: 0 | Z7: 0 | AA7: 0 | AB7: 0 | AC7: 0 | AD7: 0 | AE7: 0 | AF7: 1 | AG7: 0 | AH7: =SUM(C7:AG7) -> 4 | AI7: =Februari!AG7 -> 27 | AJ7: =AH7+AI7 -> 31 | AK7: =Februari!AK7 -> 6 | AL7: =Februari!AL7 -> 21 | AM7: 10 | AN7: =AK7+AM7 -> 16 | AO7: =AJ7-AN7 -> 15 | AP7: dalam proses
A8: 2 | B8: Izin Lokasi/Izin perencanaan letak penggunaan tanah/ penetapan lokasi | C8: 0 | D8: 1 | E8: 0 | F8: 0 | G8: 0 | H8: 0 | I8: 0 | J8: 0 | K8: 1 | L8: 0 | M8: 0 | N8: 0 | O8: 1 | P8: 0 | Q8: 0 | R8: 0 | S8: 0 | T8: 0 | U8: 0 | V8: 0 | W8: 1 | X8: 0 | Y8: 0 | Z8: 0 | AA8: 0 | AB8: 0 | AC8: 0 | AD8: 0 | AE8: 0 | AF8: 0 | AG8: 0 | AH8: =SUM(C8:AG8) -> 4 | AI8: =Februari!AG8 -> 8 | AJ8: =AH8+AI8 -> 12 | AK8: =Februari!AK8 -> 3 | AL8: =Februari!AL8 -> 5 | AM8: 6 | AN8: =AK8+AM8 -> 9 | AO8: =AJ8-AN8 -> 3 | AP8: dalam proses
A9: 3 | B9: Izin Gangguan/HO | C9: 1 | D9: 0 | E9: 1 | F9: 0 | G9: 0 | H9: 0 | I9: 1 | J9: 0 | K9: 0 | L9: 0 | M9: 0 | N9: 0 | O9: 0 | P9: 1 | Q9: 1 | R9: 0 | S9: 1 | T9: 0 | U9: 0 | V9: 1 | W9: 0 | X9: 1 | Y9: 0 | Z9: 2 | AA9: 0 | AB9: 0 | AC9: 0 | AD9: 0 | AE9: 0 | AF9: 0 | AG9: 0 | AH9: =SUM(C9:AG9) -> 10 | AI9: =Februari!AG9 -> 24 | AJ9: =AH9+AI9 -> 34 | AK9: =Februari!AK9 -> 12 | AL9: =Februari!AL9 -> 12 | AM9: 9 | AN9: =AK9+AM9 -> 21 | AO9: =AJ9-AN9 -> 13 | AP9: dalam proses
B10: Izin Gangguan Ulang / HO | C10: 0 | D10: 0 | E10: 0 | F10: 0 | G10: 0 | H10: 1 | I10: 0 | J10: 0 | K10: 0 | L10: 0 | M10: 0 | N10: 0 | O10: 1 | P10: 0 | Q10: 0 | R10: 4 | S10: 0 | T10: 0 | U10: 0 | V10: 2 | W10: 0 | X10: 0 | Y10: 0 | Z10: 2 | AA10: 0 | AB10: 0 | AC10: 0 | AD10: 0 | AE10: 0 | AF10: 0 | AG10: 0 | AH10: =SUM(C10:AG10) -> 10 | AI10: =Februari!AG10 -> 51 | AJ10: =AH10+AI10 -> 61 | AK10: =Februari!AK10 -> 48 | AL10: =Februari!AL10 -> 3 | AM10: 12 | AN10: =AK10+AM10 -> 60 | AO10: =AJ10-AN10 -> 1 | AP10: dalam proses
A11: 4 | B11: Izin Penggilingan Padi Keliling | C11: 0 | D11: 0 | E11: 0 | F11: 0 | G11: 0 | H11: 0 | I11: 0 | J11: 0 | K11: 0 | L11: 0 | M11: 0 | N11: 0 | O11: 0 | P11: 0 | Q11: 0 | R11: 0 | S11: 0 | T11: 0 | U11: 0 | V11: 0 | W11: 0 | X11: 0 | Y11: 0 | Z11: 0 | AA11: 0 | AB11: 0 | AC11: 0 | AD11: 0 | AE11: 0 | AF11: 0 | AG11: 0 | AH11: =SUM(C11:AG11) -> 0 | AI11: =Februari!AG11 -> 0 | AJ11: =AH11+AI11 -> 0 | AK11: =Februari!AK11 -> 0 | AL11: =Februari!AL11 -> 0 | AM11: 0 | AN11: =AK11+AM11 -> 0
A12: 5 | B12: Izin Usaha Pengangkutan | C12: 0 | D12: 0 | E12: 0 | F12: 0 | G12: 0 | H12: 0 | I12: 0 | J12: 0 | K12: 0 | L12: 0 | M12: 0 | N12: 0 | O12: 0 | P12: 0 | Q12: 0 | R12: 0 | S12: 0 | T12: 0 | U12: 0 | V12: 0 | W12: 0 | X12: 0 | Y12: 0 | Z12: 0 | AA12: 0 | AB12: 0 | AC12: 0 | AD12: 0 | AE12: 0 | AF12: 0 | AG12: 0 | AH12: =SUM(C12:AG12) -> 0 | AI12: =Februari!AG12 -> 0 | AJ12: =AH12+AI12 -> 0 | AK12: =Februari!AK12 -> 0 | AL12: =Februari!AL12 -> 0 | AM12: 0 | AN12: =AK12+AM12 -> 0
A13: 6 | B13: Izin Trayek | C13: 0 | D13: 0 | E13: 0 | F13: 0 | G13: 0 | H13: 0 | I13: 0 | J13: 0 | K13: 0 | L13: 0 | M13: 0 | N13: 0 | O13: 0 | P13: 0 | Q13: 0 | R13: 0 | S13: 0 | T13: 0 | U13: 0 | V13: 0 | W13: 0 | X13: 0 | Y13: 0 | Z13: 0 | AA13: 0 | AB13: 0 | AC13: 0 | AD13: 0 | AE13: 0 | AF13: 0 | AG13: 0 | AH13: =SUM(C13:AG13) -> 0 | AI13: =Februari!AG13 -> 0 | AJ13: =AH13+AI13 -> 0 | AK13: =Februari!AK13 -> 0 | AL13: =Februari!AL13 -> 0 | AM13: 0 | AN13: =AK13+AM13 -> 0
A14: 7 | B14: Izin Insidentil | C14: 0 | D14: 0 | E14: 0 | F14: 0 | G14: 0 | H14: 0 | I14: 0 | J14: 0 | K14: 0 | L14: 0 | M14: 0 | N14: 0 | O14: 0 | P14: 0 | Q14: 0 | R14: 0 | S14: 0 | T14: 0 | U14: 0 | V14: 0 | W14: 0 | X14: 0 | Y14: 0 | Z14: 0 | AA14: 0 | AB14: 0 | AC14: 0 | AD14: 0 | AE14: 0 | AF14: 0 | AG14: 0 | AH14: =SUM(C14:AG14) -> 0 | AI14: =Februari!AG14 -> 0 | AJ14: =AH14+AI14 -> 0 | AK14: =Februari!AK14 -> 0 | AL14: =Februari!AL14 -> 0 | AM14: 0 | AN14: =AK14+AM14 -> 0
A15: 8 | B15: Izin Mendirikan Bangunan (IMB) | C15: 1 | D15: 0 | E15: 1 | F15: 0 | G15: 0 | H15: 2 | I15: 0 | J15: 0 | K15: 1 | L15: 1 | M15: 0 | N15: 0 | O15: 2 | P15: 1 | Q15: 2 | R15: 2 | S15: 0 | T15: 0 | U15: 0 | V15: 1 | W15: 1 | X15: 1 | Y15: 0 | Z15: 2 | AA15: 0 | AB15: 0 | AC15: 0 | AD15: 0 | AE15: 0 | AF15: 1 | AG15: 1 | AH15: =SUM(C15:AG15) -> 20 | AI15: =Februari!AG15 -> 28 | AJ15: =AH15+AI15 -> 48 | AK15: =Februari!AK15 -> 16 | AL15: =Februari!AL15 -> 12 | AM15: 17 | AN15: =AK15+AM15 -> 33 | AO15: =AJ15-AN15 -> 15 | AP15: dalam proses
A16: 9 | B16: Izin Usaha Industri (IUI) | C16: 0 | D16: 0 | E16: 0 | F16: 0 | G16: 0 | H16: 0 | I16: 0 | J16: 0 | K16: 1 | L16: 0 | M16: 0 | N16: 0 | O16: 0 | P16: 0 | Q16: 0 | R16: 0 | S16: 0 | T16: 0 | U16: 0 | V16: 0 | W16: 0 | X16: 0 | Y16: 0 | Z16: 0 | AA16: 0 | AB16: 0 | AC16: 0 | AD16: 0 | AE16: 0 | AF16: 0 | AG16: 0 | AH16: =SUM(C16:AG16) -> 1 | AI16: =Februari!AG16 -> 0 | AJ16: =AH16+AI16 -> 1 | AK16: =Februari!AK16 -> 0 | AL16: =Februari!AL16 -> 0 | AM16: 0 | AN16: =AK16+AM16 -> 0 | AO16: =AJ16-AN16 -> 1 | AP16: dalam proses
A17: 10 | B17: Tanda Daftar Industri (TDI) | C17: 0 | D17: 0 | E17: 0 | F17: 0 | G17: 0 | H17: 0 | I17: 0 | J17: 0 | K17: 0 | L17: 0 | M17: 0 | N17: 0 | O17: 0 | P17: 0 | Q17: 0 | R17: 0 | S17: 0 | T17: 0 | U17: 0 | V17: 1 | W17: 0 | X17: 0 | Y17: 0 | Z17: 0 | AA17: 0 | AB17: 0 | AC17: 0 | AD17: 0 | AE17: 0 | AF17: 0 | AG17: 0 | AH17: =SUM(C17:AG17) -> 1 | AI17: =Februari!AG17 -> 5 | AJ17: =AH17+AI17 -> 6 | AK17: =Februari!AK17 -> 2 | AL17: =Februari!AL17 -> 3 | AM17: 4 | AN17: =AK17+AM17 -> 6
A18: 11 | B18: Surat Izin Usaha Perdagangan (SIUP) | C18: 13 | D18: 2 | E18: 4 | F18: 0 | G18: 0 | H18: 10 | I18: 4 | J18: 3 | K18: 8 | L18: 0 | M18: 0 | N18: 0 | O18: 8 | P18: 6 | Q18: 3 | R18: 8 | S18: 1 | T18: 0 | U18: 0 | V18: 6 | W18: 2 | X18: 5 | Y18: 1 | Z18: 2 | AA18: 0 | AB18: 0 | AC18: 5 | AD18: 0 | AE18: 1 | AF18: 3 | AG18: 2 | AH18: =SUM(C18:AG18) -> 97 | AI18: 106 | AJ18: =AH18+AI18 -> 203 | AK18: 87 | AL18: =Februari!AL18 -> 19 | AM18: 88 | AN18: =AK18+AM18 -> 175 | AO18: =AJ18-AN18 -> 28 | AP18: dalam proses
A19: 12 | B19: Tanda Daftar Gudang (TDG) | C19: 0 | D19: 0 | E19: 0 | F19: 0 | G19: 0 | H19: 0 | I19: 0 | J19: 0 | K19: 0 | L19: 0 | M19: 0 | N19: 0 | O19: 0 | P19: 1 | Q19: 0 | R19: 0 | S19: 0 | T19: 0 | U19: 0 | V19: 0 | W19: 0 | X19: 0 | Y19: 0 | Z19: 0 | AA19: 0 | AB19: 0 | AC19: 0 | AD19: 0 | AE19: 0 | AF19: 0 | AG19: 0 | AH19: =SUM(C19:AG19) -> 1 | AI19: =Februari!AG20 -> 6 | AJ19: =AH19+AI19 -> 7 | AK19: 3 | AL19: =Februari!AL20 -> 3 | AM19: 4 | AN19: =AK19+AM19 -> 7
A20: 13 | B20: Tanda Daftar Perusahaan (TDP) | C20: 13 | D20: 2 | E20: 4 | F20: 0 | G20: 0 | H20: 9 | I20: 4 | J20: 2 | K20: 8 | L20: 0 | M20: 0 | N20: 0 | O20: 8 | P20: 6 | Q20: 3 | R20: 8 | S20: 1 | T20: 0 | U20: 0 | V20: 5 | W20: 1 | X20: 5 | Y20: 1 | Z20: 2 | AA20: 0 | AB20: 0 | AC20: 4 | AD20: 0 | AE20: 1 | AF20: 3 | AG20: 2 | AH20: =SUM(C20:AG20) -> 92 | AI20: =Februari!AG21 -> 61 | AJ20: =AH20+AI20 -> 153 | AK20: 36 | AL20: 36 | AM20: 84 | AN20: =AK20+AM20 -> 120 | AO20: =AJ20-AN20 -> 33 | AP20: dalam proses
A21: 14 | B21: Izin Usaha Jasa Kontruksi (IUJK) | C21: 1 | D21: 0 | E21: 0 | F21: 0 | G21: 0 | H21: 0 | I21: 0 | J21: 0 | K21: 0 | L21: 0 | M21: 0 | N21: 0 | O21: 1 | P21: 0 | Q21: 0 | R21: 0 | S21: 0 | T21: 0 | U21: 0 | V21: 1 | W21: 0 | X21: 0 | Y21: 0 | Z21: 0 | AA21: 0 | AB21: 0 | AC21: 0 | AD21: 0 | AE21: 0 | AF21: 1 | AG21: 0 | AH21: =SUM(C21:AG21) -> 4 | AI21: =Februari!AG23 -> 16 | AJ21: =AH21+AI21 -> 20 | AK21: =Februari!AK23 -> 10 | AL21: =Februari!AL23 -> 6 | AM21: 3 | AN21: =AK21+AM21 -> 13 | AO21: =AJ21-AN21 -> 7 | AP21: dalam proses
B22: Kartu Penanggungjawab Teknik Badan (KPTJBU) | C22: 0 | D22: 0 | E22: 0 | F22: 0 | G22: 0 | H22: 0 | I22: 0 | J22: 0 | K22: 0 | L22: 0 | M22: 0 | N22: 0 | O22: 1 | P22: 0 | Q22: 0 | R22: 0 | S22: 0 | T22: 0 | U22: 0 | V22: 1 | W22: 0 | X22: 0 | Y22: 0 | Z22: 0 | AA22: 0 | AB22: 0 | AC22: 0 | AD22: 0 | AE22: 0 | AF22: 1 | AG22: 0 | AH22: =SUM(C22:AG22) -> 3 | AI22: =Februari!AG24 -> 14 | AJ22: =AH22+AI22 -> 17 | AK22: =Februari!AK24 -> 14 | AL22: =Februari!AL24 -> 0 | AM22: 3 | AN22: =AK22+AM22 -> 17
A23: 15 | B23: Tanda Daftar Usaha Pariwisata | C23: 0 | D23: 0 | E23: 0 | F23: 0 | G23: 0 | H23: 0 | I23: 1 | J23: 0 | K23: 0 | L23: 0 | M23: 0 | N23: 0 | O23: 0 | P23: 0 | Q23: 0 | R23: 1 | S23: 0 | T23: 0 | U23: 0 | V23: 1 | W23: 0 | X23: 0 | Y23: 0 | Z23: 0 | AA23: 0 | AB23: 0 | AC23: 0 | AD23: 0 | AE23: 0 | AF23: 0 | AG23: 0 | AH23: =SUM(C23:AG23) -> 3 | AI23: =Februari!AG25 -> 3 | AJ23: =AH23+AI23 -> 6 | AK23: =Februari!AK25 -> 2 | AL23: =Februari!AL25 -> 1 | AM23: 3 | AN23: =AK23+AM23 -> 5 | AO23: =AJ23-AN23 -> 1 | AP23: dalam proses
A24: 16 | B24: Izin Penggunaan Gedung Juang | C24: 0 | D24: 0 | E24: 0 | F24: 0 | G24: 0 | H24: 0 | I24: 0 | J24: 0 | K24: 0 | L24: 0 | M24: 0 | N24: 0 | O24: 1 | P24: 1 | Q24: 0 | R24: 0 | S24: 2 | T24: 0 | U24: 0 | V24: 1 | W24: 0 | X24: 0 | Y24: 1 | Z24: 0 | AA24: 0 | AB24: 0 | AC24: 1 | AD24: 0 | AE24: 0 | AF24: 0 | AG24: 0 | AH24: =SUM(C24:AG24) -> 7 | AI24: =Februari!AG26 -> 7 | AJ24: =AH24+AI24 -> 14 | AK24: =Februari!AK26 -> 2 | AL24: =Februari!AL26 -> 5 | AM24: 8 | AN24: =AK24+AM24 -> 10 | AO24: =AJ24-AN24 -> 4 | AP24: dalam proses
A25: 17 | B25: Izin Penggunaan Stadion Candradimuka | C25: 0 | D25: 0 | E25: 0 | F25: 0 | G25: 0 | H25: 0 | I25: 0 | J25: 0 | K25: 0 | L25: 0 | M25: 0 | N25: 0 | O25: 0 | P25: 0 | Q25: 0 | R25: 0 | S25: 0 | T25: 0 | U25: 0 | V25: 0 | W25: 0 | X25: 0 | Y25: 0 | Z25: 0 | AA25: 0 | AB25: 0 | AC25: 0 | AD25: 0 | AE25: 0 | AF25: 0 | AG25: 0 | AH25: =SUM(C25:AG25) -> 0 | AI25: =Februari!AG27 -> 0 | AJ25: =AH25+AI25 -> 0 | AK25: =Februari!AK27 -> 0 | AL25: =Februari!AL27 -> 0 | AM25: 0 | AN25: =AK25+AM25 -> 0
A26: 18 | B26: Izin Penggunaan Alun-alun Kebumen | C26: 0 | D26: 0 | E26: 0 | F26: 0 | G26: 0 | H26: 0 | I26: 0 | J26: 0 | K26: 1 | L26: 0 | M26: 0 | N26: 0 | O26: 1 | P26: 0 | Q26: 0 | R26: 1 | S26: 0 | T26: 0 | U26: 0 | V26: 0 | W26: 1 | X26: 1 | Y26: 0 | Z26: 0 | AA26: 0 | AB26: 0 | AC26: 0 | AD26: 0 | AE26: 0 | AF26: 0 | AG26: 1 | AH26: =SUM(C26:AG26) -> 6 | AI26: =Februari!AG28 -> 5 | AJ26: =AH26+AI26 -> 11 | AK26: =Februari!AK28 -> 3 | AL26: =Februari!AL28 -> 2 | AM26: 4 | AN26: =AK26+AM26 -> 7 | AO26: =AJ26-AN26 -> 4 | AP26: dalam proses
A27: 19 | B27: Izin Pemasangan Reklame | C27: 0 | D27: 2 | E27: 0 | F27: 0 | G27: 0 | H27: 2 | I27: 1 | J27: 3 | K27: 0 | L27: 0 | M27: 0 | N27: 0 | O27: 4 | P27: 1 | Q27: 1 | R27: 2 | S27: 0 | T27: 0 | U27: 0 | V27: 0 | W27: 2 | X27: 3 | Y27: 3 | Z27: 0 | AA27: 0 | AB27: 0 | AC27: 3 | AD27: 0 | AE27: 4 | AF27: 1 | AG27: 1 | AH27: =SUM(C27:AG27) -> 33 | AI27: =Februari!AG29 -> 82 | AJ27: =AH27+AI27 -> 115 | AK27: =Februari!AK29 -> 82 | AL27: =Februari!AL29 -> 0 | AM27: 32 | AN27: =AK27+AM27 -> 114 | AO27: =AJ27-AN27 -> 1 | AP27: dalam proses
A28: 20 | B28: Izin Pengelolaan Sarang Burung Lawet | C28: 0 | D28: 0 | E28: 0 | F28: 0 | G28: 0 | H28: 0 | I28: 0 | J28: 0 | K28: 0 | L28: 0 | M28: 0 | N28: 0 | O28: 0 | P28: 0 | Q28: 0 | R28: 0 | S28: 0 | T28: 0 | U28: 0 | V28: 0 | W28: 0 | X28: 0 | Y28: 0 | Z28: 0 | AA28: 0 | AB28: 0 | AC28: 0 | AD28: 0 | AE28: 0 | AF28: 0 | AG28: 0 | AH28: =SUM(C28:AG28) -> 0 | AI28: =Februari!AG30 -> 0 | AJ28: =AH28+AI28 -> 0 | AK28: =Februari!AK30 -> 0 | AL28: =Februari!AL30 -> 0 | AM28: 0 | AN28: =AK28+AM28 -> 0
A29: 21 | B29: Izin Mendirikan Rumah Sakit Umum | C29: 0 | D29: 0 | E29: 0 | F29: 0 | G29: 0 | H29: 0 | I29: 0 | J29: 0 | K29: 0 | L29: 0 | M29: 0 | N29: 0 | O29: 0 | P29: 0 | Q29: 0 | R29: 0 | S29: 0 | T29: 0 | U29: 0 | V29: 0 | W29: 0 | X29: 0 | Y29: 0 | Z29: 0 | AA29: 0 | AB29: 0 | AC29: 0 | AD29: 0 | AE29: 0 | AF29: 0 | AG29: 0 | AH29: =SUM(C29:AG29) -> 0 | AI29: =Februari!AG31 -> 0 | AJ29: =AH29+AI29 -> 0 | AK29: =Februari!AK31 -> 0 | AL29: =Februari!AL31 -> 0 | AM29: 0 | AN29: =AK29+AM29 -> 0
A30: 22 | B30: Izin Mendirikan Rumah Sakit Khusus | C30: 0 | D30: 0 | E30: 0 | F30: 0 | G30: 0 | H30: 0 | I30: 0 | J30: 0 | K30: 0 | L30: 0 | M30: 0 | N30: 0 | O30: 0 | P30: 0 | Q30: 0 | R30: 0 | S30: 0 | T30: 0 | U30: 0 | V30: 0 | W30: 0 | X30: 0 | Y30: 0 | Z30: 0 | AA30: 0 | AB30: 0 | AC30: 0 | AD30: 0 | AE30: 0 | AF30: 0 | AG30: 0 | AH30: =SUM(C30:AG30) -> 0 | AI30: =Februari!AG32 -> 0 | AJ30: =AH30+AI30 -> 0 | AK30: =Februari!AK32 -> 0 | AL30: =Februari!AL32 -> 0 | AM30: 0 | AN30: =AK30+AM30 -> 0
A31: 23 | B31: Izin Klinik Pratama | C31: 1 | D31: 0 | E31: 0 | F31: 0 | G31: 0 | H31: 0 | I31: 0 | J31: 0 | K31: 0 | L31: 0 | M31: 0 | N31: 0 | O31: 0 | P31: 0 | Q31: 0 | R31: 0 | S31: 0 | T31: 0 | U31: 0 | V31: 0 | W31: 0 | X31: 0 | Y31: 0 | Z31: 0 | AA31: 0 | AB31: 0 | AC31: 0 | AD31: 0 | AE31: 0 | AF31: 0 | AG31: 0 | AH31: =SUM(C31:AG31) -> 1 | AI31: =Februari!AG33 -> 0 | AJ31: =AH31+AI31 -> 1 | AK31: =Februari!AK33 -> 0 | AL31: =Februari!AL33 -> 0 | AM31: 0 | AN31: =AK31+AM31 -> 0 | AO31: =AJ31-AN31 -> 1 | AP31: dalam proses
A32: 24 | B32: Izin Klinik Utama | C32: 0 | D32: 0 | E32: 0 | F32: 0 | G32: 0 | H32: 0 | I32: 0 | J32: 0 | K32: 0 | L32: 0 | M32: 0 | N32: 0 | O32: 0 | P32: 0 | Q32: 0 | R32: 0 | S32: 0 | T32: 0 | U32: 0 | V32: 0 | W32: 0 | X32: 0 | Y32: 0 | Z32: 0 | AA32: 0 | AB32: 0 | AC32: 0 | AD32: 0 | AE32: 0 | AF32: 0 | AG32: 0 | AH32: =SUM(C32:AG32) -> 0 | AI32: =Februari!AG34 -> 0 | AJ32: =AH32+AI32 -> 0 | AK32: =Februari!AK34 -> 0 | AL32: =Februari!AL34 -> 0 | AM32: 0 | AN32: =AK32+AM32 -> 0
A33: 25 | B33: Izin Laboratorium Klinik Pratama | C33: 0 | D33: 0 | E33: 0 | F33: 0 | G33: 0 | H33: 0 | I33: 0 | J33: 0 | K33: 0 | L33: 0 | M33: 0 | N33: 0 | O33: 0 | P33: 0 | Q33: 0 | R33: 0 | S33: 0 | T33: 0 | U33: 0 | V33: 0 | W33: 0 | X33: 0 | Y33: 0 | Z33: 0 | AA33: 0 | AB33: 0 | AC33: 0 | AD33: 0 | AE33: 0 | AF33: 0 | AG33: 0 | AH33: =SUM(C33:AG33) -> 0 | AI33: =Februari!AG35 -> 0 | AJ33: =AH33+AI33 -> 0 | AK33: =Februari!AK35 -> 0 | AL33: =Februari!AL35 -> 0 | AM33: 0 | AN33: =AK33+AM33 -> 0
A34: 26 | B34: Izin Laboratorium Klinik Utama | C34: 0 | D34: 0 | E34: 0 | F34: 0 | G34: 0 | H34: 0 | I34: 0 | J34: 0 | K34: 0 | L34: 0 | M34: 0 | N34: 0 | O34: 0 | P34: 0 | Q34: 0 | R34: 0 | S34: 0 | T34: 0 | U34: 0 | V34: 0 | W34: 0 | X34: 0 | Y34: 0 | Z34: 0 | AA34: 0 | AB34: 0 | AC34: 0 | AD34: 0 | AE34: 0 | AF34: 0 | AG34: 0 | AH34: =SUM(C34:AG34) -> 0 | AI34: =Februari!AG36 -> 0 | AJ34: =AH34+AI34 -> 0 | AK34: =Februari!AK36 -> 0 | AL34: =Februari!AL36 -> 0 | AM34: 0 | AN34: =AK34+AM34 -> 0
A35: 27 | B35: Izin Apotik | C35: 0 | D35: 0 | E35: 0 | F35: 0 | G35: 0 | H35: 0 | I35: 0 | J35: 0 | K35: 0 | L35: 0 | M35: 0 | N35: 0 | O35: 0 | P35: 0 | Q35: 0 | R35: 0 | S35: 0 | T35: 0 | U35: 0 | V35: 0 | W35: 1 | X35: 0 | Y35: 0 | Z35: 0 | AA35: 0 | AB35: 0 | AC35: 0 | AD35: 0 | AE35: 0 | AF35: 0 | AG35: 0 | AH35: =SUM(C35:AG35) -> 1 | AI35: =Februari!AG37 -> 4 | AJ35: =AH35+AI35 -> 5 | AK35: =Februari!AK37 -> 4 | AL35: =Februari!AL37 -> 0 | AM35: 0 | AN35: =AK35+AM35 -> 4 | AO35: =AJ35-AN35 -> 1 | AP35: dalam proses
A36: 28 | B36: Izin Toko Obat | C36: 0 | D36: 0 | E36: 0 | F36: 0 | G36: 0 | H36: 0 | I36: 0 | J36: 0 | K36: 0 | L36: 0 | M36: 0 | N36: 0 | O36: 0 | P36: 0 | Q36: 0 | R36: 0 | S36: 0 | T36: 0 | U36: 0 | V36: 0 | W36: 0 | X36: 0 | Y36: 0 | Z36: 0 | AA36: 0 | AB36: 0 | AC36: 0 | AD36: 0 | AE36: 0 | AF36: 0 | AG36: 0 | AH36: =SUM(C36:AG36) -> 0 | AI36: =Februari!AG38 -> 3 | AJ36: =AH36+AI36 -> 3 | AK36: =Februari!AK38 -> 0 | AL36: =Februari!AL38 -> 3 | AM36: 2 | AN36: =AK36+AM36 -> 2 | AO36: =AJ36-AN36 -> 1 | AP36: dalam proses
A37: 29 | B37: Izin Optik | C37: 0 | D37: 0 | E37: 0 | F37: 0 | G37: 0 | H37: 0 | I37: 0 | J37: 0 | K37: 0 | L37: 0 | M37: 0 | N37: 0 | O37: 0 | P37: 0 | Q37: 0 | R37: 0 | S37: 0 | T37: 0 | U37: 0 | V37: 0 | W37: 0 | X37: 0 | Y37: 0 | Z37: 0 | AA37: 0 | AB37: 0 | AC37: 0 | AD37: 0 | AE37: 0 | AF37: 0 | AG37: 0 | AH37: =SUM(C37:AG37) -> 0 | AI37: =Februari!AG39 -> 0 | AJ37: =AH37+AI37 -> 0 | AK37: =Februari!AK39 -> 0 | AL37: =Februari!AL39 -> 0 | AM37: 0 | AN37: =AK37+AM37 -> 0
A38: 30 | B38: Izin Industri Rumah Tangga Makanan Minuman (PIRT) | C38: 1 | D38: 0 | E38: 3 | F38: 0 | G38: 0 | H38: 5 | I38: 1 | J38: 0 | K38: 2 | L38: 0 | M38: 0 | N38: 0 | O38: 0 | P38: 0 | Q38: 2 | R38: 0 | S38: 1 | T38: 0 | U38: 0 | V38: 1 | W38: 0 | X38: 0 | Y38: 0 | Z38: 0 | AA38: 0 | AB38: 0 | AC38: 1 | AD38: 0 | AE38: 0 | AF38: 0 | AG38: 0 | AH38: =SUM(C38:AG38) -> 17 | AI38: =Februari!AG40 -> 62 | AJ38: =AH38+AI38 -> 79 | AK38: =Februari!AK40 -> 19 | AL38: =Februari!AL40 -> 43 | AM38: 19 | AN38: =AK38+AM38 -> 38 | AO38: =AJ38-AN38 -> 41 | AP38: dalam proses
A39: 31 | B39: Tanda Daftar Depot Air Minum | C39: 0 | D39: 0 | E39: 0 | F39: 0 | G39: 0 | H39: 0 | I39: 0 | J39: 0 | K39: 4 | L39: 0 | M39: 0 | N39: 0 | O39: 0 | P39: 0 | Q39: 0 | R39: 0 | S39: 0 | T39: 0 | U39: 0 | V39: 0 | W39: 0 | X39: 0 | Y39: 0 | Z39: 0 | AA39: 0 | AB39: 0 | AC39: 0 | AD39: 0 | AE39: 0 | AF39: 0 | AG39: 0 | AH39: =SUM(C39:AG39) -> 4 | AI39: =Februari!AG41 -> 3 | AJ39: =AH39+AI39 -> 7 | AK39: =Februari!AK41 -> 2 | AL39: =Februari!AL41 -> 1 | AM39: 4 | AN39: =AK39+AM39 -> 6 | AO39: =AJ39-AN39 -> 1 | AP39: dalam proses
A40: 32 | B40: Tanda Daftar Pengobatan Tradisional | C40: 0 | D40: 0 | E40: 0 | F40: 0 | G40: 0 | H40: 0 | I40: 0 | J40: 0 | K40: 0 | L40: 0 | M40: 0 | N40: 0 | O40: 0 | P40: 0 | Q40: 0 | R40: 0 | S40: 0 | T40: 0 | U40: 0 | V40: 0 | W40: 0 | X40: 0 | Y40: 0 | Z40: 0 | AA40: 0 | AB40: 0 | AC40: 0 | AD40: 0 | AE40: 0 | AF40: 0 | AG40: 0 | AH40: =SUM(C40:AG40) -> 0 | AI40: =Februari!AG42 -> 0 | AJ40: =AH40+AI40 -> 0 | AK40: =Februari!AK42 -> 0 | AL40: =Februari!AL42 -> 0 | AM40: 0 | AN40: =AK40+AM40 -> 0
A41: 33 | B41: Izin Operasional Pendirian Bursa Kerja Khusus (BKK) | C41: 0 | D41: 0 | E41: 0 | F41: 0 | G41: 0 | H41: 0 | I41: 0 | J41: 0 | K41: 0 | L41: 0 | M41: 0 | N41: 0 | O41: 0 | P41: 0 | Q41: 0 | R41: 0 | S41: 0 | T41: 0 | U41: 0 | V41: 0 | W41: 0 | X41: 0 | Y41: 0 | Z41: 1 | AA41: 0 | AB41: 0 | AC41: 0 | AD41: 0 | AE41: 0 | AF41: 0 | AG41: 0 | AH41: =SUM(C41:AG41) -> 1 | AI41: =Februari!AG43 -> 0 | AJ41: =AH41+AI41 -> 1 | AK41: =Februari!AK43 -> 0 | AL41: =Februari!AL43 -> 0 | AM41: 0 | AN41: =AK41+AM41 -> 0 | AO41: =AJ41-AN41 -> 1 | AP41: dalam proses
...

Sheet April
A1: LAPORAN BERKAS IZIN MASUK DAN TERPROSES DINAS PENANAMAN MODAL DAN PELAYANAN TERPADU SATU PINTU
A2: KABUPATEN KEBUMEN
A3: Bulan April 2017
A5: NO | B5: JENIS IZIN | C5: TANGGAL | AG5: PEMOHON BLN INI | AH5: PEMOHON BULAN LALU | AI5: TOTAL PERMOHONAN | AJ5: TERPROSES BULAN LALU | AK5: DALAM PROSES BULAN LALU | AL5: TERPROSES BLN INI (SK) | AM5: TOTAL TERPROSES | AN5: IZIN BELUM JADI | AO5: KETERANGAN
C6: 1 | D6: 2 | E6: 3 | F6: 4 | G6: 5 | H6: 6 | I6: 7 | J6: 8 | K6: 9 | L6: 10 | M6: 11 | N6: 12 | O6: 13 | P6: 14 | Q6: 15 | R6: 16 | S6: 17 | T6: 18 | U6: 19 | V6: 20 | W6: 21 | X6: 22 | Y6: 23 | Z6: 24 | AA6: 25 | AB6: 26 | AC6: 27 | AD6: 28 | AE6: 29 | AF6: 30
A7: 1 | B7: Izin Prinsip | C7: 0 | D7: 0 | E7: 0 | F7: 0 | G7: 1 | H7: 2 | I7: 0 | J7: 0 | K7: 0 | L7: 1 | M7: 0 | N7: 2 | O7: 0 | P7: 0 | Q7: 0 | R7: 0 | S7: 1 | T7: 0 | U7: 0 | V7: 0 | W7: 0 | X7: 0 | Y7: 0 | Z7: 0 | AA7: 0 | AB7: 1 | AC7: 0 | AD7: 0 | AE7: 0 | AF7: 0 | AG7: =SUM(C7:AF7) -> 8 | AH7: =Maret!AJ7 -> 31 | AI7: =AG7+AH7 -> 39 | AJ7: =Maret!AN7 -> 16 | AK7: =Maret!AO7 -> 15 | AL7: 9 | AM7: =AJ7+AL7 -> 25 | AN7: =AI7-AM7 -> 14 | AO7: dalam proses
A8: 2 | B8: Izin Lokasi/Izin perencanaan letak penggunaan tanah/ penetapan lokasi | C8: 0 | D8: 0 | E8: 0 | F8: 0 | G8: 0 | H8: 4 | I8: 0 | J8: 0 | K8: 0 | L8: 1 | M8: 0 | N8: 0 | O8: 0 | P8: 0 | Q8: 0 | R8: 0 | S8: 1 | T8: 0 | U8: 1 | V8: 0 | W8: 0 | X8: 0 | Y8: 0 | Z8: 0 | AA8: 0 | AB8: 1 | AC8: 0 | AD8: 0 | AE8: 0 | AF8: 0 | AG8: =SUM(C8:AF8) -> 8 | AH8: =Maret!AJ8 -> 12 | AI8: =AG8+AH8 -> 20 | AJ8: =Maret!AN8 -> 9 | AK8: =Maret!AO8 -> 3 | AL8: 6 | AM8: =AJ8+AL8 -> 15 | AN8: =AI8-AM8 -> 5 | AO8: dalam proses
A9: 3 | B9: Izin Gangguan/HO | C9: 0 | D9: 0 | E9: 0 | F9: 1 | G9: 1 | H9: 6 | I9: 0 | J9: 0 | K9: 0 | L9: 0 | M9: 0 | N9: 0 | O9: 0 | P9: 0 | Q9: 0 | R9: 0 | S9: 0 | T9: 0 | U9: 0 | V9: 0 | W9: 0 | X9: 0 | Y9: 0 | Z9: 0 | AA9: 0 | AB9: 0 | AC9: 0 | AD9: 0 | AE9: 0 | AF9: 0 | AG9: =SUM(C9:AF9) -> 8 | AH9: =Maret!AJ9 -> 34 | AI9: =AG9+AH9 -> 42 | AJ9: =Maret!AN9 -> 21 | AK9: =Maret!AO9 -> 13 | AL9: 0 | AM9: =AJ9+AL9 -> 21 | AN9: =AI9-AM9 -> 21 | AO9: berkas dikembalikan
B10: Izin Gangguan Ulang / HO | C10: 0 | D10: 0 | E10: 0 | F10: 2 | G10: 2 | H10: 0 | I10: 0 | J10: 0 | K10: 0 | L10: 0 | M10: 0 | N10: 0 | O10: 0 | P10: 0 | Q10: 0 | R10: 0 | S10: 0 | T10: 0 | U10: 0 | V10: 0 | W10: 0 | X10: 0 | Y10: 0 | Z10: 0 | AA10: 0 | AB10: 0 | AC10: 0 | AD10: 0 | AE10: 0 | AF10: 0 | AG10: =SUM(C10:AF10) -> 4 | AH10: =Maret!AJ10 -> 61 | AI10: =AG10+AH10 -> 65 | AJ10: =Maret!AN10 -> 60 | AK10: =Maret!AO10 -> 1 | AL10: 0 | AM10: =AJ10+AL10 -> 60 | AN10: =AI10-AM10 -> 5 | AO10: berkas dikembalikan
A11: 4 | B11: Izin Penggilingan Padi Keliling | C11: 0 | D11: 0 | E11: 0 | F11: 0 | G11: 0 | H11: 0 | I11: 0 | J11: 0 | K11: 0 | L11: 0 | M11: 0 | N11: 0 | O11: 0 | P11: 0 | Q11: 0 | R11: 0 | S11: 0 | T11: 0 | U11: 0 | V11: 0 | W11: 0 | X11: 0 | Y11: 0 | Z11: 0 | AA11: 0 | AB11: 0 | AC11: 0 | AD11: 0 | AE11: 0 | AF11: 0 | AG11: =SUM(C11:AF11) -> 0 | AH11: =Maret!AJ11 -> 0 | AI11: =AG11+AH11 -> 0 | AJ11: =Maret!AN11 -> 0 | AK11: =Maret!AO11 -> 0 | AL11: 0 | AM11: =AJ11+AL11 -> 0
A12: 5 | B12: Izin Usaha Pengangkutan | C12: 0 | D12: 0 | E12: 0 | F12: 0 | G12: 0 | H12: 0 | I12: 0 | J12: 0 | K12: 0 | L12: 0 | M12: 0 | N12: 0 | O12: 0 | P12: 0 | Q12: 0 | R12: 0 | S12: 0 | T12: 0 | U12: 0 | V12: 0 | W12: 0 | X12: 0 | Y12: 0 | Z12: 0 | AA12: 0 | AB12: 0 | AC12: 0 | AD12: 0 | AE12: 0 | AF12: 0 | AG12: =SUM(C12:AF12) -> 0 | AH12: =Maret!AJ12 -> 0 | AI12: =AG12+AH12 -> 0 | AJ12: =Maret!AN12 -> 0 | AK12: =Maret!AO12 -> 0 | AL12: 0 | AM12: =AJ12+AL12 -> 0
A13: 6 | B13: Izin Trayek | C13: 0 | D13: 0 | E13: 0 | F13: 0 | G13: 0 | H13: 0 | I13: 0 | J13: 0 | K13: 0 | L13: 0 | M13: 0 | N13: 0 | O13: 0 | P13: 0 | Q13: 0 | R13: 0 | S13: 0 | T13: 0 | U13: 0 | V13: 0 | W13: 0 | X13: 0 | Y13: 0 | Z13: 0 | AA13: 0 | AB13: 0 | AC13: 0 | AD13: 0 | AE13: 0 | AF13: 0 | AG13: =SUM(C13:AF13) -> 0 | AH13: =Maret!AJ13 -> 0 | AI13: =AG13+AH13 -> 0 | AJ13: =Maret!AN13 -> 0 | AK13: =Maret!AO13 -> 0 | AL13: 0 | AM13: =AJ13+AL13 -> 0
A14: 7 | B14: Izin Insidentil | C14: 0 | D14: 0 | E14: 0 | F14: 0 | G14: 0 | H14: 0 | I14: 0 | J14: 0 | K14: 0 | L14: 0 | M14: 0 | N14: 0 | O14: 0 | P14: 0 | Q14: 0 | R14: 0 | S14: 0 | T14: 0 | U14: 0 | V14: 0 | W14: 0 | X14: 0 | Y14: 0 | Z14: 0 | AA14: 0 | AB14: 0 | AC14: 0 | AD14: 0 | AE14: 0 | AF14: 0 | AG14: =SUM(C14:AF14) -> 0 | AH14: =Maret!AJ14 -> 0 | AI14: =AG14+AH14 -> 0 | AJ14: =Maret!AN14 -> 0 | AK14: =Maret!AO14 -> 0 | AL14: 0 | AM14: =AJ14+AL14 -> 0
A15: 8 | B15: Izin Mendirikan Bangunan (IMB) | C15: 0 | D15: 0 | E15: 0 | F15: 0 | G15: 0 | H15: 7 | I15: 0 | J15: 0 | K15: 0 | L15: 0 | M15: 22 | N15: 0 | O15: 0 | P15: 0 | Q15: 0 | R15: 0 | S15: 4 | T15: 0 | U15: 0 | V15: 1 | W15: 1 | X15: 0 | Y15: 0 | Z15: 0 | AA15: 1 | AB15: 0 | AC15: 1 | AD15: 0 | AE15: 0 | AF15: 0 | AG15: =SUM(C15:AF15) -> 37 | AH15: =Maret!AJ15 -> 48 | AI15: =AG15+AH15 -> 85 | AJ15: =Maret!AN15 -> 33 | AK15: =Maret!AO15 -> 15 | AL15: 10 | AM15: =AJ15+AL15 -> 43 | AN15: =AI15-AM15 -> 42 | AO15: dalam proses
A16: 9 | B16: Izin Usaha Industri (IUI) | C16: 0 | D16: 0 | E16: 0 | F16: 0 | G16: 0 | H16: 0 | I16: 0 | J16: 0 | K16: 0 | L16: 0 | M16: 0 | N16: 0 | O16: 0 | P16: 0 | Q16: 0 | R16: 0 | S16: 0 | T16: 0 | U16: 0 | V16: 0 | W16: 0 | X16: 0 | Y16: 0 | Z16: 0 | AA16: 0 | AB16: 0 | AC16: 0 | AD16: 0 | AE16: 0 | AF16: 0 | AG16: =SUM(C16:AF16) -> 0 | AH16: =Maret!AJ16 -> 1 | AI16: =AG16+AH16 -> 1 | AJ16: =Maret!AN16 -> 0 | AK16: =Maret!AO16 -> 1 | AL16: 0 | AM16: =AJ16+AL16 -> 0 | AN16: =AI16-AM16 -> 1 | AO16: dalam proses
A17: 10 | B17: Tanda Daftar Industri (TDI) | C17: 0 | D17: 0 | E17: 0 | F17: 0 | G17: 0 | H17: 0 | I17: 0 | J17: 0 | K17: 0 | L17: 1 | M17: 0 | N17: 0 | O17: 0 | P17: 0 | Q17: 0 | R17: 0 | S17: 0 | T17: 0 | U17: 0 | V17: 0 | W17: 0 | X17: 0 | Y17: 0 | Z17: 0 | AA17: 0 | AB17: 0 | AC17: 0 | AD17: 0 | AE17: 0 | AF17: 0 | AG17: =SUM(C17:AF17) -> 1 | AH17: =Maret!AJ17 -> 6 | AI17: =AG17+AH17 -> 7 | AJ17: =Maret!AN17 -> 6 | AK17: =Maret!AO17 -> 0 | AL17: 1 | AM17: =AJ17+AL17 -> 7
A18: 11 | B18: Surat Izin Usaha Perdagangan (SIUP) | C18: 0 | D18: 0 | E18: 4 | F18: 5 | G18: 3 | H18: 5 | I18: 3 | J18: 0 | K18: 0 | L18: 5 | M18: 6 | N18: 2 | O18: 2 | P18: 0 | Q18: 0 | R18: 0 | S18: 5 | T18: 3 | U18: 6 | V18: 1 | W18: 0 | X18: 0 | Y18: 0 | Z18: 0 | AA18: 4 | AB18: 1 | AC18: 3 | AD18: 5 | AE18: 0 | AF18: 0 | AG18: =SUM(C18:AF18) -> 63 | AH18: =Maret!AJ18 -> 203 | AI18: =AG18+AH18 -> 266 | AJ18: =Maret!AN18 -> 175 | AK18: =Maret!AO18 -> 28 | AL18: 39 | AM18: =AJ18+AL18 -> 214 | AN18: =AI18-AM18 -> 52 | AO18: dalam proses
A19: 12 | B19: Tanda Daftar Gudang (TDG) | C19: 0 | D19: 0 | E19: 0 | F19: 0 | G19: 0 | H19: 0 | I19: 0 | J19: 0 | K19: 0 | L19: 0 | M19: 0 | N19: 0 | O19: 0 | P19: 0 | Q19: 0 | R19: 0 | S19: 0 | T19: 0 | U19: 0 | V19: 0 | W19: 0 | X19: 0 | Y19: 0 | Z19: 0 | AA19: 0 | AB19: 0 | AC19: 0 | AD19: 0 | AE19: 0 | AF19: 0 | AG19: =SUM(C19:AF19) -> 0 | AH19: =Maret!AJ19 -> 7 | AI19: =AG19+AH19 -> 7 | AJ19: =Maret!AN19 -> 7 | AK19: =Maret!AO19 -> 0 | AL19: 0 | AM19: =AJ19+AL19 -> 7
A20: 13 | B20: Tanda Daftar Perusahaan (TDP) | C20: 0 | D20: 0 | E20: 4 | F20: 4 | G20: 3 | H20: 5 | I20: 3 | J20: 0 | K20: 0 | L20: 5 | M20: 6 | N20: 3 | O20: 2 | P20: 0 | Q20: 0 | R20: 0 | S20: 4 | T20: 3 | U20: 6 | V20: 1 | W20: 0 | X20: 0 | Y20: 0 | Z20: 0 | AA20: 4 | AB20: 0 | AC20: 2 | AD20: 3 | AE20: 0 | AF20: 0 | AG20: =SUM(C20:AF20) -> 58 | AH20: =Maret!AJ20 -> 153 | AI20: =AG20+AH20 -> 211 | AJ20: =Maret!AN20 -> 120 | AK20: =Maret!AO20 -> 33 | AL20: 39 | AM20: =AJ20+AL20 -> 159 | AN20: =AI20-AM20 -> 52 | AO20: dalam proses
