Workbook

Sheet Januari
A1: LAPORAN BERKAS IZIN MASUK DAN TERPROSES DINAS PENANAMAN MODAL DAN PELAYANAN TERPADU SATU PINTU
A2: KABUPATEN KEBUMEN
A3: Bulan Januari 2017
A5: NO | B5: JENIS IZIN | C5: TANGGAL | AH5: JML PEMOHON | AI5: JML BULAN LALU | AJ5: TOTAL | AK5: TERPROSES (SK) | AL5: KETERANGAN
C6: 1 | D6: 2 | E6: 3 | F6: 4 | G6: 5 | H6: 6 | I6: 7 | J6: 8 | K6: 9 | L6: 10 | M6: 11 | N6: 12 | O6: 13 | P6: 14 | Q6: 15 | R6: 16 | S6: 17 | T6: 18 | U6: 19 | V6: 20 | W6: 21 | X6: 22 | Y6: 23 | Z6: 24 | AA6: 25 | AB6: 26 | AC6: 27 | AD6: 28 | AE6: 29 | AF6: 30 | AG6: 31
A7: 1 | B7: Izin Prinsip | C7: 0 | D7: 0 | E7: 0 | F7: 0 | G7: 0 | H7: 0 | I7: 0 | J7: 0 | K7: 0 | L7: 0 | M7: 0 | N7: 0 | O7: 0 | P7: 0 | Q7: 0 | R7: 0 | S7: 1 | T7: 0 | U7: 0 | V7: 0 | W7: 0 | X7: 0 | Y7: 0 | Z7: 1 | AA7: 0 | AB7: 0 | AC7: 1 | AD7: 0 | AE7: 0 | AF7: 0 | AG7: 2 | AH7: =SUM(C7:AG7) -> 5 | AI7: 0 | AJ7: =AH7+AI7 -> 5 | AK7: 1 | AL7: =AJ7-AK7 -> 4 | AM7: dlm proses
A8: 2 | B8: Izin Lokasi/Izin perencanaan letak penggunaan tanah/ penetapan lokasi | C8: 0 | D8: 0 | E8: 0 | F8: 0 | G8: 0 | H8: 0 | I8: 0 | J8: 0 | K8: 0 | L8: 0 | M8: 1 | N8: 1 | O8: 0 | P8: 0 | Q8: 0 | R8: 0 | S8: 0 | T8: 1 | U8: 1 | V8: 0 | W8: 0 | X8: 0 | Y8: 0 | Z8: 0 | AA8: 0 | AB8: 0 | AC8: 0 | AD8: 0 | AE8: 0 | AF8: 0 | AG8: 0 | AH8: =SUM(C8:AG8) -> 4 | AI8: 0 | AJ8: =AH8+AI8 -> 4 | AK8: 1 | AL8: =AJ8-AK8 -> 3 | AM8: dlm proses
A9: 3 | B9: Izin Gangguan/HO | C9: 0 | D9: 0 | E9: 3 | F9: 1 | G9: 0 | H9: 0 | I9: 0 | J9: 0 | K9: 1 | L9: 0 | M9: 0 | N9: 1 | O9: 1 | P9: 0 | Q9: 0 | R9: 0 | S9: 4 | T9: 0 | U9: 1 | V9: 0 | W9: 0 | X9: 0 | Y9: 0 | Z9: 1 | AA9: 0 | AB9: 0 | AC9: 0 | AD9: 0 | AE9: 0 | AF9: 0 | AG9: 0 | AH9: =SUM(C9:AG9) -> 13 | AI9: 0 | AJ9: =AH9+AI9 -> 13 | AK9: 8 | AL9: =AJ9-AK9 -> 5 | AM9: dlm proses
B10: Izin Gangguan Ulang / HO | C10: 0 | D10: 0 | E10: 0 | F10: 0 | G10: 0 | H10: 0 | I10: 0 | J10: 0 | K10: 0 | L10: 0 | M10: 1 | N10: 0 | O10: 9 | P10: 0 | Q10: 0 | R10: 0 | S10: 0 | T10: 0 | U10: 16 | V10: 7 | W10: 0 | X10: 0 | Y10: 0 | Z10: 4 | AA10: 8 | AB10: 0 | AC10: 0 | AD10: 0 | AE10: 0 | AF10: 0 | AG10: 0 | AH10: =SUM(C10:AG10) -> 45 | AI10: 0 | AJ10: =AH10+AI10 -> 45 | AK10: 43 | AL10: =AJ10-AK10 -> 2 | AM10: dlm proses
A11: 4 | B11: Izin Penggilingan Padi Keliling | C11: 0 | D11: 0 | E11: 0 | F11: 0 | G11: 0 | H11: 0 | I11: 0 | J11: 0 | K11: 0 | L11: 0 | M11: 0 | N11: 0 | O11: 0 | P11: 0 | Q11: 0 | R11: 0 | S11: 0 | T11: 0 | U11: 0 | V11: 0 | W11: 0 | X11: 0 | Y11: 0 | Z11: 0 | AA11: 0 | AB11: 0 | AC11: 0 | AD11: 0 | AE11: 0 | AF11: 0 | AG11: 0 | AH11: =SUM(C11:AG11) -> 0 | AI11: 0 | AJ11: =AH11+AI11 -> 0 | AK11: 0 | AL11: =AJ11-AK11 -> 0
A12: 5 | B12: Izin Usaha Pengangkutan | C12: 0 | D12: 0 | E12: 0 | F12: 0 | G12: 0 | H12: 0 | I12: 0 | J12: 0 | K12: 0 | L12: 0 | M12: 0 | N12: 0 | O12: 0 | P12: 0 | Q12: 0 | R12: 0 | S12: 0 | T12: 0 | U12: 0 | V12: 0 | W12: 0 | X12: 0 | Y12: 0 | Z12: 0 | AA12: 0 | AB12: 0 | AC12: 0 | AD12: 0 | AE12: 0 | AF12: 0 | AG12: 0 | AH12: =SUM(C12:AG12) -> 0 | AI12: 0 | AJ12: =AH12+AI12 -> 0 | AK12: 0 | AL12: =AJ12-AK12 -> 0
A13: 6 | B13: Izin Trayek | C13: 0 | D13: 0 | E13: 0 | F13: 0 | G13: 0 | H13: 0 | I13: 0 | J13: 0 | K13: 0 | L13: 0 | M13: 0 | N13: 0 | O13: 0 | P13: 0 | Q13: 0 | R13: 0 | S13: 0 | T13: 0 | U13: 0 | V13: 0 | W13: 0 | X13: 0 | Y13: 0 | Z13: 0 | AA13: 0 | AB13: 0 | AC13: 0 | AD13: 0 | AE13: 0 | AF13: 0 | AG13: 0 | AH13: =SUM(C13:AG13) -> 0 | AI13: 0 | AJ13: =AH13+AI13 -> 0 | AK13: 0 | AL13: =AJ13-AK13 -> 0
A14: 7 | B14: Izin Insidentil | C14: 0 | D14: 0 | E14: 0 | F14: 0 | G14: 0 | H14: 0 | I14: 0 | J14: 0 | K14: 0 | L14: 0 | M14: 0 | N14: 0 | O14: 0 | P14: 0 | Q14: 0 | R14: 0 | S14: 0 | T14: 0 | U14: 0 | V14: 0 | W14: 0 | X14: 0 | Y14: 0 | Z14: 0 | AA14: 0 | AB14: 0 | AC14: 0 | AD14: 0 | AE14: 0 | AF14: 0 | AG14: 0 | AH14: =SUM(C14:AG14) -> 0 | AI14: 0 | AJ14: =AH14+AI14 -> 0 | AK14: 0 | AL14: =AJ14-AK14 -> 0
A15: 8 | B15: Izin Mendirikan Bangunan (IMB) | C15: 0 | D15: 0 | E15: 3 | F15: 0 | G15: 0 | H15: 0 | I15: 0 | J15: 0 | K15: 1 | L15: 0 | M15: 0 | N15: 1 | O15: 0 | P15: 0 | Q15: 0 | R15: 1 | S15: 2 | T15: 0 | U15: 2 | V15: 0 | W15: 0 | X15: 0 | Y15: 1 | Z15: 1 | AA15: 1 | AB15: 0 | AC15: 0 | AD15: 0 | AE15: 0 | AF15: 1 | AG15: 2 | AH15: =SUM(C15:AG15) -> 16 | AI15: 0 | AJ15: =AH15+AI15 -> 16 | AK15: 5 | AL15: =AJ15-AK15 -> 11 | AM15: dlm proses
A16: 9 | B16: Izin Usaha Industri (IUI) | C16: 0 | D16: 0 | E16: 0 | F16: 0 | G16: 0 | H16: 0 | I16: 0 | J16: 0 | K16: 0 | L16: 0 | M16: 0 | N16: 0 | O16: 0 | P16: 0 | Q16: 0 | R16: 0 | S16: 0 | T16: 0 | U16: 0 | V16: 0 | W16: 0 | X16: 0 | Y16: 0 | Z16: 0 | AA16: 0 | AB16: 0 | AC16: 0 | AD16: 0 | AE16: 0 | AF16: 0 | AG16: 0 | AH16: =SUM(C16:AG16) -> 0 | AI16: 0 | AJ16: =AH16+AI16 -> 0 | AK16: 0 | AL16: =AJ16-AK16 -> 0
A17: 10 | B17: Tanda Daftar Industri (TDI) | C17: 0 | D17: 0 | E17: 0 | F17: 0 | G17: 0 | H17: 0 | I17: 0 | J17: 0 | K17: 0 | L17: 1 | M17: 0 | N17: 0 | O17: 0 | P17: 0 | Q17: 0 | R17: 0 | S17: 1 | T17: 0 | U17: 0 | V17: 0 | W17: 0 | X17: 0 | Y17: 0 | Z17: 0 | AA17: 0 | AB17: 0 | AC17: 0 | AD17: 0 | AE17: 0 | AF17: 0 | AG17: 0 | AH17: =SUM(C17:AG17) -> 2 | AI17: 0 | AJ17: =AH17+AI17 -> 2 | AK17: 0 | AL17: =AJ17-AK17 -> 2 | AM17: dlm proses
A18: 11 | B18: Surat Izin Usaha Perdagangan (SIUP) | C18: 0 | D18: 0 | E18: 1 | F18: 1 | G18: 1 | H18: 5 | I18: 0 | J18: 0 | K18: 2 | L18: 1 | M18: 1 | N18: 1 | O18: 2 | P18: 0 | Q18: 0 | R18: 2 | S18: 1 | T18: 3 | U18: 0 | V18: 2 | W18: 0 | X18: 0 | Y18: 1 | Z18: 6 | AA18: 3 | AB18: 2 | AC18: 2 | AD18: 0 | AE18: 0 | AF18: 1 | AG18: 3 | AH18: =SUM(C18:AG18) -> 41 | AI18: 0 | AJ18: =AH18+AI18 -> 41 | AK18: 26 | AL18: =AJ18-AK18 -> 15 | AM18: dlm proses
B19: Surat Izin Usaha Perdagangan (SIUP) perpanjangan | C19: 0 | D19: 0 | E19: 0 | F19: 1 | G19: 1 | H19: 0 | I19: 0 | J19: 0 | K19: 0 | L19: 0 | M19: 1 | N19: 0 | O19: 3 | P19: 0 | Q19: 0 | R19: 2 | S19: 1 | T19: 0 | U19: 1 | V19: 1 | W19: 0 | X19: 0 | Y19: 0 | Z19: 0 | AA19: 1 | AB19: 0 | AC19: 2 | AD19: 0 | AE19: 0 | AF19: 2 | AG19: 0 | AH19: =SUM(C19:AG19) -> 16 | AI19: 0 | AJ19: =AH19+AI19 -> 16 | AK19: 16 | AL19: =AJ19-AK19 -> 0
A20: 12 | B20: Tanda Daftar Gudang (TDG) | C20: 0 | D20: 0 | E20: 1 | F20: 1 | G20: 0 | H20: 0 | I20: 0 | J20: 0 | K20: 0 | L20: 0 | M20: 0 | N20: 0 | O20: 0 | P20: 0 | Q20: 0 | R20: 0 | S20: 0 | T20: 0 | U20: 0 | V20: 0 | W20: 0 | X20: 0 | Y20: 2 | Z20: 0 | AA20: 0 | AB20: 0 | AC20: 0 | AD20: 0 | AE20: 0 | AF20: 0 | AG20: 0 | AH20: =SUM(C20:AG20) -> 4 | AI20: 0 | AJ20: =AH20+AI20 -> 4 | AK20: 1 | AL20: =AJ20-AK20 -> 3 | AM20: dlm proses
A21: 13 | B21: Tanda Daftar Perusahaan (TDP) | C21: 0 | D21: 0 | E21: 1 | F21: 1 | G21: 1 | H21: 4 | I21: 0 | J21: 0 | K21: 2 | L21: 1 | M21: 1 | N21: 1 | O21: 1 | P21: 0 | Q21: 0 | R21: 2 | S21: 1 | T21: 3 | U21: 0 | V21: 1 | W21: 0 | X21: 0 | Y21: 1 | Z21: 0 | AA21: 3 | AB21: 2 | AC21: 2 | AD21: 0 | AE21: 0 | AF21: 1 | AG21: 1 | AH21: =SUM(C21:AG21) -> 30 | AI21: 0 | AJ21: =AH21+AI21 -> 30 | AK21: 14 | AL21: =AJ21-AK21 -> 16 | AM21: dlm proses
B22: Tanda Daftar Perusahaan (TDP) perpanjangan | C22: 0 | D22: 0 | E22: 0 | F22: 1 | G22: 2 | H22: 0 | I22: 0 | J22: 0 | K22: 1 | L22: 0 | M22: 0 | N22: 0 | O22: 3 | P22: 0 | Q22: 0 | R22: 3 | S22: 2 | T22: 0 | U22: 1 | V22: 1 | W22: 0 | X22: 0 | Y22: 1 | Z22: 6 | AA22: 0 | AB22: 0 | AC22: 1 | AD22: 0 | AE22: 0 | AF22: 2 | AG22: 0 | AH22: =SUM(C22:AG22) -> 24 | AI22: 0 | AJ22: =AH22+AI22 -> 24 | AK22: 14 | AL22: =AJ22-AK22 -> 10 | AM22: dlm proses
A23: 14 | B23: Izin Usaha Jasa Kontruksi (IUJK) | C23: 0 | D23: 0 | E23: 0 | F23: 1 | G23: 0 | H23: 1 | I23: 0 | J23: 0 | K23: 0 | L23: 0 | M23: 1 | N23: 1 | O23: 1 | P23: 0 | Q23: 0 | R23: 0 | S23: 0 | T23: 0 | U23: 1 | V23: 0 | W23: 0 | X23: 0 | Y23: 0 | Z23: 2 | AA23: 0 | AB23: 0 | AC23: 0 | AD23: 0 | AE23: 0 | AF23: 0 | AG23: 0 | AH23: =SUM(C23:AG23) -> 8 | AI23: 0 | AJ23: =AH23+AI23 -> 8 | AK23: 0 | AL23: =AJ23-AK23 -> 8 | AM23: dlm proses
B24: Kartu Penanggungjawab Teknik Badan (KPTJBU) | C24: 0 | D24: 0 | E24: 0 | F24: 0 | G24: 0 | H24: 1 | I24: 0 | J24: 0 | K24: 0 | L24: 0 | M24: 1 | N24: 1 | O24: 1 | P24: 0 | Q24: 0 | R24: 0 | S24: 0 | T24: 0 | U24: 1 | V24: 0 | W24: 0 | X24: 0 | Y24: 0 | Z24: 1 | AA24: 0 | AB24: 0 | AC24: 0 | AD24: 0 | AE24: 0 | AF24: 0 | AG24: 0 | AH24: =SUM(C24:AG24) -> 6 | AI24: 0 | AJ24: =AH24+AI24 -> 6 | AK24: 6 | AL24: =AJ24-AK24 -> 0
A25: 15 | B25: Tanda Daftar Usaha Pariwisata | C25: 0 | D25: 0 | E25: 0 | F25: 1 | G25: 0 | H25: 0 | I25: 0 | J25: 0 | K25: 0 | L25: 0 | M25: 1 | N25: 0 | O25: 0 | P25: 0 | Q25: 0 | R25: 0 | S25: 0 | T25: 0 | U25: 0 | V25: 0 | W25: 0 | X25: 0 | Y25: 1 | Z25: 0 | AA25: 0 | AB25: 0 | AC25: 0 | AD25: 0 | AE25: 0 | AF25: 0 | AG25: 0 | AH25: =SUM(C25:AG25) -> 3 | AI25: 0 | AJ25: =AH25+AI25 -> 3 | AK25: 1 | AL25: =AJ25-AK25 -> 2 | AM25: dlm proses
A26: 16 | B26: Izin Penggunaan Gedung Juang | C26: 0 | D26: 0 | E26: 0 | F26: 0 | G26: 1 | H26: 0 | I26: 0 | J26: 0 | K26: 0 | L26: 0 | M26: 1 | N26: 0 | O26: 0 | P26: 0 | Q26: 0 | R26: 0 | S26: 0 | T26: 0 | U26: 0 | V26: 0 | W26: 0 | X26: 0 | Y26: 0 | Z26: 0 | AA26: 0 | AB26: 0 | AC26: 0 | AD26: 0 | AE26: 0 | AF26: 1 | AG26: 0 | AH26: =SUM(C26:AG26) -> 3 | AI26: 0 | AJ26: =AH26+AI26 -> 3 | AK26: 1 | AL26: =AJ26-AK26 -> 2 | AM26: dlm proses
A27: 17 | B27: Izin Penggunaan Stadion Candradimuka | C27: 0 | D27: 0 | E27: 0 | F27: 0 | G27: 0 | H27: 0 | I27: 0 | J27: 0 | K27: 0 | L27: 0 | M27: 0 | N27: 0 | O27: 0 | P27: 0 | Q27: 0 | R27: 0 | S27: 0 | T27: 0 | U27: 0 | V27: 0 | W27: 0 | X27: 0 | Y27: 0 | Z27: 0 | AA27: 0 | AB27: 0 | AC27: 0 | AD27: 0 | AE27: 0 | AF27: 0 | AG27: 0 | AH27: =SUM(C27:AG27) -> 0 | AI27: 0 | AJ27: =AH27+AI27 -> 0 | AK27: 0 | AL27: =AJ27-AK27 -> 0
A28: 18 | B28: Izin Penggunaan Alun-alun Kebumen | C28: 0 | D28: 0 | E28: 0 | F28: 0 | G28: 0 | H28: 0 | I28: 0 | J28: 0 | K28: 0 | L28: 0 | M28: 0 | N28: 0 | O28: 0 | P28: 0 | Q28: 0 | R28: 0 | S28: 0 | T28: 0 | U28: 0 | V28: 0 | W28: 0 | X28: 0 | Y28: 0 | Z28: 0 | AA28: 0 | AB28: 0 | AC28: 0 | AD28: 0 | AE28: 0 | AF28: 1 | AG28: 0 | AH28: =SUM(C28:AG28) -> 1 | AI28: 0 | AJ28: =AH28+AI28 -> 1 | AK28: 1 | AL28: =AJ28-AK28 -> 0
A29: 19 | B29: Izin Pemasangan Reklame | C29: 0 | D29: 0 | E29: 3 | F29: 1 | G29: 0 | H29: 1 | I29: 0 | J29: 0 | K29: 2 | L29: 1 | M29: 23 | N29: 2 | O29: 1 | P29: 0 | Q29: 0 | R29: 2 | S29: 4 | T29: 0 | U29: 2 | V29: 0 | W29: 0 | X29: 0 | Y29: 0 | Z29: 2 | AA29: 1 | AB29: 3 | AC29: 1 | AD29: 0 | AE29: 0 | AF29: 1 | AG29: 1 | AH29: =SUM(C29:AG29) -> 51 | AI29: 0 | AJ29: =AH29+AI29 -> 51 | AK29: 51 | AL29: =AJ29-AK29 -> 0
A30: 20 | B30: Izin Pengelolaan Sarang Burung Lawet | C30: 0 | D30: 0 | E30: 0 | F30: 0 | G30: 0 | H30: 0 | I30: 0 | J30: 0 | K30: 0 | L30: 0 | M30: 0 | N30: 0 | O30: 0 | P30: 0 | Q30: 0 | R30: 0 | S30: 0 | T30: 0 | U30: 0 | V30: 0 | W30: 0 | X30: 0 | Y30: 0 | Z30: 0 | AA30: 0 | AB30: 0 | AC30: 0 | AD30: 0 | AE30: 0 | AF30: 0 | AG30: 0 | AH30: =SUM(C30:AG30) -> 0 | AI30: 0 | AJ30: =AH30+AI30 -> 0 | AK30: 0 | AL30: =AJ30-AK30 -> 0
A31: 21 | B31: Izin Mendirikan Rumah Sakit Umum | C31: 0 | D31: 0 | E31: 0 | F31: 0 | G31: 0 | H31: 0 | I31: 0 | J31: 0 | K31: 0 | L31: 0 | M31: 0 | N31: 0 | O31: 0 | P31: 0 | Q31: 0 | R31: 0 | S31: 0 | T31: 0 | U31: 0 | V31: 0 | W31: 0 | X31: 0 | Y31: 0 | Z31: 0 | AA31: 0 | AB31: 0 | AC31: 0 | AD31: 0 | AE31: 0 | AF31: 0 | AG31: 0 | AH31: =SUM(C31:AG31) -> 0 | AI31: 0 | AJ31: =AH31+AI31 -> 0 | AK31: 0 | AL31: =AJ31-AK31 -> 0
A32: 22 | B32: Izin Mendirikan Rumah Sakit Khusus | C32: 0 | D32: 0 | E32: 0 | F32: 0 | G32: 0 | H32: 0 | I32: 0 | J32: 0 | K32: 0 | L32: 0 | M32: 0 | N32: 0 | O32: 0 | P32: 0 | Q32: 0 | R32: 0 | S32: 0 | T32: 0 | U32: 0 | V32: 0 | W32: 0 | X32: 0 | Y32: 0 | Z32: 0 | AA32: 0 | AB32: 0 | AC32: 0 | AD32: 0 | AE32: 0 | AF32: 0 | AG32: 0 | AH32: =SUM(C32:AG32) -> 0 | AI32: 0 | AJ32: =AH32+AI32 -> 0 | AK32: 0 | AL32: =AJ32-AK32 -> 0
A33: 23 | B33: Izin Klinik Pratama | C33: 0 | D33: 0 | E33: 0 | F33: 0 | G33: 0 | H33: 0 | I33: 0 | J33: 0 | K33: 0 | L33: 0 | M33: 0 | N33: 0 | O33: 0 | P33: 0 | Q33: 0 | R33: 0 | S33: 0 | T33: 0 | U33: 0 | V33: 0 | W33: 0 | X33: 0 | Y33: 0 | Z33: 0 | AA33: 0 | AB33: 0 | AC33: 0 | AD33: 0 | AE33: 0 | AF33: 0 | AG33: 0 | AH33: =SUM(C33:AG33) -> 0 | AI33: 0 | AJ33: =AH33+AI33 -> 0 | AK33: 0 | AL33: =AJ33-AK33 -> 0
A34: 24 | B34: Izin Klinik Utama | C34: 0 | D34: 0 | E34: 0 | F34: 0 | G34: 0 | H34: 0 | I34: 0 | J34: 0 | K34: 0 | L34: 0 | M34: 0 | N34: 0 | O34: 0 | P34: 0 | Q34: 0 | R34: 0 | S34: 0 | T34: 0 | U34: 0 | V34: 0 | W34: 0 | X34: 0 | Y34: 0 | Z34: 0 | AA34: 0 | AB34: 0 | AC34: 0 | AD34: 0 | AE34: 0 | AF34: 0 | AG34: 0 | AH34: =SUM(C34:AG34) -> 0 | AI34: 0 | AJ34: =AH34+AI34 -> 0 | AK34: 0 | AL34: =AJ34-AK34 -> 0
A35: 25 | B35: Izin Laboratorium Klinik Pratama | C35: 0 | D35: 0 | E35: 0 | F35: 0 | G35: 0 | H35: 0 | I35: 0 | J35: 0 | K35: 0 | L35: 0 | M35: 0 | N35: 0 | O35: 0 | P35: 0 | Q35: 0 | R35: 0 | S35: 0 | T35: 0 | U35: 0 | V35: 0 | W35: 0 | X35: 0 | Y35: 0 | Z35: 0 | AA35: 0 | AB35: 0 | AC35: 0 | AD35: 0 | AE35: 0 | AF35: 0 | AG35: 0 | AH35: =SUM(C35:AG35) -> 0 | AI35: 0 | AJ35: =AH35+AI35 -> 0 | AK35: 0 | AL35: =AJ35-AK35 -> 0
A36: 26 | B36: Izin Laboratorium Klinik Utama | C36: 0 | D36: 0 | E36: 0 | F36: 0 | G36: 0 | H36: 0 | I36: 0 | J36: 0 | K36: 0 | L36: 0 | M36: 0 | N36: 0 | O36: 0 | P36: 0 | Q36: 0 | R36: 0 | S36: 0 | T36: 0 | U36: 0 | V36: 0 | W36: 0 | X36: 0 | Y36: 0 | Z36: 0 | AA36: 0 | AB36: 0 | AC36: 0 | AD36: 0 | AE36: 0 | AF36: 0 | AG36: 0 | AH36: =SUM(C36:AG36) -> 0 | AI36: 0 | AJ36: =AH36+AI36 -> 0 | AK36: 0 | AL36: =AJ36-AK36 -> 0
A37: 27 | B37: Izin Apotik | C37: 0 | D37: 0 | E37: 0 | F37: 0 | G37: 0 | H37: 1 | I37: 0 | J37: 0 | K37: 0 | L37: 0 | M37: 0 | N37: 0 | O37: 1 | P37: 0 | Q37: 0 | R37: 0 | S37: 0 | T37: 0 | U37: 0 | V37: 0 | W37: 0 | X37: 0 | Y37: 0 | Z37: 0 | AA37: 0 | AB37: 1 | AC37: 0 | AD37: 0 | AE37: 0 | AF37: 1 | AG37: 0 | AH37: =SUM(C37:AG37) -> 4 | AI37: 0 | AJ37: =AH37+AI37 -> 4 | AK37: 3 | AL37: =AJ37-AK37 -> 1 | AM37: dlm proses
A38: 28 | B38: Izin Toko Obat | C38: 0 | D38: 0 | E38: 0 | F38: 0 | G38: 0 | H38: 0 | I38: 0 | J38: 0 | K38: 0 | L38: 0 | M38: 0 | N38: 0 | O38: 0 | P38: 0 | Q38: 0 | R38: 0 | S38: 0 | T38: 0 | U38: 0 | V38: 0 | W38: 0 | X38: 0 | Y38: 0 | Z38: 0 | AA38: 0 | AB38: 0 | AC38: 0 | AD38: 0 | AE38: 0 | AF38: 0 | AG38: 0 | AH38: =SUM(C38:AG38) -> 0 | AI38: 0 | AJ38: =AH38+AI38 -> 0 | AK38: 0 | AL38: =AJ38-AK38 -> 0
A39: 29 | B39: Izin optik | C39: 0 | D39: 0 | E39: 0 | F39: 0 | G39: 0 | H39: 0 | I39: 0 | J39: 0 | K39: 0 | L39: 0 | M39: 0 | N39: 0 | O39: 0 | P39: 0 | Q39: 0 | R39: 0 | S39: 0 | T39: 0 | U39: 0 | V39: 0 | W39: 0 | X39: 0 | Y39: 0 | Z39: 0 | AA39: 0 | AB39: 0 | AC39: 0 | AD39: 0 | AE39: 0 | AF39: 0 | AG39: 0 | AH39: =SUM(C39:AG39) -> 0 | AI39: 0 | AJ39: =AH39+AI39 -> 0 | AK39: 0 | AL39: =AJ39-AK39 -> 0
A40: 30 | B40: Izin Industri Rumah Tangga Makanan Minuman (PIRT) | C40: 0 | D40: 0 | E40: 1 | F40: 3 | G40: 0 | H40: 1 | I40: 0 | J40: 0 | K40: 0 | L40: 1 | M40: 0 | N40: 0 | O40: 1 | P40: 0 | Q40: 0 | R40: 1 | S40: 1 | T40: 1 | U40: 1 | V40: 0 | W40: 0 | X40: 0 | Y40: 1 | Z40: 1 | AA40: 0 | AB40: 3 | AC40: 0 | AD40: 0 | AE40: 0 | AF40: 0 | AG40: 1 | AH40: =SUM(C40:AG40) -> 17 | AI40: 0 | AJ40: =AH40+AI40 -> 17 | AK40: 6 | AL40: =AJ40-AK40 -> 11 | AM40: dlm proses
A41: 31 | B41: Tanda Daftar Depot Air Minum | C41: 0 | D41: 0 | E41: 1 | F41: 0 | G41: 0 | H41: 0 | I41: 0 | J41: 0 | K41: 0 | L41: 0 | M41: 0 | N41: 0 | O41: 0 | P41: 0 | Q41: 0 | R41: 0 | S41: 0 | T41: 0 | U41: 0 | V41: 0 | W41: 0 | X41: 0 | Y41: 0 | Z41: 0 | AA41: 1 | AB41: 0 | AC41: 0 | AD41: 0 | AE41: 0 | AF41: 0 | AG41: 0 | AH41: =SUM(C41:AG41) -> 2 | AI41: 0 | AJ41: =AH41+AI41 -> 2 | AK41: 1 | AL41: =AJ41-AK41 -> 1 | AM41: dlm proses
A42: 32 | B42: Tanda Daftar Pengobatan Tradisional | C42: 0 | D42: 0 | E42: 0 | F42: 0 | G42: 0 | H42: 0 | I42: 0 | J42: 0 | K42: 0 | L42: 0 | M42: 0 | N42: 0 | O42: 0 | P42: 0 | Q42: 0 | R42: 0 | S42: 0 | T42: 0 | U42: 0 | V42: 0 | W42: 0 | X42: 0 | Y42: 0 | Z42: 0 | AA42: 0 | AB42: 0 | AC42: 0 | AD42: 0 | AE42: 0 | AF42: 0 | AG42: 0 | AH42: =SUM(C42:AG42) -> 0 | AI42: 0 | AJ42: =AH42+AI42 -> 0 | AK42: 0 | AL42: =AJ42-AK42 -> 0
A43: 33 | B43: Izin Operasional Pendirian Bursa Kerja Khusus (BKK) | C43: 0 | D43: 0 | E43: 0 | F43: 0 | G43: 0 | H43: 0 | I43: 0 | J43: 0 | K43: 0 | L43: 0 | M43: 0 | N43: 0 | O43: 0 | P43: 0 | Q43: 0 | R43: 0 | S43: 0 | T43: 0 | U43: 0 | V43: 0 | W43: 0 | X43: 0 | Y43: 0 | Z43: 0 | AA43: 0 | AB43: 0 | AC43: 0 | AD43: 0 | AE43: 0 | AF43: 0 | AG43: 0 | AH43: =SUM(C43:AG43) -> 0 | AI43: 0 | AJ43: =AH43+AI43 -> 0 | AK43: 0 | AL43: =AJ43-AK43 -> 0
A44: 34 | B44: Izin Usaha Pelatihan Kerja | C44: 0 | D44: 0 | E44: 0 | F44: 0 | G44: 0 | H44: 0 | I44: 0 | J44: 0 | K44: 0 | L44: 0 | M44: 0 | N44: 0 | O44: 0 | P44: 0 | Q44: 0 | R44: 0 | S44: 0 | T44: 0 | U44: 0 | V44: 0 | W44: 0 | X44: 0 | Y44: 0 | Z44: 0 | AA44: 0 | AB44: 0 | AC44: 0 | AD44: 0 | AE44: 0 | AF44: 0 | AG44: 1 | AH44: =SUM(C44:AG44) -> 1 | AI44: 0 | AJ44: =AH44+AI44 -> 1 | AK44: 0 | AL44: =AJ44-AK44 -> 1 | AM44: dlm proses
A45: 35 | B45: Izin Perusahaan Penyedia Jasa Buruh ( Out Sourching) | C45: 0 | D45: 0 | E45: 0 | F45: 0 | G45: 0 | H45: 0 | I45: 0 | J45: 0 | K45: 0 | L45: 0 | M45: 0 | N45: 0 | O45: 0 | P45: 0 | Q45: 0 | R45: 0 | S45: 0 | T45: 0 | U45: 0 | V45: 0 | W45: 0 | X45: 0 | Y45: 0 | Z45: 0 | AA45: 0 | AB45: 0 | AC45: 0 | AD45: 0 | AE45: 0 | AF45: 0 | AG45: 0 | AH45: =SUM(C45:AG45) -> 0 | AI45: 0 | AJ45: =AH45+AI45 -> 0 | AK45: 0 | AL45: =AJ45-AK45 -> 0
A46: 36 | B46: Izin Pembuatan Tambak | C46: 0 | D46: 0 | E46: 0 | F46: 0 | G46: 0 | H46: 0 | I46: 0 | J46: 0 | K46: 0 | L46: 0 | M46: 0 | N46: 0 | O46: 0 | P46: 0 | Q46: 0 | R46: 0 | S46: 0 | T46: 0 | U46: 0 | V46: 0 | W46: 0 | X46: 0 | Y46: 0 | Z46: 0 | AA46: 0 | AB46: 0 | AC46: 0 | AD46: 0 | AE46: 0 | AF46: 0 | AG46: 0 | AH46: =SUM(C46:AG46) -> 0 | AI46: 0 | AJ46: =AH46+AI46 -> 0 | AK46: 0 | AL46: =AJ46-AK46 -> 0
A47: 37 | B47: Izin Usaha Perikanan | C47: 0 | D47: 0 | E47: 0 | F47: 0 | G47: 0 | H47: 0 | I47: 0 | J47: 0 | K47: 0 | L47: 0 | M47: 0 | N47: 0 | O47: 0 | P47: 0 | Q47: 0 | R47: 0 | S47: 0 | T47: 0 | U47: 0 | V47: 0 | W47: 0 | X47: 0 | Y47: 0 | Z47: 0 | AA47: 0 | AB47: 0 | AC47: 0 | AD47: 0 | AE47: 0 | AF47: 0 | AG47: 0 | AH47: =SUM(C47:AG47) -> 0 | AI47: 0 | AJ47: =AH47+AI47 -> 0 | AK47: 0 | AL47: =AJ47-AK47 -> 0
A48: 38 | B48: Izin Usaha Peternakan | C48: 0 | D48: 0 | E48: 0 | F48: 0 | G48: 0 | H48: 0 | I48: 0 | J48: 0 | K48: 0 | L48: 0 | M48: 0 | N48: 0 | O48: 0 | P48: 0 | Q48: 0 | R48: 0 | S48: 0 | T48: 0 | U48: 0 | V48: 0 | W48: 0 | X48: 0 | Y48: 0 | Z48: 0 | AA48: 0 | AB48: 0 | AC48: 0 | AD48: 0 | AE48: 0 | AF48: 0 | AG48: 0 | AH48: =SUM(C48:AG48) -> 0 | AI48: 0 | AJ48: =AH48+AI48 -> 0 | AK48: 0 | AL48: =AJ48-AK48 -> 0
A49: 39 | B49: Izin Pemakaian Tanah Pengairan | C49: 0 | D49: 0 | E49: 0 | F49: 0 | G49: 0 | H49: 0 | I49: 0 | J49: 0 | K49: 0 | L49: 0 | M49: 0 | N49: 0 | O49: 0 | P49: 0 | Q49: 0 | R49: 0 | S49: 0 | T49: 0 | U49: 0 | V49: 0 | W49: 0 | X49: 0 | Y49: 0 | Z49: 0 | AA49: 0 | AB49: 0 | AC49: 0 | AD49: 0 | AE49: 0 | AF49: 0 | AG49: 0 | AH49: =SUM(C49:AG49) -> 0 | AI49: 0 | AJ49: =AH49+AI49 -> 0 | AK49: 0 | AL49: =AJ49-AK49 -> 0
A50: 40 | B50: Izin Tebang dan Pengangkutan Kayu Rakyat | C50: 0 | D50: 0 | E50: 0 | F50: 0 | G50: 0 | H50: 0 | I50: 0 | J50: 0 | K50: 0 | L50: 0 | M50: 0 | N50: 0 | O50: 0 | P50: 0 | Q50: 0 | R50: 0 | S50: 0 | T50: 0 | U50: 0 | V50: 0 | W50: 0 | X50: 0 | Y50: 0 | Z50: 0 | AA50: 0 | AB50: 0 | AC50: 0 | AD50: 0 | AE50: 0 | AF50: 0 | AG50: 0 | AH50: =SUM(C50:AG50) -> 0 | AI50: 0 | AJ50: =AH50+AI50 -> 0 | AK50: 0 | AL50: =AJ50-AK50 -> 0
A51: 41 | B51: Izin Penggunaaan Tanah/Bangunan Milik Pemerintah Kabupaten | C51: 0 | D51: 0 | E51: 0 | F51: 0 | G51: 0 | H51: 0 | I51: 0 | J51: 0 | K51: 0 | L51: 0 | M51: 0 | N51: 0 | O51: 0 | P51: 0 | Q51: 0 | R51: 0 | S51: 0 | T51: 0 | U51: 0 | V51: 0 | W51: 0 | X51: 0 | Y51: 0 | Z51: 0 | AA51: 0 | AB51: 0 | AC51: 0 | AD51: 0 | AE51: 0 | AF51: 0 | AG51: 0 | AH51: =SUM(C51:AG51) -> 0 | AI51: 0 | AJ51: =AH51+AI51 -> 0 | AK51: 0 | AL51: =AJ51-AK51 -> 0
A52: 42 | B52: Izin Penempatan Kios /Los | C52: 0 | D52: 0 | E52: 0 | F52: 0 | G52: 0 | H52: 0 | I52: 0 | J52: 0 | K52: 0 | L52: 0 | M52: 0 | N52: 0 | O52: 0 | P52: 0 | Q52: 0 | R52: 0 | S52: 0 | T52: 0 | U52: 0 | V52: 0 | W52: 0 | X52: 0 | Y52: 15 | Z52: 0 | AA52: 0 | AB52: 0 | AC52: 12 | AD52: 0 | AE52: 0 | AF52: 0 | AG52: 0 | AH52: =SUM(C52:AG52) -> 27 | AI52: 0 | AJ52: =AH52+AI52 -> 27 | AK52: 0 | AL52: =AJ52-AK52 -> 27 | AM52: dlm proses
A53: 43 | B53: Limbah B3 | C53: 0 | D53: 0 | E53: 0 | F53: 0 | G53: 0 | H53: 0 | I53: 0 | J53: 0 | K53: 0 | L53: 0 | M53: 0 | N53: 0 | O53: 0 | P53: 0 | Q53: 0 | R53: 0 | S53: 0 | T53: 0 | U53: 0 | V53: 0 | W53: 0 | X53: 0 | Y53: 1 | Z53: 0 | AA53: 0 | AB53: 0 | AC53: 0 | AD53: 0 | AE53: 0 | AF53: 0 | AG53: 0 | AH53: =SUM(C53:AG53) -> 1 | AI53: 0 | AJ53: =AH53+AI53 -> 1 | AK53: 0 | AL53: =AJ53-AK53 -> 1 | AM53: dlm proses
A54: 44 | B54: Izin Operasional Rumah Sakit / Klinik | C54: 0 | D54: 0 | E54: 1 | F54: 0 | G54: 0 | H54: 0 | I54: 0 | J54: 0 | K54: 0 | L54: 0 | M54: 0 | N54: 0 | O54: 1 | P54: 0 | Q54: 0 | R54: 0 | S54: 0 | T54: 0 | U54: 0 | V54: 0 | W54: 0 | X54: 0 | Y54: 0 | Z54: 1 | AA54: 0 | AB54: 0 | AC54: 0 | AD54: 0 | AE54: 0 | AF54: 0 | AG54: 0 | AH54: =SUM(C54:AG54) -> 3 | AI54: 0 | AJ54: =AH54+AI54 -> 3 | AK54: 0 | AL54: =AJ54-AK54 -> 3 | AM54: dlm proses
A55: 45 | B55: Izin Lingkungan | C55: 0 | D55: 0 | E55: 0 | F55: 1 | G55: 0 | H55: 0 | I55: 0 | J55: 0 | K55: 0 | L55: 0 | M55: 0 | N55: 0 | O55: 0 | P55: 0 | Q55: 0 | R55: 0 | S55: 1 | T55: 0 | U55: 0 | V55: 1 | W55: 0 | X55: 0 | Y55: 0 | Z55: 0 | AA55: 0 | AB55: 0 | AC55: 0 | AD55: 0 | AE55: 0 | AF55: 0 | AG55: 0 | AH55: =SUM(C55:AG55) -> 3 | AI55: 0 | AJ55: =AH55+AI55 -> 3 | AK55: 3 | AL55: =AJ55-AK55 -> 0
A56: 46 | B56: Izin Tukang Gigi | C56: 0 | D56: 0 | E56: 0 | F56: 0 | G56: 43 | H56: 0 | I56: 0 | J56: 0 | K56: 0 | L56: 0 | M56: 0 | N56: 0 | O56: 0 | P56: 0 | Q56: 0 | R56: 0 | S56: 0 | T56: 0 | U56: 0 | V56: 0 | W56: 0 | X56: 0 | Y56: 0 | Z56: 0 | AA56: 0 | AB56: 0 | AC56: 0 | AD56: 0 | AE56: 0 | AF56: 0 | AG56: 0 | AH56: =SUM(C56:AG56) -> 43 | AI56: 0 | AJ56: =AH56+AI56 -> 43 | AK56: 9 | AL56: =AJ56-AK56 -> 34 | AM56: dlm proses
A57: Jumlah | C57: =SUM(C7:C56) -> 0 | D57: =SUM(D7:D56) -> 0 | E57: =SUM(E7:E56) -> 15 | F57: =SUM(F7:F56) -> 13 | G57: =SUM(G7:G56) -> 49 | H57: =SUM(H7:H56) -> 14 | I57: =SUM(I7:I56) -> 0 | J57: =SUM(J7:J56) -> 0 | ... AL57: =SUM(AL7:AL56) -> 162
AB59: Kebumen, 01 Februari 2017
AB60: KEPALA DINAS PENANAMAN MODAL
AB61: DAN PELAYANAN TERPADU SATU PINTU
AB62: KABUPATEN KEBUMEN
AB67: Drs. H. Hery Setyanto
AB68: Pembina Utama Muda
AB69: NIP. 19601023 199001 1 001

Sheet Februari
A1: LAPORAN BERKAS IZIN MASUK DAN TERPROSES DINAS PENANAMAN MODAL DAN PELAYANAN TERPADU SATU PINTU
A2: KABUPATEN KEBUMEN
A3: Bulan Februari 2017
A5: NO | B5: JENIS IZIN | C5: TANGGAL | AE5: PEMOHON BLN INI | AF5: PEMOHON BULAN LALU | AG5: TOTAL PERMOHONAN | AH5: TERPROSES BULAN LALU | AI5: DALAM PROSES BULAN LALU | AJ5: TERPROSES BLN INI (SK) | AK5: TOTAL TERPROSES | AL5: IZIN BELUM JADI | AM5: KETERANGAN
C6: 1 | D6: 2 | E6: 3 | F6: 4 | G6: 5 | H6: 6 | I6: 7 | J6: 8 | K6: 9 | L6: 10 | M6: 11 | N6: 12 | O6: 13 | P6: 14 | Q6: 15 | R6: 16 | S6: 17 | T6: 18 | U6: 19 | V6: 20 | W6: 21 | X6: 22 | Y6: 23 | Z6: 24 | AA6: 25 | AB6: 26 | AC6: 27 | AD6: 28
A7: 1 | B7: Izin Prinsip | C7: 0 | D7: 1 | E7: 0 | F7: 0 | G7: 0 | H7: 0 | I7: 0 | J7: 0 | K7: 0 | L7: 0 | M7: 0 | N7: 0 | O7: 2 | P7: 1 | Q7: 0 | R7: 4 | S7: 0 | T7: 0 | U7: 0 | V7: 2 | W7: 6 | X7: 0 | Y7: 2 | Z7: 1 | AA7: 0 | AB7: 0 | AC7: 3 | AD7: 0 | AE7: =SUM(C7:AD7) -> 22 | AF7: =Januari!AJ7 -> 5 | AG7: =AE7+AF7 -> 27 | AH7: =Januari!AK7 -> 1 | AI7: =Januari!AL7 -> 4 | AJ7: 5 | AK7: =AH7+AJ7 -> 6 | AL7: =AG7-AK7 -> 21 | AM7: dalam proses
A8: 2 | B8: Izin Lokasi/Izin perencanaan letak penggunaan tanah/ penetapan lokasi | C8: 0 | D8: 0 | E8: 0 | F8: 0 | G8: 0 | H8: 0 | I8: 0 | J8: 0 | K8: 0 | L8: 0 | M8: 0 | N8: 0 | O8: 2 | P8: 0 | Q8: 0 | R8: 0 | S8: 0 | T8: 0 | U8: 0 | V8: 1 | W8: 0 | X8: 0 | Y8: 1 | Z8: 0 | AA8: 0 | AB8: 0 | AC8: 0 | AD8: 0 | AE8: =SUM(C8:AD8) -> 4 | AF8: =Januari!AJ8 -> 4 | AG8: =AE8+AF8 -> 8 | AH8: =Januari!AK8 -> 1 | AI8: =Januari!AL8 -> 3 | AJ8: 2 | AK8: =AH8+AJ8 -> 3 | AL8: =AG8-AK8 -> 5 | AM8: dalam proses
A9: 3 | B9: Izin Gangguan/HO | C9: 1 | D9: 0 | E9: 0 | F9: 0 | G9: 0 | H9: 0 | I9: 1 | J9: 1 | K9: 1 | L9: 0 | M9: 0 | N9: 0 | O9: 1 | P9: 0 | Q9: 0 | R9: 1 | S9: 0 | T9: 0 | U9: 0 | V9: 1 | W9: 0 | X9: 0 | Y9: 1 | Z9: 0 | AA9: 0 | AB9: 0 | AC9: 1 | AD9: 2 | AE9: =SUM(C9:AD9) -> 11 | AF9: =Januari!AJ9 -> 13 | AG9: =AE9+AF9 -> 24 | AH9: =Januari!AK9 -> 8 | AI9: =Januari!AL9 -> 5 | AJ9: 4 | AK9: =AH9+AJ9 -> 12 | AL9: =AG9-AK9 -> 12 | AM9: dalam proses
B10: Izin Gangguan Ulang / HO | C10: 1 | D10: 1 | E10: 0 | F10: 0 | G10: 0 | H10: 0 | I10: 0 | J10: 0 | K10: 0 | L10: 0 | M10: 0 | N10: 0 | O10: 0 | P10: 1 | Q10: 0 | R10: 0 | S10: 0 | T10: 0 | U10: 0 | V10: 1 | W10: 1 | X10: 0 | Y10: 0 | Z10: 1 | AA10: 0 | AB10: 0 | AC10: 0 | AD10: 0 | AE10: =SUM(C10:AD10) -> 6 | AF10: =Januari!AJ10 -> 45 | AG10: =AE10+AF10 -> 51 | AH10: =Januari!AK10 -> 43 | AI10: =Januari!AL10 -> 2 | AJ10: 5 | AK10: =AH10+AJ10 -> 48 | AL10: =AG10-AK10 -> 3 | AM10: dalam proses
A11: 4 | B11: Izin Penggilingan Padi Keliling | C11: 0 | D11: 0 | E11: 0 | F11: 0 | G11: 0 | H11: 0 | I11: 0 | J11: 0 | K11: 0 | L11: 0 | M11: 0 | N11: 0 | O11: 0 | P11: 0 | Q11: 0 | R11: 0 | S11: 0 | T11: 0 | U11: 0 | V11: 0 | W11: 0 | X11: 0 | Y11: 0 | Z11: 0 | AA11: 0 | AB11: 0 | AC11: 0 | AD11: 0 | AE11: =SUM(C11:AD11) -> 0 | AF11: =Januari!AJ11 -> 0 | AG11: =AE11+AF11 -> 0 | AH11: =Januari!AK11 -> 0 | AI11: =Januari!AL11 -> 0 | AJ11: 0 | AK11: =AH11+AJ11 -> 0
A12: 5 | B12: Izin Usaha Pengangkutan | C12: 0 | D12: 0 | E12: 0 | F12: 0 | G12: 0 | H12: 0 | I12: 0 | J12: 0 | K12: 0 | L12: 0 | M12: 0 | N12: 0 | O12: 0 | P12: 0 | Q12: 0 | R12: 0 | S12: 0 | T12: 0 | U12: 0 | V12: 0 | W12: 0 | X12: 0 | Y12: 0 | Z12: 0 | AA12: 0 | AB12: 0 | AC12: 0 | AD12: 0 | AE12: =SUM(C12:AD12) -> 0 | AF12: =Januari!AJ12 -> 0 | AG12: =AE12+AF12 -> 0 | AH12: =Januari!AK12 -> 0 | AI12: =Januari!AL12 -> 0 | AJ12: 0 | AK12: =AH12+AJ12 -> 0
A13: 6 | B13: Izin Trayek | C13: 0 | D13: 0 | E13: 0 | F13: 0 | G13: 0 | H13: 0 | I13: 0 | J13: 0 | K13: 0 | L13: 0 | M13: 0 | N13: 0 | O13: 0 | P13: 0 | Q13: 0 | R13: 0 | S13: 0 | T13: 0 | U13: 0 | V13: 0 | W13: 0 | X13: 0 | Y13: 0 | Z13: 0 | AA13: 0 | AB13: 0 | AC13: 0 | AD13: 0 | AE13: =SUM(C13:AD13) -> 0 | AF13: =Januari!AJ13 -> 0 | AG13: =AE13+AF13 -> 0 | AH13: =Januari!AK13 -> 0 | AI13: =Januari!AL13 -> 0 | AJ13: 0 | AK13: =AH13+AJ13 -> 0
A14: 7 | B14: Izin Insidentil | C14: 0 | D14: 0 | E14: 0 | F14: 0 | G14: 0 | H14: 0 | I14: 0 | J14: 0 | K14: 0 | L14: 0 | M14: 0 | N14: 0 | O14: 0 | P14: 0 | Q14: 0 | R14: 0 | S14: 0 | T14: 0 | U14: 0 | V14: 0 | W14: 0 | X14: 0 | Y14: 0 | Z14: 0 | AA14: 0 | AB14: 0 | AC14: 0 | AD14: 0 | AE14: =SUM(C14:AD14) -> 0 | AF14: =Januari!AJ14 -> 0 | AG14: =AE14+AF14 -> 0 | AH14: =Januari!AK14 -> 0 | AI14: =Januari!AL14 -> 0 | AJ14: 0 | AK14: =AH14+AJ14 -> 0
A15: 8 | B15: Izin Mendirikan Bangunan (IMB) | C15: 2 | D15: 0 | E15: 1 | F15: 0 | G15: 0 | H15: 0 | I15: 0 | J15: 0 | K15: 0 | L15: 1 | M15: 0 | N15: 0 | O15: 3 | P15: 1 | Q15: 0 | R15: 1 | S15: 0 | T15: 0 | U15: 0 | V15: 1 | W15: 0 | X15: 2 | Y15: 0 | Z15: 0 | AA15: 0 | AB15: 0 | AC15: 0 | AD15: 0 | AE15: =SUM(C15:AD15) -> 12 | AF15: =Januari!AJ15 -> 16 | AG15: =AE15+AF15 -> 28 | AH15: =Januari!AK15 -> 5 | AI15: =Januari!AL15 -> 11 | AJ15: 11 | AK15: =AH15+AJ15 -> 16 | AL15: =AG15-AK15 -> 12 | AM15: dalam proses
A16: 9 | B16: Izin Usaha Industri (IUI) | C16: 0 | D16: 0 | E16: 0 | F16: 0 | G16: 0 | H16: 0 | I16: 0 | J16: 0 | K16: 0 | L16: 0 | M16: 0 | N16: 0 | O16: 0 | P16: 0 | Q16: 0 | R16: 0 | S16: 0 | T16: 0 | U16: 0 | V16: 0 | W16: 0 | X16: 0 | Y16: 0 | Z16: 0 | AA16: 0 | AB16: 0 | AC16: 0 | AD16: 0 | AE16: =SUM(C16:AD16) -> 0 | AF16: =Januari!AJ16 -> 0 | AG16: =AE16+AF16 -> 0 | AH16: =Januari!AK16 -> 0 | AI16: =Januari!AL16 -> 0 | AJ16: 0 | AK16: =AH16+AJ16 -> 0
A17: 10 | B17: Tanda Daftar Industri (TDI) | C17: 0 | D17: 0 | E17: 0 | F17: 0 | G17: 0 | H17: 0 | I17: 0 | J17: 0 | K17: 0 | L17: 0 | M17: 0 | N17: 0 | O17: 0 | P17: 0 | Q17: 0 | R17: 1 | S17: 0 | T17: 0 | U17: 0 | V17: 0 | W17: 1 | X17: 0 | Y17: 0 | Z17: 0 | AA17: 0 | AB17: 0 | AC17: 1 | AD17: 0 | AE17: =SUM(C17:AD17) -> 3 | AF17: =Januari!AJ17 -> 2 | AG17: =AE17+AF17 -> 5 | AH17: =Januari!AK17 -> 0 | AI17: =Januari!AL17 -> 2 | AJ17: 2 | AK17: =AH17+AJ17 -> 2 | AL17: =AG17-AK17 -> 3 | AM17: dalam proses
A18: 11 | B18: Surat Izin Usaha Perdagangan (SIUP) | C18: 2 | D18: 1 | E18: 0 | F18: 0 | G18: 0 | H18: 0 | I18: 1 | J18: 2 | K18: 2 | L18: 0 | M18: 0 | N18: 0 | O18: 4 | P18: 3 | Q18: 0 | R18: 4 | S18: 0 | T18: 0 | U18: 0 | V18: 2 | W18: 3 | X18: 2 | Y18: 1 | Z18: 1 | AA18: 0 | AB18: 0 | AC18: 4 | AD18: 0 | AE18: =SUM(C18:AD18) -> 32 | AF18: =Januari!AJ18 -> 41 | AG18: =AE18+AF18 -> 73 | AH18: =Januari!AK18 -> 26 | AI18: =Januari!AL18 -> 15 | AJ18: 28 | AK18: =AH18+AJ18 -> 54 | AL18: =AG18-AK18 -> 19 | AM18: dalam proses
B19: Surat Izin Usaha Perdagangan (SIUP) perpanjangan | C19: 2 | D19: 0 | E19: 0 | F19: 0 | G19: 0 | H19: 1 | I19: 0 | J19: 4 | K19: 1 | L19: 1 | M19: 0 | N19: 0 | O19: 1 | P19: 4 | Q19: 0 | R19: 0 | S19: 0 | T19: 0 | U19: 0 | V19: 0 | W19: 1 | X19: 0 | Y19: 0 | Z19: 2 | AA19: 0 | AB19: 0 | AC19: 0 | AD19: 0 | AE19: =SUM(C19:AD19) -> 17 | AF19: =Januari!AJ19 -> 16 | AG19: =AE19+AF19 -> 33 | AH19: =Januari!AK19 -> 16 | AI19: =Januari!AL19 -> 0 | AJ19: 17 | AK19: =AH19+AJ19 -> 33
A20: 12 | B20: Tanda Daftar Gudang (TDG) | C20: 0 | D20: 0 | E20: 0 | F20: 0 | G20: 0 | H20: 0 | I20: 0 | J20: 0 | K20: 0 | L20: 0 | M20: 0 | N20: 0 | O20: 0 | P20: 1 | Q20: 0 | R20: 0 | S20: 1 | T20: 0 | U20: 0 | V20: 0 | W20: 0 | X20: 0 | Y20: 0 | Z20: 0 | AA20: 0 | AB20: 0 | AC20: 0 | AD20: 0 | AE20: =SUM(C20:AD20) -> 2 | AF20: =Januari!AJ20 -> 4 | AG20: =AE20+AF20 -> 6 | AH20: =Januari!AK20 -> 1 | AI20: =Januari!AL20 -> 3 | AJ20: 2 | AK20: =AH20+AJ20 -> 3 | AL20: =AG20-AK20 -> 3 | AM20: dalam proses
A21: 13 | B21: Tanda Daftar Perusahaan (TDP) | C21: 3 | D21: 0 | E21: 0 | F21: 0 | G21: 0 | H21: 0 | I21: 1 | J21: 1 | K21: 2 | L21: 0 | M21: 0 | N21: 0 | O21: 4 | P21: 3 | Q21: 0 | R21: 4 | S21: 0 | T21: 0 | U21: 0 | V21: 2 | W21: 3 | X21: 2 | Y21: 1 | Z21: 1 | AA21: 0 | AB21: 0 | AC21: 4 | AD21: 0 | AE21: =SUM(C21:AD21) -> 31 | AF21: =Januari!AJ21 -> 30 | AG21: =AE21+AF21 -> 61 | AH21: =Januari!AK21 -> 14 | AI21: =Januari!AL21 -> 16 | AJ21: 26 | AK21: =AH21+AJ21 -> 40 | AL21: =AG21-AK21 -> 21 | AM21: dalam proses
B22: Tanda Daftar Perusahaan (TDP) perpanjangan | C22: 2 | D22: 0 | E22: 0 | F22: 0 | G22: 0 | H22: 1 | I22: 1 | J22: 6 | K22: 1 | L22: 0 | M22: 0 | N22: 0 | O22: 1 | P22: 4 | Q22: 0 | R22: 0 | S22: 0 | T22: 0 | U22: 0 | V22: 3 | W22: 3 | X22: 0 | Y22: 0 | Z22: 2 | AA22: 0 | AB22: 0 | AC22: 0 | AD22: 1 | AE22: =SUM(C22:AD22) -> 25 | AF22: =Januari!AJ22 -> 24 | AG22: =AE22+AF22 -> 49 | AH22: =Januari!AK22 -> 14 | AI22: =Januari!AL22 -> 10 | AJ22: 20 | AK22: =AH22+AJ22 -> 34 | AL22: =AG22-AK22 -> 15 | AM22: dalam proses
A23: 14 | B23: Izin Usaha Jasa Kontruksi (IUJK) | C23: 0 | D23: 1 | E23: 0 | F23: 0 | G23: 0 | H23: 0 | I23: 0 | J23: 0 | K23: 0 | L23: 0 | M23: 0 | N23: 0 | O23: 2 | P23: 0 | Q23: 0 | R23: 1 | S23: 0 | T23: 0 | U23: 0 | V23: 0 | W23: 0 | X23: 1 | Y23: 0 | Z23: 0 | AA23: 0 | AB23: 0 | AC23: 2 | AD23: 1 | AE23: =SUM(C23:AD23) -> 8 | AF23: =Januari!AJ23 -> 8 | AG23: =AE23+AF23 -> 16 | AH23: =Januari!AK23 -> 0 | AI23: =Januari!AL23 -> 8 | AJ23: 10 | AK23: =AH23+AJ23 -> 10 | AL23: =AG23-AK23 -> 6 | AM23: dalam proses
B24: Kartu Penanggungjawab Teknik Badan (KPTJBU) | C24: 0 | D24: 1 | E24: 0 | F24: 0 | G24: 0 | H24: 2 | I24: 0 | J24: 0 | K24: 0 | L24: 0 | M24: 0 | N24: 0 | O24: 1 | P24: 0 | Q24: 0 | R24: 0 | S24: 0 | T24: 0 | U24: 0 | V24: 0 | W24: 0 | X24: 1 | Y24: 0 | Z24: 0 | AA24: 0 | AB24: 0 | AC24: 2 | AD24: 1 | AE24: =SUM(C24:AD24) -> 8 | AF24: =Januari!AJ24 -> 6 | AG24: =AE24+AF24 -> 14 | AH24: =Januari!AK24 -> 6 | AI24: =Januari!AL24 -> 0 | AJ24: 8 | AK24: =AH24+AJ24 -> 14
A25: 15 | B25: Tanda Daftar Usaha Pariwisata | C25: 0 | D25: 0 | E25: 0 | F25: 0 | G25: 0 | H25: 0 | I25: 0 | J25: 0 | K25: 0 | L25: 0 | M25: 0 | N25: 0 | O25: 0 | P25: 0 | Q25: 0 | R25: 0 | S25: 0 | T25: 0 | U25: 0 | V25: 0 | W25: 0 | X25: 0 | Y25: 0 | Z25: 0 | AA25: 0 | AB25: 0 | AC25: 0 | AD25: 0 | AE25: =SUM(C25:AD25) -> 0 | AF25: =Januari!AJ25 -> 3 | AG25: =AE25+AF25 -> 3 | AH25: =Januari!AK25 -> 1 | AI25: =Januari!AL25 -> 2 | AJ25: 1 | AK25: =AH25+AJ25 -> 2 | AL25: =AG25-AK25 -> 1 | AM25: dalam proses
A26: 16 | B26: Izin Penggunaan Gedung Juang | C26: 0 | D26: 0 | E26: 0 | F26: 0 | G26: 0 | H26: 1 | I26: 0 | J26: 0 | K26: 0 | L26: 0 | M26: 0 | N26: 0 | O26: 1 | P26: 0 | Q26: 0 | R26: 0 | S26: 0 | T26: 0 | U26: 0 | V26: 0 | W26: 0 | X26: 0 | Y26: 1 | Z26: 0 | AA26: 0 | AB26: 0 | AC26: 1 | AD26: 0 | AE26: =SUM(C26:AD26) -> 4 | AF26: =Januari!AJ26 -> 3 | AG26: =AE26+AF26 -> 7 | AH26: =Januari!AK26 -> 1 | AI26: =Januari!AL26 -> 2 | AJ26: 1 | AK26: =AH26+AJ26 -> 2 | AL26: =AG26-AK26 -> 5 | AM26: dalam proses
A27: 17 | B27: Izin Penggunaan Stadion Candradimuka | C27: 0 | D27: 0 | E27: 0 | F27: 0 | G27: 0 | H27: 0 | I27: 0 | J27: 0 | K27: 0 | L27: 0 | M27: 0 | N27: 0 | O27: 0 | P27: 0 | Q27: 0 | R27: 0 | S27: 0 | T27: 0 | U27: 0 | V27: 0 | W27: 0 | X27: 0 | Y27: 0 | Z27: 0 | AA27: 0 | AB27: 0 | AC27: 0 | AD27: 0 | AE27: =SUM(C27:AD27) -> 0 | AF27: =Januari!AJ27 -> 0 | AG27: =AE27+AF27 -> 0 | AH27: =Januari!AK27 -> 0 | AI27: =Januari!AL27 -> 0 | AJ27: 0 | AK27: =AH27+AJ27 -> 0
A28: 18 | B28: Izin Penggunaan Alun-alun Kebumen | C28: 0 | D28: 0 | E28: 0 | F28: 0 | G28: 0 | H28: 0 | I28: 0 | J28: 0 | K28: 0 | L28: 3 | M28: 0 | N28: 0 | O28: 0 | P28: 0 | Q28: 0 | R28: 0 | S28: 0 | T28: 0 | U28: 0 | V28: 0 | W28: 1 | X28: 0 | Y28: 0 | Z28: 0 | AA28: 0 | AB28: 0 | AC28: 0 | AD28: 0 | AE28: =SUM(C28:AD28) -> 4 | AF28: =Januari!AJ28 -> 1 | AG28: =AE28+AF28 -> 5 | AH28: =Januari!AK28 -> 1 | AI28: =Januari!AL28 -> 0 | AJ28: 2 | AK28: =AH28+AJ28 -> 3 | AL28: =AG28-AK28 -> 2 | AM28: dalam proses
A29: 19 | B29: Izin Pemasangan Reklame | C29: 1 | D29: 2 | E29: 0 | F29: 0 | G29: 0 | H29: 3 | I29: 1 | J29: 1 | K29: 2 | L29: 2 | M29: 0 | N29: 0 | O29: 4 | P29: 3 | Q29: 0 | R29: 1 | S29: 2 | T29: 0 | U29: 0 | V29: 1 | W29: 1 | X29: 1 | Y29: 2 | Z29: 1 | AA29: 0 | AB29: 0 | AC29: 3 | AD29: 0 | AE29: =SUM(C29:AD29) -> 31 | AF29: =Januari!AJ29 -> 51 | AG29: =AE29+AF29 -> 82 | AH29: =Januari!AK29 -> 51 | AI29: =Januari!AL29 -> 0 | AJ29: 31 | AK29: =AH29+AJ29 -> 82
A30: 20 | B30: Izin Pengelolaan Sarang Burung Lawet | C30: 0 | D30: 0 | E30: 0 | F30: 0 | G30: 0 | H30: 0 | I30: 0 | J30: 0 | K30: 0 | L30: 0 | M30: 0 | N30: 0 | O30: 0 | P30: 0 | Q30: 0 | R30: 0 | S30: 0 | T30: 0 | U30: 0 | V30: 0 | W30: 0 | X30: 0 | Y30: 0 | Z30: 0 | AA30: 0 | AB30: 0 | AC30: 0 | AD30: 0 | AE30: =SUM(C30:AD30) -> 0 | AF30: =Januari!AJ30 -> 0 | AG30: =AE30+AF30 -> 0 | AH30: =Januari!AK30 -> 0 | AI30: =Januari!AL30 -> 0 | AJ30: 0 | AK30: =AH30+AJ30 -> 0
A31: 21 | B31: Izin Mendirikan Rumah Sakit Umum | C31: 0 | D31: 0 | E31: 0 | F31: 0 | G31: 0 | H31: 0 | I31: 0 | J31: 0 | K31: 0 | L31: 0 | M31: 0 | N31: 0 | O31: 0 | P31: 0 | Q31: 0 | R31: 0 | S31: 0 | T31: 0 | U31: 0 | V31: 0 | W31: 0 | X31: 0 | Y31: 0 | Z31: 0 | AA31: 0 | AB31: 0 | AC31: 0 | AD31: 0 | AE31: =SUM(C31:AD31) -> 0 | AF31: =Januari!AJ31 -> 0 | AG31: =AE31+AF31 -> 0 | AH31: =Januari!AK31 -> 0 | AI31: =Januari!AL31 -> 0 | AJ31: 0 | AK31: =AH31+AJ31 -> 0
A32: 22 | B32: Izin Mendirikan Rumah Sakit Khusus | C32: 0 | D32: 0 | E32: 0 | F32: 0 | G32: 0 | H32: 0 | I32: 0 | J32: 0 | K32: 0 | L32: 0 | M32: 0 | N32: 0 | O32: 0 | P32: 0 | Q32: 0 | R32: 0 | S32: 0 | T32: 0 | U32: 0 | V32: 0 | W32: 0 | X32: 0 | Y32: 0 | Z32: 0 | AA32: 0 | AB32: 0 | AC32: 0 | AD32: 0 | AE32: =SUM(C32:AD32) -> 0 | AF32: =Januari!AJ32 -> 0 | AG32: =AE32+AF32 -> 0 | AH32: =Januari!AK32 -> 0 | AI32: =Januari!AL32 -> 0 | AJ32: 0 | AK32: =AH32+AJ32 -> 0
A33: 23 | B33: Izin Klinik Pratama | C33: 0 | D33: 0 | E33: 0 | F33: 0 | G33: 0 | H33: 0 | I33: 0 | J33: 0 | K33: 0 | L33: 0 | M33: 0 | N33: 0 | O33: 0 | P33: 0 | Q33: 0 | R33: 0 | S33: 0 | T33: 0 | U33: 0 | V33: 0 | W33: 0 | X33: 0 | Y33: 0 | Z33: 0 | AA33: 0 | AB33: 0 | AC33: 0 | AD33: 0 | AE33: =SUM(C33:AD33) -> 0 | AF33: =Januari!AJ33 -> 0 | AG33: =AE33+AF33 -> 0 | AH33: =Januari!AK33 -> 0 | AI33: =Januari!AL33 -> 0 | AJ33: 0 | AK33: =AH33+AJ33 -> 0
A34: 24 | B34: Izin Klinik Utama | C34: 0 | D34: 0 | E34: 0 | F34: 0 | G34: 0 | H34: 0 | I34: 0 | J34: 0 | K34: 0 | L34: 0 | M34: 0 | N34: 0 | O34: 0 | P34: 0 | Q34: 0 | R34: 0 | S34: 0 | T34: 0 | U34: 0 | V34: 0 | W34: 0 | X34: 0 | Y34: 0 | Z34: 0 | AA34: 0 | AB34: 0 | AC34: 0 | AD34: 0 | AE34: =SUM(C34:AD34) -> 0 | AF34: =Januari!AJ34 -> 0 | AG34: =AE34+AF34 -> 0 | AH34: =Januari!AK34 -> 0 | AI34: =Januari!AL34 -> 0 | AJ34: 0 | AK34: =AH34+AJ34 -> 0
A35: 25 | B35: Izin Laboratorium Klinik Pratama | C35: 0 | D35: 0 | E35: 0 | F35: 0 | G35: 0 | H35: 0 | I35: 0 | J35: 0 | K35: 0 | L35: 0 | M35: 0 | N35: 0 | O35: 0 | P35: 0 | Q35: 0 | R35: 0 | S35: 0 | T35: 0 | U35: 0 | V35: 0 | W35: 0 | X35: 0 | Y35: 0 | Z35: 0 | AA35: 0 | AB35: 0 | AC35: 0 | AD35: 0 | AE35: =SUM(C35:AD35) -> 0 | AF35: =Januari!AJ35 -> 0 | AG35: =AE35+AF35 -> 0 | AH35: =Januari!AK35 -> 0 | AI35: =Januari!AL35 -> 0 | AJ35: 0 | AK35: =AH35+AJ35 -> 0
A36: 26 | B36: Izin Laboratorium Klinik Utama | C36: 0 | D36: 0 | E36: 0 | F36: 0 | G36: 0 | H36: 0 | I36: 0 | J36: 0 | K36: 0 | L36: 0 | M36: 0 | N36: 0 | O36: 0 | P36: 0 | Q36: 0 | R36: 0 | S36: 0 | T36: 0 | U36: 0 | V36: 0 | W36: 0 | X36: 0 | Y36: 0 | Z36: 0 | AA36: 0 | AB36: 0 | AC36: 0 | AD36: 0 | AE36: =SUM(C36:AD36) -> 0 | AF36: =Januari!AJ36 -> 0 | AG36: =AE36+AF36 -> 0 | AH36: =Januari!AK36 -> 0 | AI36: =Januari!AL36 -> 0 | AJ36: 0 | AK36: =AH36+AJ36 -> 0
A37: 27 | B37: Izin Apotik | C37: 0 | D37: 0 | E37: 0 | F37: 0 | G37: 0 | H37: 0 | I37: 0 | J37: 0 | K37: 0 | L37: 0 | M37: 0 | N37: 0 | O37: 0 | P37: 0 | Q37: 0 | R37: 0 | S37: 0 | T37: 0 | U37: 0 | V37: 0 | W37: 0 | X37: 0 | Y37: 0 | Z37: 0 | AA37: 0 | AB37: 0 | AC37: 0 | AD37: 0 | AE37: =SUM(C37:AD37) -> 0 | AF37: =Januari!AJ37 -> 4 | AG37: =AE37+AF37 -> 4 | AH37: =Januari!AK37 -> 3 | AI37: =Januari!AL37 -> 1 | AJ37: 1 | AK37: =AH37+AJ37 -> 4
A38: 28 | B38: Izin Toko Obat | C38: 0 | D38: 0 | E38: 0 | F38: 0 | G38: 0 | H38: 0 | I38: 0 | J38: 0 | K38: 0 | L38: 0 | M38: 0 | N38: 0 | O38: 3 | P38: 0 | Q38: 0 | R38: 0 | S38: 0 | T38: 0 | U38: 0 | V38: 0 | W38: 0 | X38: 0 | Y38: 0 | Z38: 0 | AA38: 0 | AB38: 0 | AC38: 0 | AD38: 0 | AE38: =SUM(C38:AD38) -> 3 | AF38: =Januari!AJ38 -> 0 | AG38: =AE38+AF38 -> 3 | AH38: =Januari!AK38 -> 0 | AI38: =Januari!AL38 -> 0 | AJ38: 0 | AK38: =AH38+AJ38 -> 0 | AL38: =AG38-AK38 -> 3 | AM38: dalam proses
A39: 29 | B39: Izin Optik | C39: 0 | D39: 0 | E39: 0 | F39: 0 | G39: 0 | H39: 0 | I39: 0 | J39: 0 | K39: 0 | L39: 0 | M39: 0 | N39: 0 | O39: 0 | P39: 0 | Q39: 0 | R39: 0 | S39: 0 | T39: 0 | U39: 0 | V39: 0 | W39: 0 | X39: 0 | Y39: 0 | Z39: 0 | AA39: 0 | AB39: 0 | AC39: 0 | AD39: 0 | AE39: =SUM(C39:AD39) -> 0 | AF39: =Januari!AJ39 -> 0 | AG39: =AE39+AF39 -> 0 | AH39: =Januari!AK39 -> 0 | AI39: =Januari!AL39 -> 0 | AJ39: 0 | AK39: =AH39+AJ39 -> 0
A40: 30 | B40: Izin Industri Rumah Tangga Makanan Minuman (PIRT) | C40: 0 | D40: 1 | E40: 0 | F40: 0 | G40: 0 | H40: 0 | I40: 0 | J40: 1 | K40: 1 | L40: 1 | M40: 0 | N40: 0 | O40: 0 | P40: 1 | Q40: 0 | R40: 2 | S40: 0 | T40: 0 | U40: 0 | V40: 2 | W40: 2 | X40: 0 | Y40: 0 | Z40: 0 | AA40: 0 | AB40: 0 | AC40: 17 | AD40: 17 | AE40: =SUM(C40:AD40) -> 45 | AF40: =Januari!AJ40 -> 17 | AG40: =AE40+AF40 -> 62 | AH40: =Januari!AK40 -> 6 | AI40: =Januari!AL40 -> 11 | AJ40: 13 | AK40: =AH40+AJ40 -> 19 | AL40: =AG40-AK40 -> 43 | AM40: dalam proses
A41: 31 | B41: Tanda Daftar Depot Air Minum | C41: 0 | D41: 0 | E41: 0 | F41: 0 | G41: 0 | H41: 0 | I41: 1 | J41: 0 | K41: 0 | L41: 0 | M41: 0 | N41: 0 | O41: 0 | P41: 0 | Q41: 0 | R41: 0 | S41: 0 | T41: 0 | U41: 0 | V41: 0 | W41: 0 | X41: 0 | Y41: 0 | Z41: 0 | AA41: 0 | AB41: 0 | AC41: 0 | AD41: 0 | AE41: =SUM(C41:AD41) -> 1 | AF41: =Januari!AJ41 -> 2 | AG41: =AE41+AF41 -> 3 | AH41: =Januari!AK41 -> 1 | AI41: =Januari!AL41 -> 1 | AJ41: 1 | AK41: =AH41+AJ41 -> 2 | AL41: =AG41-AK41 -> 1 | AM41: dalam proses
A42: 32 | B42: Tanda Daftar Pengobatan Tradisional | C42: 0 | D42: 0 | E42: 0 | F42: 0 | G42: 0 | H42: 0 | I42: 0 | J42: 0 | K42: 0 | L42: 0 | M42: 0 | N42: 0 | O42: 0 | P42: 0 | Q42: 0 | R42: 0 | S42: 0 | T42: 0 | U42: 0 | V42: 0 | W42: 0 | X42: 0 | Y42: 0 | Z42: 0 | AA42: 0 | AB42: 0 | AC42: 0 | AD42: 0 | AE42: =SUM(C42:AD42) -> 0 | AF42: =Januari!AJ42 -> 0 | AG42: =AE42+AF42 -> 0 | AH42: =Januari!AK42 -> 0 | AI42: =Januari!AL42 -> 0 | AJ42: 0 | AK42: =AH42+AJ42 -> 0
A43: 33 | B43: Izin Operasional Pendirian Bursa Kerja Khusus (BKK) | C43: 0 | D43: 0 | E43: 0 | F43: 0 | G43: 0 | H43: 0 | I43: 0 | J43: 0 | K43: 0 | L43: 0 | M43: 0 | N43: 0 | O43: 0 | P43: 0 | Q43: 0 | R43: 0 | S43: 0 | T43: 0 | U43: 0 | V43: 0 | W43: 0 | X43: 0 | Y43: 0 | Z43: 0 | AA43: 0 | AB43: 0 | AC43: 0 | AD43: 0 | AE43: =SUM(C43:AD43) -> 0 | AF43: =Januari!AJ43 -> 0 | AG43: =AE43+AF43 -> 0 | AH43: =Januari!AK43 -> 0 | AI43: =Januari!AL43 -> 0 | AJ43: 0 | AK43: =AH43+AJ43 -> 0
A44: 34 | B44: Izin Usaha Pelatihan Kerja | C44: 0 | D44: 0 | E44: 0 | F44: 0 | G44: 0 | H44: 0 | I44: 0 | J44: 0 | K44: 1 | L44: 0 | M44: 0 | N44: 0 | O44: 0 | P44: 0 | Q44: 0 | R44: 0 | S44: 0 | T44: 0 | U44: 0 | V44: 0 | W44: 0 | X44: 0 | Y44: 0 | Z44: 0 | AA44: 0 | AB44: 0 | AC44: 0 | AD44: 0 | AE44: =SUM(C44:AD44) -> 1 | AF44: =Januari!AJ44 -> 1 | AG44: =AE44+AF44 -> 2 | AH44: =Januari!AK44 -> 0 | AI44: =Januari!AL44 -> 1 | AJ44: 2 | AK44: =AH44+AJ44 -> 2
A45: 35 | B45: Izin Perusahaan Penyedia Jasa Buruh ( Out Sourching) | C45: 0 | D45: 0 | E45: 0 | F45: 0 | G45: 0 | H45: 0 | I45: 0 | J45: 0 | K45: 0 | L45: 0 | M45: 0 | N45: 0 | O45: 0 | P45: 0 | Q45: 0 | R45: 0 | S45: 0 | T45: 0 | U45: 0 | V45: 0 | W45: 0 | X45: 0 | Y45: 0 | Z45: 0 | AA45: 0 | AB45: 0 | AC45: 0 | AD45: 0 | AE45: =SUM(C45:AD45) -> 0 | AF45: =Januari!AJ45 -> 0 | AG45: =AE45+AF45 -> 0 | AH45: =Januari!AK45 -> 0 | AI45: =Januari!AL45 -> 0 | AJ45: 0 | AK45: =AH45+AJ45 -> 0
A46: 36 | B46: Izin Pembuatan Tambak | C46: 0 | D46: 0 | E46: 0 | F46: 0 | G46: 0 | H46: 0 | I46: 0 | J46: 0 | K46: 0 | L46: 0 | M46: 0 | N46: 0 | O46: 0 | P46: 0 | Q46: 0 | R46: 0 | S46: 0 | T46: 0 | U46: 0 | V46: 0 | W46: 0 | X46: 0 | Y46: 0 | Z46: 0 | AA46: 0 | AB46: 0 | AC46: 0 | AD46: 0 | AE46: =SUM(C46:AD46) -> 0 | AF46: =Januari!AJ46 -> 0 | AG46: =AE46+AF46 -> 0 | AH46: =Januari!AK46 -> 0 | AI46: =Januari!AL46 -> 0 | AJ46: 0 | AK46: =AH46+AJ46 -> 0
A47: 37 | B47: Izin Usaha Perikanan | C47: 0 | D47: 0 | E47: 0 | F47: 0 | G47: 0 | H47: 0 | I47: 0 | J47: 0 | K47: 0 | L47: 0 | M47: 0 | N47: 0 | O47: 0 | P47: 0 | Q47: 0 | R47: 0 | S47: 0 | T47: 0 | U47: 0 | V47: 0 | W47: 0 | X47: 0 | Y47: 0 | Z47: 0 | AA47: 0 | AB47: 0 | AC47: 0 | AD47: 0 | AE47: =SUM(C47:AD47) -> 0 | AF47: =Januari!AJ47 -> 0 | AG47: =AE47+AF47 -> 0 | AH47: =Januari!AK47 -> 0 | AI47: =Januari!AL47 -> 0 | AJ47: 0 | AK47: =AH47+AJ47 -> 0
A48: 38 | B48: Izin Usaha Peternakan | C48: 0 | D48: 0 | E48: 0 | F48: 0 | G48: 0 | H48: 0 | I48: 0 | J48: 0 | K48: 0 | L48: 0 | M48: 0 | N48: 0 | O48: 0 | P48: 0 | Q48: 0 | R48: 0 | S48: 0 | T48: 0 | U48: 0 | V48: 0 | W48: 0 | X48: 0 | Y48: 0 | Z48: 0 | AA48: 0 | AB48: 0 | AC48: 0 | AD48: 0 | AE48: =SUM(C48:AD48) -> 0 | AF48: =Januari!AJ48 -> 0 | AG48: =AE48+AF48 -> 0 | AH48: =Januari!AK48 -> 0 | AI48: =Januari!AL48 -> 0 | AJ48: 0 | AK48: =AH48+AJ48 -> 0
A49: 39 | B49: Izin Pemakaian Tanah Pengairan | C49: 0 | D49: 0 | E49: 0 | F49: 0 | G49: 0 | H49: 0 | I49: 0 | J49: 0 | K49: 0 | L49: 0 | M49: 0 | N49: 0 | O49: 0 | P49: 0 | Q49: 0 | R49: 0 | S49: 0 | T49: 0 | U49: 0 | V49: 0 | W49: 0 | X49: 0 | Y49: 0 | Z49: 0 | AA49: 0 | AB49: 0 | AC49: 0 | AD49: 0 | AE49: =SUM(C49:AD49) -> 0 | AF49: =Januari!AJ49 -> 0 | AG49: =AE49+AF49 -> 0 | AH49: =Januari!AK49 -> 0 | AI49: =Januari!AL49 -> 0 | AJ49: 0 | AK49: =AH49+AJ49 -> 0
A50: 40 | B50: Izin Tebang dan Pengangkutan Kayu Rakyat | C50: 0 | D50: 0 | E50: 0 | F50: 0 | G50: 0 | H50: 0 | I50: 0 | J50: 0 | K50: 0 | L50: 0 | M50: 0 | N50: 0 | O50: 0 | P50: 0 | Q50: 0 | R50: 0 | S50: 0 | T50: 0 | U50: 0 | V50: 0 | W50: 0 | X50: 0 | Y50: 0 | Z50: 0 | AA50: 0 | AB50: 0 | AC50: 0 | AD50: 0 | AE50: =SUM(C50:AD50) -> 0 | AF50: =Januari!AJ50 -> 0 | AG50: =AE50+AF50 -> 0 | AH50: =Januari!AK50 -> 0 | AI50: =Januari!AL50 -> 0 | AJ50: 0 | AK50: =AH50+AJ50 -> 0
A51: 41 | B51: Izin Penggunaaan Tanah/Bangunan Milik Pemerintah Kabupaten | C51: 0 | D51: 0 | E51: 0 | F51: 0 | G51: 0 | H51: 0 | I51: 0 | J51: 0 | K51: 0 | L51: 0 | M51: 0 | N51: 0 | O51: 0 | P51: 0 | Q51: 0 | R51: 0 | S51: 0 | T51: 0 | U51: 0 | V51: 0 | W51: 0 | X51: 0 | Y51: 0 | Z51: 0 | AA51: 0 | AB51: 0 | AC51: 0 | AD51: 0 | AE51: =SUM(C51:AD51) -> 0 | AF51: =Januari!AJ51 -> 0 | AG51: =AE51+AF51 -> 0 | AH51: =Januari!AK51 -> 0 | AI51: =Januari!AL51 -> 0 | AJ51: 0 | AK51: =AH51+AJ51 -> 0
A52: 42 | B52: Izin Penempatan Kios /Los | C52: 0 | D52: 0 | E52: 0 | F52: 0 | G52: 0 | H52: 0 | I52: 0 | J52: 0 | K52: 0 | L52: 0 | M52: 0 | N52: 0 | O52: 0 | P52: 0 | Q52: 0 | R52: 0 | S52: 0 | T52: 0 | U52: 0 | V52: 0 | W52: 0 | X52: 0 | Y52: 0 | Z52: 0 | AA52: 0 | AB52: 0 | AC52: 0 | AD52: 0 | AE52: =SUM(C52:AD52) -> 0 | AF52: =Januari!AJ52 -> 27 | AG52: =AE52+AF52 -> 27 | AH52: =Januari!AK52 -> 0 | AI52: =Januari!AL52 -> 27 | AK52: =AH52+AJ52 -> 0 | AL52: =AG52-AK52 -> 27 | AM52: dalam proses
A53: 43 | B53: Limbah B3 / IPAL | C53: 1 | D53: 0 | E53: 0 | F53: 0 | G53: 0 | H53: 0 | I53: 0 | J53: 0 | K53: 0 | L53: 1 | M53: 0 | N53: 0 | O53: 0 | P53: 0 | Q53: 0 | R53: 0 | S53: 0 | T53: 0 | U53: 0 | V53: 1 | W53: 0 | X53: 0 | Y53: 1 | Z53: 0 | AA53: 0 | AB53: 0 | AC53: 0 | AD53: 0 | AE53: =SUM(C53:AD53) -> 4 | AF53: =Januari!AJ53 -> 1 | AG53: =AE53+AF53 -> 5 | AH53: =Januari!AK53 -> 0 | AI53: =Januari!AL53 -> 1 | AJ53: 0 | AK53: =AH53+AJ53 -> 0 | AL53: =AG53-AK53 -> 5 | AM53: dalam proses
A54: 44 | B54: Izin Operasional Rumah Sakit / Klinik | C54: 0 | D54: 0 | E54: 0 | F54: 0 | G54: 0 | H54: 0 | I54: 0 | J54: 0 | K54: 0 | L54: 0 | M54: 0 | N54: 0 | O54: 0 | P54: 1 | Q54: 0 | R54: 0 | S54: 0 | T54: 0 | U54: 0 | V54: 0 | W54: 0 | X54: 0 | Y54: 0 | Z54: 0 | AA54: 0 | AB54: 0 | AC54: 0 | AD54: 1 | AE54: =SUM(C54:AD54) -> 2 | AF54: =Januari!AJ54 -> 3 | AG54: =AE54+AF54 -> 5 | AH54: =Januari!AK54 -> 0 | AI54: =Januari!AL54 -> 3 | AJ54: 1 | AK54: =AH54+AJ54 -> 1 | AL54: =AG54-AK54 -> 4 | AM54: dalam proses
A55: 45 | B55: Izin Lingkungan | C55: 0 | D55: 0 | E55: 0 | F55: 0 | G55: 0 | H55: 0 | I55: 0 | J55: 1 | K55: 1 | L55: 0 | M55: 0 | N55: 0 | O55: 0 | P55: 0 | Q55: 0 | R55: 0 | S55: 0 | T55: 0 | U55: 0 | V55: 0 | W55: 0 | X55: 0 | Y55: 0 | Z55: 0 | AA55: 0 | AB55: 0 | AC55: 2 | AD55: 0 | AE55: =SUM(C55:AD55) -> 4 | AF55: =Januari!AJ55 -> 3 | AG55: =AE55+AF55 -> 7 | AH55: =Januari!AK55 -> 3 | AI55: =Januari!AL55 -> 0 | AJ55: 1 | AK55: =AH55+AJ55 -> 4 | AL55: =AG55-AK55 -> 3 | AM55: dalam proses
A56: 46 | B56: Izin Tukang Gigi | C56: 0 | D56: 0 | E56: 0 | F56: 0 | G56: 0 | H56: 0 | I56: 0 | J56: 0 | K56: 0 | L56: 0 | M56: 0 | N56: 0 | O56: 0 | P56: 0 | Q56: 0 | R56: 0 | S56: 0 | T56: 0 | U56: 0 | V56: 0 | W56: 0 | X56: 0 | Y56: 0 | Z56: 0 | AA56: 0 | AB56: 0 | AC56: 0 | AD56: 0 | AE56: =SUM(C56:AD56) -> 0 | AF56: =Januari!AJ56 -> 43 | AG56: =AE56+AF56 -> 43 | AH56: =Januari!AK56 -> 9 | AI56: =Januari!AL56 -> 34 | AJ56: 20 | AK56: =AH56+AJ56 -> 29 | AL56: =AG56-AK56 -> 14 | AM56: dalam proses
A57: Jumlah | C57: =SUM(C7:C56) -> 15 | D57: =SUM(D7:D56) -> 8 | E57: =SUM(E7:E56) -> 1 | F57: =SUM(F7:F56) -> 0 | G57: =SUM(G7:G56) -> 0 | H57: =SUM(H7:H56) -> 8 | I57: =SUM(I7:I56) -> 6 | J57: =SUM(J7:J56) -> 17 | ... AG57: =SUM(AG7:AG56) -> 653 | AH57: =Januari!AK57 -> 211 | AI57: =Januari!AL57 -> 162 | AJ57: =SUM(AJ7:AJ56) -> 214 | AK57: =AH57+AJ57 -> 425 | AL57: =SUM(AL7:AL56) -> 228 | AM57: dalam proses
AB59: Kebumen, 08 Maret 2017
AB60: KEPALA DINAS PENANAMAN MODAL
AB61: DAN PELAYANAN TERPADU SATU PINTU
AB62: KABUPATEN KEBUMEN
AB67: Drs. H. Hery Setyanto
AB68: Pembina Utama Muda
AB69: NIP. 19601023 199001 1 001

Sheet Maret
A1: LAPORAN BERKAS IZIN MASUK DAN TERPROSES DINAS PENANAMAN MODAL DAN PELAYANAN TERPADU SATU PINTU
A2: KABUPATEN KEBUMEN
A3: Bulan Maret 2017
A5: NO | B5: JENIS IZIN | C5: TANGGAL | AH5: PEMOHON BLN INI | AI5: PEMOHON BULAN LALU | AJ5: TOTAL PERMOHONAN | AK5: TERPROSES BULAN LALU | AL5: DALAM PROSES BULAN LALU | AM5: TERPROSES BLN INI (SK) | AN5: TOTAL TERPROSES | AO5: IZIN BELUM JADI | AP5: KETERANGAN
C6: 1 | D6: 2 | E6: 3 | F6: 4 | G6: 5 | H6: 6 | I6: 7 | J6: 8 | K6: 9 | L6: 10 | M6: 11 | N6: 12 | O6: 13 | P6: 14 | Q6: 15 | R6: 16 | S6: 17 | T6: 18 | U6: 19 | V6: 20 | W6: 21 | X6: 22 | Y6: 23 | Z6: 24 | AA6: 25 | AB6: 26 | AC6: 27 | AD6: 28 | AE6: 29 | AF6: 30 | AG6: 31
A7: 1 | B7: Izin Prinsip | C7: 2 | D7: 0 | E7: 0 | F7: 0 | G7: 0 | H7: 0 | I7: 0 | J7: 0 | K7: 0 | L7: 0 | M7: 0 | N7: 0 | O7: 0 | P7: 1 | Q7: 0 | R7: 0 | S7: 0 | T7: 0 | U7: 0 | V7: 0 | W7: 0 | X7: 0 | Y7: 0 | Z7: 0 | AA7: 0 | AB7: 0 | AC7: 0 | AD7: 0 | AE7: 0 | AF7: 1 | AG7: 0 | AH7: =SUM(C7:AG7) -> 4 | AI7: =Februari!AG7 -> 27 | AJ7: =AH7+AI7 -> 31 | AK7: =Februari!AK7 -> 6 | AL7: =Februari!AL7 -> 21 | AM7: 10 | AN7: =AK7+AM7 -> 16 | AO7: =AJ7-AN7 -> 15 | AP7: dalam proses
A8: 2 | B8: Izin Lokasi/Izin perencanaan letak penggunaan tanah/ penetapan lokasi | C8: 0 | D8: 1 | E8: 0 | F8: 0 | G8: 0 | H8: 0 | I8: 0 | J8: 0 | K8: 1 | L8: 0 | M8: 0 | N8: 0 | O8: 1 | P8: 0 | Q8: 0 | R8: 0 | S8: 0 | T8: 0 | U8: 0 | V8: 0 | W8: 1 | X8: 0 | Y8: 0 | Z8: 0 | AA8: 0 | AB8: 0 | AC8: 0 | AD8: 0 | AE8: 0 | AF8: 0 | AG8: 0 | AH8: =SUM(C8:AG8) -> 4 | AI8: =Februari!AG8 -> 8 | AJ8: =AH8+AI8 -> 12 | AK8: =Februari!AK8 -> 3 | AL8: =Februari!AL8 -> 5 | AM8: 6 | AN8: =AK8+AM8 -> 9 | AO8: =AJ8-AN8 -> 3 | AP8: dalam proses
A9: 3 | B9: Izin Gangguan/HO | C9: 1 | D9: 0 | E9: 1 | F9: 0 | G9: 0 | H9: 0 | I9: 1 | J9: 0 | K9: 0 | L9: 0 | M9: 0 | N9: 0 | O9: 0 | P9: 1 | Q9: 1 | R9: 0 | S9: 1 | T9: 0 | U9: 0 | V9: 1 | W9: 0 | X9: 1 | Y9: 0 | Z9: 2 | AA9: 0 | AB9: 0 | AC9: 0 | AD9: 0 | AE9: 0 | AF9: 0 | AG9: 0 | AH9: =SUM(C9:AG9) -> 10 | AI9: =Februari!AG9 -> 24 | AJ9: =AH9+AI9 -> 34 | AK9: =Februari!AK9 -> 12 | AL9: =Februari!AL9 -> 12 | AM9: 9 | AN9: =AK9+AM9 -> 21 | AO9: =AJ9-AN9 -> 13 | AP9: dalam proses
B10: Izin Gangguan Ulang / HO | C10: 0 | D10: 0 | E10: 0 | F10: 0 | G10: 0 | H10: 1 | I10: 0 | J10: 0 | K10: 0 | L10: 0 | M10: 0 | N10: 0 | O10: 1 | P10: 0 | Q10: 0 | R10: 4 | S10: 0 | T10: 0 | U10: 0 | V10: 2 | W10: 0 | X10: 0 | Y10: 0 | Z10: 2 | AA10: 0 | AB10: 0 | AC10: 0 | AD10: 0 | AE10: 0 | AF10: 0 | AG10: 0 | AH10: =SUM(C10:AG10) -> 10 | AI10: =Februari!AG10 -> 51 | AJ10: =AH10+AI10 -> 61 | AK10: =Februari!AK10 -> 48 | AL10: =Februari!AL10 -> 3 | AM10: 12 | AN10: =AK10+AM10 -> 60 | AO10: =AJ10-AN10 -> 1 | AP10: dalam proses
A11: 4 | B11: Izin Penggilingan Padi Keliling | C11: 0 | D11: 0 | E11: 0 | F11: 0 | G11: 0 | H11: 0 | I11: 0 | J11: 0 | K11: 0 | L11: 0 | M11: 0 | N11: 0 | O11: 0 | P11: 0 | Q11: 0 | R11: 0 | S11: 0 | T11: 0 | U11: 0 | V11: 0 | W11: 0 | X11: 0 | Y11: 0 | Z11: 0 | AA11: 0 | AB11: 0 | AC11: 0 | AD11: 0 | AE11: 0 | AF11: 0 | AG11: 0 | AH11: =SUM(C11:AG11) -> 0 | AI11: =Februari!AG11 -> 0 | AJ11: =AH11+AI11 -> 0 | AK11: =Februari!AK11 -> 0 | AL11: =Februari!AL11 -> 0 | AM11: 0 | AN11: =AK11+AM11 -> 0
A12: 5 | B12: Izin Usaha Pengangkutan | C12: 0 | D12: 0 | E12: 0 | F12: 0 | G12: 0 | H12: 0 | I12: 0 | J12: 0 | K12: 0 | L12: 0 | M12: 0 | N12: 0 | O12: 0 | P12: 0 | Q12: 0 | R12: 0 | S12: 0 | T12: 0 | U12: 0 | V12: 0 | W12: 0 | X12: 0 | Y12: 0 | Z12: 0 | AA12: 0 | AB12: 0 | AC12: 0 | AD12: 0 | AE12: 0 | AF12: 0 | AG12: 0 | AH12: =SUM(C12:AG12) -> 0 | AI12: =Februari!AG12 -> 0 | AJ12: =AH12+AI12 -> 0 | AK12: =Februari!AK12 -> 0 | AL12: =Februari!AL12 -> 0 | AM12: 0 | AN12: =AK12+AM12 -> 0
A13: 6 | B13: Izin Trayek | C13: 0 | D13: 0 | E13: 0 | F13: 0 | G13: 0 | H13: 0 | I13: 0 | J13: 0 | K13: 0 | L13: 0 | M13: 0 | N13: 0 | O13: 0 | P13: 0 | Q13: 0 | R13: 0 | S13: 0 | T13: 0 | U13: 0 | V13: 0 | W13: 0 | X13: 0 | Y13: 0 | Z13: 0 | AA13: 0 | AB13: 0 | AC13: 0 | AD13: 0 | AE13: 0 | AF13: 0 | AG13: 0 | AH13: =SUM(C13:AG13) -> 0 | AI13: =Februari!AG13 -> 0 | AJ13: =AH13+AI13 -> 0 | AK13: =Februari!AK13 -> 0 | AL13: =Februari!AL13 -> 0 | AM13: 0 | AN13: =AK13+AM13 -> 0
A14: 7 | B14: Izin Insidentil | C14: 0 | D14: 0 | E14: 0 | F14: 0 | G14: 0 | H14: 0 | I14: 0 | J14: 0 | K14: 0 | L14: 0 | M14: 0 | N14: 0 | O14: 0 | P14: 0 | Q14: 0 | R14: 0 | S14: 0 | T14: 0 | U14: 0 | V14: 0 | W14: 0 | X14: 0 | Y14: 0 | Z14: 0 | AA14: 0 | AB14: 0 | AC14: 0 | AD14: 0 | AE14: 0 | AF14: 0 | AG14: 0 | AH14: =SUM(C14:AG14) -> 0 | AI14: =Februari!AG14 -> 0 | AJ14: =AH14+AI14 -> 0 | AK14: =Februari!AK14 -> 0 | AL14: =Februari!AL14 -> 0 | AM14: 0 | AN14: =AK14+AM14 -> 0
A15: 8 | B15: Izin Mendirikan Bangunan (IMB) | C15: 1 | D15: 0 | E15: 1 | F15: 0 | G15: 0 | H15: 2 | I15: 0 | J15: 0 | K15: 1 | L15: 1 | M15: 0 | N15: 0 | O15: 2 | P15: 1 | Q15: 2 | R15: 2 | S15: 0 | T15: 0 | U15: 0 | V15: 1 | W15: 1 | X15: 1 | Y15: 0 | Z15: 2 | AA15: 0 | AB15: 0 | AC15: 0 | AD15: 0 | AE15: 0 | AF15: 1 | AG15: 1 | AH15: =SUM(C15:AG15) -> 20 | AI15: =Februari!AG15 -> 28 | AJ15: =AH15+AI15 -> 48 | AK15: =Februari!AK15 -> 16 | AL15: =Februari!AL15 -> 12 | AM15: 17 | AN15: =AK15+AM15 -> 33 | AO15: =AJ15-AN15 -> 15 | AP15: dalam proses
A16: 9 | B16: Izin Usaha Industri (IUI) | C16: 0 | D16: 0 | E16: 0 | F16: 0 | G16: 0 | H16: 0 | I16: 0 | J16: 0 | K16: 1 | L16: 0 | M16: 0 | N16: 0 | O16: 0 | P16: 0 | Q16: 0 | R16: 0 | S16: 0 | T16: 0 | U16: 0 | V16: 0 | W16: 0 | X16: 0 | Y16: 0 | Z16: 0 | AA16: 0 | AB16: 0 | AC16: 0 | AD16: 0 | AE16: 0 | AF16: 0 | AG16: 0 | AH16: =SUM(C16:AG16) -> 1 | AI16: =Februari!AG16 -> 0 | AJ16: =AH16+AI16 -> 1 | AK16: =Februari!AK16 -> 0 | AL16: =Februari!AL16 -> 0 | AM16: 0 | AN16: =AK16+AM16 -> 0 | AO16: =AJ16-AN16 -> 1 | AP16: dalam proses
A17: 10 | B17: Tanda Daftar Industri (TDI) | C17: 0 | D17: 0 | E17: 0 | F17: 0 | G17: 0 | H17: 0 | I17: 0 | J17: 0 | K17: 0 | L17: 0 | M17: 0 | N17: 0 | O17: 0 | P17: 0 | Q17: 0 | R17: 0 | S17: 0 | T17: 0 | U17: 0 | V17: 1 | W17: 0 | X17: 0 | Y17: 0 | Z17: 0 | AA17: 0 | AB17: 0 | AC17: 0 | AD17: 0 | AE17: 0 | AF17: 0 | AG17: 0 | AH17: =SUM(C17:AG17) -> 1 | AI17: =Februari!AG17 -> 5 | AJ17: =AH17+AI17 -> 6 | AK17: =Februari!AK17 -> 2 | AL17: =Februari!AL17 -> 3 | AM17: 4 | AN17: =AK17+AM17 -> 6
A18: 11 | B18: Surat Izin Usaha Perdagangan (SIUP) | C18: 13 | D18: 2 | E18: 4 | F18: 0 | G18: 0 | H18: 10 | I18: 4 | J18: 3 | K18: 8 | L18: 0 | M18: 0 | N18: 0 | O18: 8 | P18: 6 | Q18: 3 | R18: 8 | S18: 1 | T18: 0 | U18: 0 | V18: 6 | W18: 2 | X18: 5 | Y18: 1 | Z18: 2 | AA18: 0 | AB18: 0 | AC18: 5 | AD18: 0 | AE18: 1 | AF18: 3 | AG18: 2 | AH18: =SUM(C18:AG18) -> 97 | AI18: 106 | AJ18: =AH18+AI18 -> 203 | AK18: 87 | AL18: =Februari!AL18 -> 19 | AM18: 88 | AN18: =AK18+AM18 -> 175 | AO18: =AJ18-AN18 -> 28 | AP18: dalam proses
A19: 12 | B19: Tanda Daftar Gudang (TDG) | C19: 0 | D19: 0 | E19: 0 | F19: 0 | G19: 0 | H19: 0 | I19: 0 | J19: 0 | K19: 0 | L19: 0 | M19: 0 | N19: 0 | O19: 0 | P19: 1 | Q19: 0 | R19: 0 | S19: 0 | T19: 0 | U19: 0 | V19: 0 | W19: 0 | X19: 0 | Y19: 0 | Z19: 0 | AA19: 0 | AB19: 0 | AC19: 0 | AD19: 0 | AE19: 0 | AF19: 0 | AG19: 0 | AH19: =SUM(C19:AG19) -> 1 | AI19: =Februari!AG20 -> 6 | AJ19: =AH19+AI19 -> 7 | AK19: 3 | AL19: =Februari!AL20 -> 3 | AM19: 4 | AN19: =AK19+AM19 -> 7
A20: 13 | B20: Tanda Daftar Perusahaan (TDP) | C20: 13 | D20: 2 | E20: 4 | F20: 0 | G20: 0 | H20: 9 | I20: 4 | J20: 2 | K20: 8 | L20: 0 | M20: 0 | N20: 0 | O20: 8 | P20: 6 | Q20: 3 | R20: 8 | S20: 1 | T20: 0 | U20: 0 | V20: 5 | W20: 1 | X20: 5 | Y20: 1 | Z20: 2 | AA20: 0 | AB20: 0 | AC20: 4 | AD20: 0 | AE20: 1 | AF20: 3 | AG20: 2 | AH20: =SUM(C20:AG20) -> 92 | AI20: =Februari!AG21 -> 61 | AJ20: =AH20+AI20 -> 153 | AK20: 36 | AL20: 36 | AM20: 84 | AN20: =AK20+AM20 -> 120 | AO20: =AJ20-AN20 -> 33 | AP20: dalam proses
A21: 14 | B21: Izin Usaha Jasa Kontruksi (IUJK) | C21: 1 | D21: 0 | E21: 0 | F21: 0 | G21: 0 | H21: 0 | I21: 0 | J21: 0 | K21: 0 | L21: 0 | M21: 0 | N21: 0 | O21: 1 | P21: 0 | Q21: 0 | R21: 0 | S21: 0 | T21: 0 | U21: 0 | V21: 1 | W21: 0 | X21: 0 | Y21: 0 | Z21: 0 | AA21: 0 | AB21: 0 | AC21: 0 | AD21: 0 | AE21: 0 | AF21: 1 | AG21: 0 | AH21: =SUM(C21:AG21) -> 4 | AI21: =Februari!AG23 -> 16 | AJ21: =AH21+AI21 -> 20 | AK21: =Februari!AK23 -> 10 | AL21: =Februari!AL23 -> 6 | AM21: 3 | AN21: =AK21+AM21 -> 13 | AO21: =AJ21-AN21 -> 7 | AP21: dalam proses
B22: Kartu Penanggungjawab Teknik Badan (KPTJBU) | C22: 0 | D22: 0 | E22: 0 | F22: 0 | G22: 0 | H22: 0 | I22: 0 | J22: 0 | K22: 0 | L22: 0 | M22: 0 | N22: 0 | O22: 1 | P22: 0 | Q22: 0 | R22: 0 | S22: 0 | T22: 0 | U22: 0 | V22: 1 | W22: 0 | X22: 0 | Y22: 0 | Z22: 0 | AA22: 0 | AB22: 0 | AC22: 0 | AD22: 0 | AE22: 0 | AF22: 1 | AG22: 0 | AH22: =SUM(C22:AG22) -> 3 | AI22: =Februari!AG24 -> 14 | AJ22: =AH22+AI22 -> 17 | AK22: =Februari!AK24 -> 14 | AL22: =Februari!AL24 -> 0 | AM22: 3 | AN22: =AK22+AM22 -> 17
A23: 15 | B23: Tanda Daftar Usaha Pariwisata | C23: 0 | D23: 0 | E23: 0 | F23: 0 | G23: 0 | H23: 0 | I23: 1 | J23: 0 | K23: 0 | L23: 0 | M23: 0 | N23: 0 | O23: 0 | P23: 0 | Q23: 0 | R23: 1 | S23: 0 | T23: 0 | U23: 0 | V23: 1 | W23: 0 | X23: 0 | Y23: 0 | Z23: 0 | AA23: 0 | AB23: 0 | AC23: 0 | AD23: 0 | AE23: 0 | AF23: 0 | AG23: 0 | AH23: =SUM(C23:AG23) -> 3 | AI23: =Februari!AG25 -> 3 | AJ23: =AH23+AI23 -> 6 | AK23: =Februari!AK25 -> 2 | AL23: =Februari!AL25 -> 1 | AM23: 3 | AN23: =AK23+AM23 -> 5 | AO23: =AJ23-AN23 -> 1 | AP23: dalam proses
A24: 16 | B24: Izin Penggunaan Gedung Juang | C24: 0 | D24: 0 | E24: 0 | F24: 0 | G24: 0 | H24: 0 | I24: 0 | J24: 0 | K24: 0 | L24: 0 | M24: 0 | N24: 0 | O24: 1 | P24: 1 | Q24: 0 | R24: 0 | S24: 2 | T24: 0 | U24: 0 | V24: 1 | W24: 0 | X24: 0 | Y24: 1 | Z24: 0 | AA24: 0 | AB24: 0 | AC24: 1 | AD24: 0 | AE24: 0 | AF24: 0 | AG24: 0 | AH24: =SUM(C24:AG24) -> 7 | AI24: =Februari!AG26 -> 7 | AJ24: =AH24+AI24 -> 14 | AK24: =Februari!AK26 -> 2 | AL24: =Februari!AL26 -> 5 | AM24: 8 | AN24: =AK24+AM24 -> 10 | AO24: =AJ24-AN24 -> 4 | AP24: dalam proses
A25: 17 | B25: Izin Penggunaan Stadion Candradimuka | C25: 0 | D25: 0 | E25: 0 | F25: 0 | G25: 0 | H25: 0 | I25: 0 | J25: 0 | K25: 0 | L25: 0 | M25: 0 | N25: 0 | O25: 0 | P25: 0 | Q25: 0 | R25: 0 | S25: 0 | T25: 0 | U25: 0 | V25: 0 | W25: 0 | X25: 0 | Y25: 0 | Z25: 0 | AA25: 0 | AB25: 0 | AC25: 0 | AD25: 0 | AE25: 0 | AF25: 0 | AG25: 0 | AH25: =SUM(C25:AG25) -> 0 | AI25: =Februari!AG27 -> 0 | AJ25: =AH25+AI25 -> 0 | AK25: =Februari!AK27 -> 0 | AL25: =Februari!AL27 -> 0 | AM25: 0 | AN25: =AK25+AM25 -> 0
A26: 18 | B26: Izin Penggunaan Alun-alun Kebumen | C26: 0 | D26: 0 | E26: 0 | F26: 0 | G26: 0 | H26: 0 | I26: 0 | J26: 0 | K26: 1 | L26: 0 | M26: 0 | N26: 0 | O26: 1 | P26: 0 | Q26: 0 | R26: 1 | S26: 0 | T26: 0 | U26: 0 | V26: 0 | W26: 1 | X26: 1 | Y26: 0 | Z26: 0 | AA26: 0 | AB26: 0 | AC26: 0 | AD26: 0 | AE26: 0 | AF26: 0 | AG26: 1 | AH26: =SUM(C26:AG26) -> 6 | AI26: =Februari!AG28 -> 5 | AJ26: =AH26+AI26 -> 11 | AK26: =Februari!AK28 -> 3 | AL26: =Februari!AL28 -> 2 | AM26: 4 | AN26: =AK26+AM26 -> 7 | AO26: =AJ26-AN26 -> 4 | AP26: dalam proses
A27: 19 | B27: Izin Pemasangan Reklame | C27: 0 | D27: 2 | E27: 0 | F27: 0 | G27: 0 | H27: 2 | I27: 1 | J27: 3 | K27: 0 | L27: 0 | M27: 0 | N27: 0 | O27: 4 | P27: 1 | Q27: 1 | R27: 2 | S27: 0 | T27: 0 | U27: 0 | V27: 0 | W27: 2 | X27: 3 | Y27: 3 | Z27: 0 | AA27: 0 | AB27: 0 | AC27: 3 | AD27: 0 | AE27: 4 | AF27: 1 | AG27: 1 | AH27: =SUM(C27:AG27) -> 33 | AI27: =Februari!AG29 -> 82 | AJ27: =AH27+AI27 -> 115 | AK27: =Februari!AK29 -> 82 | AL27: =Februari!AL29 -> 0 | AM27: 32 | AN27: =AK27+AM27 -> 114 | AO27: =AJ27-AN27 -> 1 | AP27: dalam proses
A28: 20 | B28: Izin Pengelolaan Sarang Burung Lawet | C28: 0 | D28: 0 | E28: 0 | F28: 0 | G28: 0 | H28: 0 | I28: 0 | J28: 0 | K28: 0 | L28: 0 | M28: 0 | N28: 0 | O28: 0 | P28: 0 | Q28: 0 | R28: 0 | S28: 0 | T28: 0 | U28: 0 | V28: 0 | W28: 0 | X28: 0 | Y28: 0 | Z28: 0 | AA28: 0 | AB28: 0 | AC28: 0 | AD28: 0 | AE28: 0 | AF28: 0 | AG28: 0 | AH28: =SUM(C28:AG28) -> 0 | AI28: =Februari!AG30 -> 0 | AJ28: =AH28+AI28 -> 0 | AK28: =Februari!AK30 -> 0 | AL28: =Februari!AL30 -> 0 | AM28: 0 | AN28: =AK28+AM28 -> 0
A29: 21 | B29: Izin Mendirikan Rumah Sakit Umum | C29: 0 | D29: 0 | E29: 0 | F29: 0 | G29: 0 | H29: 0 | I29: 0 | J29: 0 | K29: 0 | L29: 0 | M29: 0 | N29: 0 | O29: 0 | P29: 0 | Q29: 0 | R29: 0 | S29: 0 | T29: 0 | U29: 0 | V29: 0 | W29: 0 | X29: 0 | Y29: 0 | Z29: 0 | AA29: 0 | AB29: 0 | AC29: 0 | AD29: 0 | AE29: 0 | AF29: 0 | AG29: 0 | AH29: =SUM(C29:AG29) -> 0 | AI29: =Februari!AG31 -> 0 | AJ29: =AH29+AI29 -> 0 | AK29: =Februari!AK31 -> 0 | AL29: =Februari!AL31 -> 0 | AM29: 0 | AN29: =AK29+AM29 -> 0
A30: 22 | B30: Izin Mendirikan Rumah Sakit Khusus | C30: 0 | D30: 0 | E30: 0 | F30: 0 | G30: 0 | H30: 0 | I30: 0 | J30: 0 | K30: 0 | L30: 0 | M30: 0 | N30: 0 | O30: 0 | P30: 0 | Q30: 0 | R30: 0 | S30: 0 | T30: 0 | U30: 0 | V30: 0 | W30: 0 | X30: 0 | Y30: 0 | Z30: 0 | AA30: 0 | AB30: 0 | AC30: 0 | AD30: 0 | AE30: 0 | AF30: 0 | AG30: 0 | AH30: =SUM(C30:AG30) -> 0 | AI30: =Februari!AG32 -> 0 | AJ30: =AH30+AI30 -> 0 | AK30: =Februari!AK32 -> 0 | AL30: =Februari!AL32 -> 0 | AM30: 0 | AN30: =AK30+AM30 -> 0
A31: 23 | B31: Izin Klinik Pratama | C31: 1 | D31: 0 | E31: 0 | F31: 0 | G31: 0 | H31: 0 | I31: 0 | J31: 0 | K31: 0 | L31: 0 | M31: 0 | N31: 0 | O31: 0 | P31: 0 | Q31: 0 | R31: 0 | S31: 0 | T31: 0 | U31: 0 | V31: 0 | W31: 0 | X31: 0 | Y31: 0 | Z31: 0 | AA31: 0 | AB31: 0 | AC31: 0 | AD31: 0 | AE31: 0 | AF31: 0 | AG31: 0 | AH31: =SUM(C31:AG31) -> 1 | AI31: =Februari!AG33 -> 0 | AJ31: =AH31+AI31 -> 1 | AK31: =Februari!AK33 -> 0 | AL31: =Februari!AL33 -> 0 | AM31: 0 | AN31: =AK31+AM31 -> 0 | AO31: =AJ31-AN31 -> 1 | AP31: dalam proses
A32: 24 | B32: Izin Klinik Utama | C32: 0 | D32: 0 | E32: 0 | F32: 0 | G32: 0 | H32: 0 | I32: 0 | J32: 0 | K32: 0 | L32: 0 | M32: 0 | N32: 0 | O32: 0 | P32: 0 | Q32: 0 | R32: 0 | S32: 0 | T32: 0 | U32: 0 | V32: 0 | W32: 0 | X32: 0 | Y32: 0 | Z32: 0 | AA32: 0 | AB32: 0 | AC32: 0 | AD32: 0 | AE32: 0 | AF32: 0 | AG32: 0 | AH32: =SUM(C32:AG32) -> 0 | AI32: =Februari!AG34 -> 0 | AJ32: =AH32+AI32 -> 0 | AK32: =Februari!AK34 -> 0 | AL32: =Februari!AL34 -> 0 | AM32: 0 | AN32: =AK32+AM32 -> 0
A33: 25 | B33: Izin Laboratorium Klinik Pratama | C33: 0 | D33: 0 | E33: 0 | F33: 0 | G33: 0 | H33: 0 | I33: 0 | J33: 0 | K33: 0 | L33: 0 | M33: 0 | N33: 0 | O33: 0 | P33: 0 | Q33: 0 | R33: 0 | S33: 0 | T33: 0 | U33: 0 | V33: 0 | W33: 0 | X33: 0 | Y33: 0 | Z33: 0 | AA33: 0 | AB33: 0 | AC33: 0 | AD33: 0 | AE33: 0 | AF33: 0 | AG33: 0 | AH33: =SUM(C33:AG33) -> 0 | AI33: =Februari!AG35 -> 0 | AJ33: =AH33+AI33 -> 0 | AK33: =Februari!AK35 -> 0 | AL33: =Februari!AL35 -> 0 | AM33: 0 | AN33: =AK33+AM33 -> 0
A34: 26 | B34: Izin Laboratorium Klinik Utama | C34: 0 | D34: 0 | E34: 0 | F34: 0 | G34: 0 | H34: 0 | I34: 0 | J34: 0 | K34: 0 | L34: 0 | M34: 0 | N34: 0 | O34: 0 | P34: 0 | Q34: 0 | R34: 0 | S34: 0 | T34: 0 | U34: 0 | V34: 0 | W34: 0 | X34: 0 | Y34: 0 | Z34: 0 | AA34: 0 | AB34: 0 | AC34: 0 | AD34: 0 | AE34: 0 | AF34: 0 | AG34: 0 | AH34: =SUM(C34:AG34) -> 0 | AI34: =Februari!AG36 -> 0 | AJ34: =AH34+AI34 -> 0 | AK34: =Februari!AK36 -> 0 | AL34: =Februari!AL36 -> 0 | AM34: 0 | AN34: =AK34+AM34 -> 0
A35: 27 | B35: Izin Apotik | C35: 0 | D35: 0 | E35: 0 | F35: 0 | G35: 0 | H35: 0 | I35: 0 | J35: 0 | K35: 0 | L35: 0 | M35: 0 | N35: 0 | O35: 0 | P35: 0 | Q35: 0 | R35: 0 | S35: 0 | T35: 0 | U35: 0 | V35: 0 | W35: 1 | X35: 0 | Y35: 0 | Z35: 0 | AA35: 0 | AB35: 0 | AC35: 0 | AD35: 0 | AE35: 0 | AF35: 0 | AG35: 0 | AH35: =SUM(C35:AG35) -> 1 | AI35: =Februari!AG37 -> 4 | AJ35: =AH35+AI35 -> 5 | AK35: =Februari!AK37 -> 4 | AL35: =Februari!AL37 -> 0 | AM35: 0 | AN35: =AK35+AM35 -> 4 | AO35: =AJ35-AN35 -> 1 | AP35: dalam proses
A36: 28 | B36: Izin Toko Obat | C36: 0 | D36: 0 | E36: 0 | F36: 0 | G36: 0 | H36: 0 | I36: 0 | J36: 0 | K36: 0 | L36: 0 | M36: 0 | N36: 0 | O36: 0 | P36: 0 | Q36: 0 | R36: 0 | S36: 0 | T36: 0 | U36: 0 | V36: 0 | W36: 0 | X36: 0 | Y36: 0 | Z36: 0 | AA36: 0 | AB36: 0 | AC36: 0 | AD36: 0 | AE36: 0 | AF36: 0 | AG36: 0 | AH36: =SUM(C36:AG36) -> 0 | AI36: =Februari!AG38 -> 3 | AJ36: =AH36+AI36 -> 3 | AK36: =Februari!AK38 -> 0 | AL36: =Februari!AL38 -> 3 | AM36: 2 | AN36: =AK36+AM36 -> 2 | AO36: =AJ36-AN36 -> 1 | AP36: dalam proses
A37: 29 | B37: Izin Optik | C37: 0 | D37: 0 | E37: 0 | F37: 0 | G37: 0 | H37: 0 | I37: 0 | J37: 0 | K37: 0 | L37: 0 | M37: 0 | N37: 0 | O37: 0 | P37: 0 | Q37: 0 | R37: 0 | S37: 0 | T37: 0 | U37: 0 | V37: 0 | W37: 0 | X37: 0 | Y37: 0 | Z37: 0 | AA37: 0 | AB37: 0 | AC37: 0 | AD37: 0 | AE37: 0 | AF37: 0 | AG37: 0 | AH37: =SUM(C37:AG37) -> 0 | AI37: =Februari!AG39 -> 0 | AJ37: =AH37+AI37 -> 0 | AK37: =Februari!AK39 -> 0 | AL37: =Februari!AL39 -> 0 | AM37: 0 | AN37: =AK37+AM37 -> 0
A38: 30 | B38: Izin Industri Rumah Tangga Makanan Minuman (PIRT) | C38: 1 | D38: 0 | E38: 3 | F38: 0 | G38: 0 | H38: 5 | I38: 1 | J38: 0 | K38: 2 | L38: 0 | M38: 0 | N38: 0 | O38: 0 | P38: 0 | Q38: 2 | R38: 0 | S38: 1 | T38: 0 | U38: 0 | V38: 1 | W38: 0 | X38: 0 | Y38: 0 | Z38: 0 | AA38: 0 | AB38: 0 | AC38: 1 | AD38: 0 | AE38: 0 | AF38: 0 | AG38: 0 | AH38: =SUM(C38:AG38) -> 17 | AI38: =Februari!AG40 -> 62 | AJ38: =AH38+AI38 -> 79 | AK38: =Februari!AK40 -> 19 | AL38: =Februari!AL40 -> 43 | AM38: 19 | AN38: =AK38+AM38 -> 38 | AO38: =AJ38-AN38 -> 41 | AP38: dalam proses
A39: 31 | B39: Tanda Daftar Depot Air Minum | C39: 0 | D39: 0 | E39: 0 | F39: 0 | G39: 0 | H39: 0 | I39: 0 | J39: 0 | K39: 4 | L39: 0 | M39: 0 | N39: 0 | O39: 0 | P39: 0 | Q39: 0 | R39: 0 | S39: 0 | T39: 0 | U39: 0 | V39: 0 | W39: 0 | X39: 0 | Y39: 0 | Z39: 0 | AA39: 0 | AB39: 0 | AC39: 0 | AD39: 0 | AE39: 0 | AF39: 0 | AG39: 0 | AH39: =SUM(C39:AG39) -> 4 | AI39: =Februari!AG41 -> 3 | AJ39: =AH39+AI39 -> 7 | AK39: =Februari!AK41 -> 2 | AL39: =Februari!AL41 -> 1 | AM39: 4 | AN39: =AK39+AM39 -> 6 | AO39: =AJ39-AN39 -> 1 | AP39: dalam proses
A40: 32 | B40: Tanda Daftar Pengobatan Tradisional | C40: 0 | D40: 0 | E40: 0 | F40: 0 | G40: 0 | H40: 0 | I40: 0 | J40: 0 | K40: 0 | L40: 0 | M40: 0 | N40: 0 | O40: 0 | P40: 0 | Q40: 0 | R40: 0 | S40: 0 | T40: 0 | U40: 0 | V40: 0 | W40: 0 | X40: 0 | Y40: 0 | Z40: 0 | AA40: 0 | AB40: 0 | AC40: 0 | AD40: 0 | AE40: 0 | AF40: 0 | AG40: 0 | AH40: =SUM(C40:AG40) -> 0 | AI40: =Februari!AG42 -> 0 | AJ40: =AH40+AI40 -> 0 | AK40: =Februari!AK42 -> 0 | AL40: =Februari!AL42 -> 0 | AM40: 0 | AN40: =AK40+AM40 -> 0
A41: 33 | B41: Izin Operasional Pendirian Bursa Kerja Khusus (BKK) | C41: 0 | D41: 0 | E41: 0 | F41: 0 | G41: 0 | H41: 0 | I41: 0 | J41: 0 | K41: 0 | L41: 0 | M41: 0 | N41: 0 | O41: 0 | P41: 0 | Q41: 0 | R41: 0 | S41: 0 | T41: 0 | U41: 0 | V41: 0 | W41: 0 | X41: 0 | Y41: 0 | Z41: 1 | AA41: 0 | AB41: 0 | AC41: 0 | AD41: 0 | AE41: 0 | AF41: 0 | AG41: 0 | AH41: =SUM(C41:AG41) -> 1 | AI41: =Februari!AG43 -> 0 | AJ41: =AH41+AI41 -> 1 | AK41: =Februari!AK43 -> 0 | AL41: =Februari!AL43 -> 0 | AM41: 0 | AN41: =AK41+AM41 -> 0 | AO41: =AJ41-AN41 -> 1 | AP41: dalam proses
A42: 34 | B42: Izin Lembaga Pelatihan Kerja | C42: 0 | D42: 0 | E42: 0 | F42: 0 | G42: 0 | H42: 0 | I42: 2 | J42: 0 | K42: 0 | L42: 0 | M42: 0 | N42: 0 | O42: 0 | P42: 0 | Q42: 0 | R42: 0 | S42: 0 | T42: 0 | U42: 0 | V42: 0 | W42: 0 | X42: 0 | Y42: 0 | Z42: 0 | AA42: 0 | AB42: 0 | AC42: 0 | AD42: 0 | AE42: 0 | AF42: 0 | AG42: 0 | AH42: =SUM(C42:AG42) -> 2 | AI42: =Februari!AG44 -> 2 | AJ42: =AH42+AI42 -> 4 | AK42: =Februari!AK44 -> 2 | AL42: =Februari!AL44 -> 0 | AM42: 2 | AN42: =AK42+AM42 -> 4
A43: 35 | B43: Izin Perusahaan Penyedia Jasa Buruh ( Out Sourching) | C43: 0 | D43: 0 | E43: 0 | F43: 0 | G43: 0 | H43: 0 | I43: 0 | J43: 0 | K43: 0 | L43: 0 | M43: 0 | N43: 0 | O43: 0 | P43: 0 | Q43: 0 | R43: 0 | S43: 0 | T43: 0 | U43: 0 | V43: 0 | W43: 0 | X43: 0 | Y43: 0 | Z43: 0 | AA43: 0 | AB43: 0 | AC43: 0 | AD43: 0 | AE43: 0 | AF43: 0 | AG43: 0 | AH43: =SUM(C43:AG43) -> 0 | AI43: =Februari!AG45 -> 0 | AJ43: =AH43+AI43 -> 0 | AK43: =Februari!AK45 -> 0 | AL43: =Februari!AL45 -> 0 | AM43: 0 | AN43: =AK43+AM43 -> 0
A44: 36 | B44: Izin Pembuatan Tambak | C44: 0 | D44: 0 | E44: 0 | F44: 0 | G44: 0 | H44: 0 | I44: 0 | J44: 0 | K44: 0 | L44: 0 | M44: 0 | N44: 0 | O44: 0 | P44: 0 | Q44: 0 | R44: 0 | S44: 0 | T44: 0 | U44: 0 | V44: 0 | W44: 0 | X44: 0 | Y44: 0 | Z44: 0 | AA44: 0 | AB44: 0 | AC44: 0 | AD44: 0 | AE44: 0 | AF44: 0 | AG44: 0 | AH44: =SUM(C44:AG44) -> 0 | AI44: =Februari!AG46 -> 0 | AJ44: =AH44+AI44 -> 0 | AK44: =Februari!AK46 -> 0 | AL44: =Februari!AL46 -> 0 | AM44: 0 | AN44: =AK44+AM44 -> 0
A45: 37 | B45: Izin Usaha Perikanan | C45: 0 | D45: 0 | E45: 0 | F45: 0 | G45: 0 | H45: 0 | I45: 0 | J45: 0 | K45: 0 | L45: 0 | M45: 0 | N45: 0 | O45: 0 | P45: 0 | Q45: 0 | R45: 0 | S45: 0 | T45: 0 | U45: 0 | V45: 0 | W45: 0 | X45: 0 | Y45: 0 | Z45: 0 | AA45: 0 | AB45: 0 | AC45: 0 | AD45: 0 | AE45: 0 | AF45: 0 | AG45: 0 | AH45: =SUM(C45:AG45) -> 0 | AI45: =Februari!AG47 -> 0 | AJ45: =AH45+AI45 -> 0 | AK45: =Februari!AK47 -> 0 | AL45: =Februari!AL47 -> 0 | AM45: 0 | AN45: =AK45+AM45 -> 0
A46: 38 | B46: Izin Usaha Peternakan | C46: 0 | D46: 0 | E46: 0 | F46: 0 | G46: 0 | H46: 0 | I46: 0 | J46: 0 | K46: 0 | L46: 0 | M46: 0 | N46: 0 | O46: 0 | P46: 0 | Q46: 0 | R46: 0 | S46: 0 | T46: 0 | U46: 0 | V46: 0 | W46: 0 | X46: 0 | Y46: 0 | Z46: 0 | AA46: 0 | AB46: 0 | AC46: 0 | AD46: 0 | AE46: 0 | AF46: 0 | AG46: 0 | AH46: =SUM(C46:AG46) -> 0 | AI46: =Februari!AG48 -> 0 | AJ46: =AH46+AI46 -> 0 | AK46: =Februari!AK48 -> 0 | AL46: =Februari!AL48 -> 0 | AM46: 0 | AN46: =AK46+AM46 -> 0
A47: 39 | B47: Izin Pemakaian Tanah Pengairan | C47: 0 | D47: 0 | E47: 0 | F47: 0 | G47: 0 | H47: 0 | I47: 0 | J47: 0 | K47: 0 | L47: 0 | M47: 0 | N47: 0 | O47: 0 | P47: 0 | Q47: 0 | R47: 0 | S47: 0 | T47: 0 | U47: 0 | V47: 0 | W47: 0 | X47: 0 | Y47: 0 | Z47: 0 | AA47: 0 | AB47: 0 | AC47: 0 | AD47: 0 | AE47: 0 | AF47: 0 | AG47: 0 | AH47: =SUM(C47:AG47) -> 0 | AI47: =Februari!AG49 -> 0 | AJ47: =AH47+AI47 -> 0 | AK47: =Februari!AK49 -> 0 | AL47: =Februari!AL49 -> 0 | AM47: 0 | AN47: =AK47+AM47 -> 0
A48: 40 | B48: Izin Tebang dan Pengangkutan Kayu Rakyat | C48: 0 | D48: 0 | E48: 0 | F48: 0 | G48: 0 | H48: 0 | I48: 0 | J48: 0 | K48: 0 | L48: 0 | M48: 0 | N48: 0 | O48: 0 | P48: 0 | Q48: 0 | R48: 0 | S48: 0 | T48: 0 | U48: 0 | V48: 0 | W48: 0 | X48: 0 | Y48: 0 | Z48: 0 | AA48: 0 | AB48: 0 | AC48: 0 | AD48: 0 | AE48: 0 | AF48: 0 | AG48: 0 | AH48: =SUM(C48:AG48) -> 0 | AI48: =Februari!AG50 -> 0 | AJ48: =AH48+AI48 -> 0 | AK48: =Februari!AK50 -> 0 | AL48: =Februari!AL50 -> 0 | AM48: 0 | AN48: =AK48+AM48 -> 0
A49: 41 | B49: Izin Penggunaaan Tanah/Bangunan Milik Pemerintah Kabupaten | C49: 0 | D49: 0 | E49: 0 | F49: 0 | G49: 0 | H49: 0 | I49: 0 | J49: 0 | K49: 0 | L49: 0 | M49: 0 | N49: 0 | O49: 0 | P49: 0 | Q49: 0 | R49: 0 | S49: 0 | T49: 0 | U49: 0 | V49: 0 | W49: 0 | X49: 0 | Y49: 0 | Z49: 0 | AA49: 0 | AB49: 0 | AC49: 0 | AD49: 0 | AE49: 0 | AF49: 0 | AG49: 0 | AH49: =SUM(C49:AG49) -> 0 | AI49: =Februari!AG51 -> 0 | AJ49: =AH49+AI49 -> 0 | AK49: =Februari!AK51 -> 0 | AL49: =Februari!AL51 -> 0 | AM49: 0 | AN49: =AK49+AM49 -> 0
A50: 42 | B50: Izin Penempatan Kios /Los | C50: 0 | D50: 0 | E50: 0 | F50: 0 | G50: 0 | H50: 0 | I50: 0 | J50: 0 | K50: 0 | L50: 0 | M50: 0 | N50: 0 | O50: 0 | P50: 0 | Q50: 0 | R50: 0 | S50: 0 | T50: 0 | U50: 0 | V50: 0 | W50: 0 | X50: 0 | Y50: 19 | Z50: 0 | AA50: 0 | AB50: 0 | AC50: 0 | AD50: 0 | AE50: 0 | AF50: 0 | AG50: 0 | AH50: =SUM(C50:AG50) -> 19 | AI50: =Februari!AG52 -> 27 | AJ50: =AH50+AI50 -> 46 | AK50: =Februari!AK52 -> 0 | AL50: =Februari!AL52 -> 27 | AM50: 19 | AN50: =AK50+AM50 -> 19 | AO50: =AJ50-AN50 -> 27 | AP50: dalam proses
A51: 43 | B51: Limbah B3 | C51: 0 | D51: 0 | E51: 0 | F51: 0 | G51: 0 | H51: 0 | I51: 1 | J51: 0 | K51: 0 | L51: 0 | M51: 0 | N51: 0 | O51: 0 | P51: 0 | Q51: 0 | R51: 0 | S51: 0 | T51: 0 | U51: 0 | V51: 0 | W51: 0 | X51: 0 | Y51: 0 | Z51: 0 | AA51: 0 | AB51: 0 | AC51: 0 | AD51: 0 | AE51: 0 | AF51: 0 | AG51: 0 | AH51: =SUM(C51:AG51) -> 1 | AI51: =Februari!AG53 -> 5 | AJ51: =AH51+AI51 -> 6 | AK51: 0 | AL51: =Februari!AL53 -> 5 | AM51: 1 | AN51: =AK51+AM51 -> 1 | AO51: =AJ51-AN51 -> 5 | AP51: dalam proses
A52: 44 | B52: Izin Pengelolaan Air Limbah (IPAL) | C52: 0 | D52: 0 | E52: 0 | F52: 0 | G52: 0 | H52: 0 | I52: 1 | J52: 0 | K52: 0 | L52: 0 | M52: 0 | N52: 0 | O52: 0 | P52: 0 | Q52: 0 | R52: 0 | S52: 0 | T52: 0 | U52: 0 | V52: 0 | W52: 0 | X52: 0 | Y52: 0 | Z52: 0 | AA52: 0 | AB52: 0 | AC52: 0 | AD52: 0 | AE52: 0 | AF52: 0 | AG52: 0 | AH52: =SUM(C52:AG52) -> 1 | AI52: 0 | AJ52: =AH52+AI52 -> 1 | AK52: 0 | AN52: =AK52+AM52 -> 0 | AO52: =AJ52-AN52 -> 1 | AP52: dalam proses
A53: 45 | B53: Izin Operasional Rumah Sakit / Klinik | C53: 0 | D53: 0 | E53: 0 | F53: 0 | G53: 0 | H53: 0 | I53: 0 | J53: 0 | K53: 0 | L53: 0 | M53: 0 | N53: 0 | O53: 0 | P53: 0 | Q53: 0 | R53: 0 | S53: 0 | T53: 0 | U53: 0 | V53: 0 | W53: 0 | X53: 0 | Y53: 2 | Z53: 0 | AA53: 0 | AB53: 0 | AC53: 0 | AD53: 0 | AE53: 0 | AF53: 0 | AG53: 0 | AH53: =SUM(C53:AG53) -> 2 | AI53: =Februari!AG54 -> 5 | AJ53: =AH53+AI53 -> 7 | AK53: =Februari!AK54 -> 1 | AL53: =Februari!AL54 -> 4 | AM53: 0 | AN53: =AK53+AM53 -> 1 | AO53: =AJ53-AN53 -> 6 | AP53: dalam proses
A54: 46 | B54: Izin Lingkungan | C54: 0 | D54: 0 | E54: 0 | F54: 0 | G54: 0 | H54: 0 | I54: 0 | J54: 2 | K54: 1 | L54: 0 | M54: 0 | N54: 0 | O54: 1 | P54: 0 | Q54: 0 | R54: 0 | S54: 0 | T54: 0 | U54: 0 | V54: 0 | W54: 0 | X54: 1 | Y54: 2 | Z54: 0 | AA54: 0 | AB54: 0 | AC54: 0 | AD54: 0 | AE54: 1 | AF54: 0 | AG54: 0 | AH54: =SUM(C54:AG54) -> 8 | AI54: =Februari!AG55 -> 7 | AJ54: =AH54+AI54 -> 15 | AK54: =Februari!AJ55 -> 1 | AL54: =Februari!AL55 -> 3 | AM54: 4 | AN54: =AK54+AM54 -> 5 | AO54: =AJ54-AN54 -> 10 | AP54: dalam proses
A55: 47 | B55: Izin Tukang Gigi | C55: 0 | D55: 0 | E55: 0 | F55: 0 | G55: 0 | H55: 0 | I55: 0 | J55: 0 | K55: 0 | L55: 0 | M55: 0 | N55: 0 | O55: 0 | P55: 0 | Q55: 0 | R55: 0 | S55: 0 | T55: 0 | U55: 0 | V55: 0 | W55: 0 | X55: 0 | Y55: 0 | Z55: 0 | AA55: 0 | AB55: 0 | AC55: 0 | AD55: 0 | AE55: 0 | AF55: 0 | AG55: 0 | AH55: =SUM(C55:AG55) -> 0 | AI55: =Februari!AG56 -> 43 | AJ55: =AH55+AI55 -> 43 | AK55: =Februari!AJ56 -> 20 | AL55: =Februari!AL56 -> 14 | AM55: 20 | AN55: =AK55+AM55 -> 40 | AO55: =AJ55-AN55 -> 3 | AP55: dalam proses
A56: Jumlah | C56: =SUM(C7:C55) -> 33 | D56: =SUM(D7:D55) -> 7 | E56: =SUM(E7:E55) -> 13 | F56: =SUM(F7:F55) -> 0 | G56: =SUM(G7:G55) -> 0 | H56: =SUM(H7:H55) -> 29 | I56: =SUM(I7:I55) -> 16 | J56: =SUM(J7:J55) -> 10 | ... AN56: =SUM(AN7:AN55) -> 733 | AO56: =AJ56-AN56 -> 224 | AP56: dalam proses
AB58: Kebumen, 07 April 2017
AB59: KEPALA DINAS PENANAMAN MODAL
AB60: DAN PELAYANAN TERPADU SATU PINTU
AB61: KABUPATEN KEBUMEN
AB66: Drs. H. Hery Setyanto
AB67: Pembina Utama Muda
AB68: NIP. 19601023 199001 1 001

Sheet April
A1: LAPORAN BERKAS IZIN MASUK DAN TERPROSES DINAS PENANAMAN MODAL DAN PELAYANAN TERPADU SATU PINTU
A2: KABUPATEN KEBUMEN
A3: Bulan April 2017
A5: NO | B5: JENIS IZIN | C5: TANGGAL | AG5: PEMOHON BLN INI | AH5: PEMOHON BULAN LALU | AI5: TOTAL PERMOHONAN | AJ5: TERPROSES BULAN LALU | AK5: DALAM PROSES BULAN LALU | AL5: TERPROSES BLN INI (SK) | AM5: TOTAL TERPROSES | AN5: IZIN BELUM JADI | AO5: KETERANGAN
C6: 1 | D6: 2 | E6: 3 | F6: 4 | G6: 5 | H6: 6 | I6: 7 | J6: 8 | K6: 9 | L6: 10 | M6: 11 | N6: 12 | O6: 13 | P6: 14 | Q6: 15 | R6: 16 | S6: 17 | T6: 18 | U6: 19 | V6: 20 | W6: 21 | X6: 22 | Y6: 23 | Z6: 24 | AA6: 25 | AB6: 26 | AC6: 27 | AD6: 28 | AE6: 29 | AF6: 30
A7: 1 | B7: Izin Prinsip | C7: 0 | D7: 0 | E7: 0 | F7: 0 | G7: 1 | H7: 2 | I7: 0 | J7: 0 | K7: 0 | L7: 1 | M7: 0 | N7: 2 | O7: 0 | P7: 0 | Q7: 0 | R7: 0 | S7: 1 | T7: 0 | U7: 0 | V7: 0 | W7: 0 | X7: 0 | Y7: 0 | Z7: 0 | AA7: 0 | AB7: 1 | AC7: 0 | AD7: 0 | AE7: 0 | AF7: 0 | AG7: =SUM(C7:AF7) -> 8 | AH7: =Maret!AJ7 -> 31 | AI7: =AG7+AH7 -> 39 | AJ7: =Maret!AN7 -> 16 | AK7: =Maret!AO7 -> 15 | AL7: 9 | AM7: =AJ7+AL7 -> 25 | AN7: =AI7-AM7 -> 14 | AO7: dalam proses
A8: 2 | B8: Izin Lokasi/Izin perencanaan letak penggunaan tanah/ penetapan lokasi | C8: 0 | D8: 0 | E8: 0 | F8: 0 | G8: 0 | H8: 4 | I8: 0 | J8: 0 | K8: 0 | L8: 1 | M8: 0 | N8: 0 | O8: 0 | P8: 0 | Q8: 0 | R8: 0 | S8: 1 | T8: 0 | U8: 1 | V8: 0 | W8: 0 | X8: 0 | Y8: 0 | Z8: 0 | AA8: 0 | AB8: 1 | AC8: 0 | AD8: 0 | AE8: 0 | AF8: 0 | AG8: =SUM(C8:AF8) -> 8 | AH8: =Maret!AJ8 -> 12 | AI8: =AG8+AH8 -> 20 | AJ8: =Maret!AN8 -> 9 | AK8: =Maret!AO8 -> 3 | AL8: 6 | AM8: =AJ8+AL8 -> 15 | AN8: =AI8-AM8 -> 5 | AO8: dalam proses
A9: 3 | B9: Izin Gangguan/HO | C9: 0 | D9: 0 | E9: 0 | F9: 1 | G9: 1 | H9: 6 | I9: 0 | J9: 0 | K9: 0 | L9: 0 | M9: 0 | N9: 0 | O9: 0 | P9: 0 | Q9: 0 | R9: 0 | S9: 0 | T9: 0 | U9: 0 | V9: 0 | W9: 0 | X9: 0 | Y9: 0 | Z9: 0 | AA9: 0 | AB9: 0 | AC9: 0 | AD9: 0 | AE9: 0 | AF9: 0 | AG9: =SUM(C9:AF9) -> 8 | AH9: =Maret!AJ9 -> 34 | AI9: =AG9+AH9 -> 42 | AJ9: =Maret!AN9 -> 21 | AK9: =Maret!AO9 -> 13 | AL9: 0 | AM9: =AJ9+AL9 -> 21 | AN9: =AI9-AM9 -> 21 | AO9: berkas dikembalikan
B10: Izin Gangguan Ulang / HO | C10: 0 | D10: 0 | E10: 0 | F10: 2 | G10: 2 | H10: 0 | I10: 0 | J10: 0 | K10: 0 | L10: 0 | M10: 0 | N10: 0 | O10: 0 | P10: 0 | Q10: 0 | R10: 0 | S10: 0 | T10: 0 | U10: 0 | V10: 0 | W10: 0 | X10: 0 | Y10: 0 | Z10: 0 | AA10: 0 | AB10: 0 | AC10: 0 | AD10: 0 | AE10: 0 | AF10: 0 | AG10: =SUM(C10:AF10) -> 4 | AH10: =Maret!AJ10 -> 61 | AI10: =AG10+AH10 -> 65 | AJ10: =Maret!AN10 -> 60 | AK10: =Maret!AO10 -> 1 | AL10: 0 | AM10: =AJ10+AL10 -> 60 | AN10: =AI10-AM10 -> 5 | AO10: berkas dikembalikan
A11: 4 | B11: Izin Penggilingan Padi Keliling | C11: 0 | D11: 0 | E11: 0 | F11: 0 | G11: 0 | H11: 0 | I11: 0 | J11: 0 | K11: 0 | L11: 0 | M11: 0 | N11: 0 | O11: 0 | P11: 0 | Q11: 0 | R11: 0 | S11: 0 | T11: 0 | U11: 0 | V11: 0 | W11: 0 | X11: 0 | Y11: 0 | Z11: 0 | AA11: 0 | AB11: 0 | AC11: 0 | AD11: 0 | AE11: 0 | AF11: 0 | AG11: =SUM(C11:AF11) -> 0 | AH11: =Maret!AJ11 -> 0 | AI11: =AG11+AH11 -> 0 | AJ11: =Maret!AN11 -> 0 | AK11: =Maret!AO11 -> 0 | AL11: 0 | AM11: =AJ11+AL11 -> 0
A12: 5 | B12: Izin Usaha Pengangkutan | C12: 0 | D12: 0 | E12: 0 | F12: 0 | G12: 0 | H12: 0 | I12: 0 | J12: 0 | K12: 0 | L12: 0 | M12: 0 | N12: 0 | O12: 0 | P12: 0 | Q12: 0 | R12: 0 | S12: 0 | T12: 0 | U12: 0 | V12: 0 | W12: 0 | X12: 0 | Y12: 0 | Z12: 0 | AA12: 0 | AB12: 0 | AC12: 0 | AD12: 0 | AE12: 0 | AF12: 0 | AG12: =SUM(C12:AF12) -> 0 | AH12: =Maret!AJ12 -> 0 | AI12: =AG12+AH12 -> 0 | AJ12: =Maret!AN12 -> 0 | AK12: =Maret!AO12 -> 0 | AL12: 0 | AM12: =AJ12+AL12 -> 0
A13: 6 | B13: Izin Trayek | C13: 0 | D13: 0 | E13: 0 | F13: 0 | G13: 0 | H13: 0 | I13: 0 | J13: 0 | K13: 0 | L13: 0 | M13: 0 | N13: 0 | O13: 0 | P13: 0 | Q13: 0 | R13: 0 | S13: 0 | T13: 0 | U13: 0 | V13: 0 | W13: 0 | X13: 0 | Y13: 0 | Z13: 0 | AA13: 0 | AB13: 0 | AC13: 0 | AD13: 0 | AE13: 0 | AF13: 0 | AG13: =SUM(C13:AF13) -> 0 | AH13: =Maret!AJ13 -> 0 | AI13: =AG13+AH13 -> 0 | AJ13: =Maret!AN13 -> 0 | AK13: =Maret!AO13 -> 0 | AL13: 0 | AM13: =AJ13+AL13 -> 0
A14: 7 | B14: Izin Insidentil | C14: 0 | D14: 0 | E14: 0 | F14: 0 | G14: 0 | H14: 0 | I14: 0 | J14: 0 | K14: 0 | L14: 0 | M14: 0 | N14: 0 | O14: 0 | P14: 0 | Q14: 0 | R14: 0 | S14: 0 | T14: 0 | U14: 0 | V14: 0 | W14: 0 | X14: 0 | Y14: 0 | Z14: 0 | AA14: 0 | AB14: 0 | AC14: 0 | AD14: 0 | AE14: 0 | AF14: 0 | AG14: =SUM(C14:AF14) -> 0 | AH14: =Maret!AJ14 -> 0 | AI14: =AG14+AH14 -> 0 | AJ14: =Maret!AN14 -> 0 | AK14: =Maret!AO14 -> 0 | AL14: 0 | AM14: =AJ14+AL14 -> 0
A15: 8 | B15: Izin Mendirikan Bangunan (IMB) | C15: 0 | D15: 0 | E15: 0 | F15: 0 | G15: 0 | H15: 7 | I15: 0 | J15: 0 | K15: 0 | L15: 0 | M15: 22 | N15: 0 | O15: 0 | P15: 0 | Q15: 0 | R15: 0 | S15: 4 | T15: 0 | U15: 0 | V15: 1 | W15: 1 | X15: 0 | Y15: 0 | Z15: 0 | AA15: 1 | AB15: 0 | AC15: 1 | AD15: 0 | AE15: 0 | AF15: 0 | AG15: =SUM(C15:AF15) -> 37 | AH15: =Maret!AJ15 -> 48 | AI15: =AG15+AH15 -> 85 | AJ15: =Maret!AN15 -> 33 | AK15: =Maret!AO15 -> 15 | AL15: 10 | AM15: =AJ15+AL15 -> 43 | AN15: =AI15-AM15 -> 42 | AO15: dalam proses
A16: 9 | B16: Izin Usaha Industri (IUI) | C16: 0 | D16: 0 | E16: 0 | F16: 0 | G16: 0 | H16: 0 | I16: 0 | J16: 0 | K16: 0 | L16: 0 | M16: 0 | N16: 0 | O16: 0 | P16: 0 | Q16: 0 | R16: 0 | S16: 0 | T16: 0 | U16: 0 | V16: 0 | W16: 0 | X16: 0 | Y16: 0 | Z16: 0 | AA16: 0 | AB16: 0 | AC16: 0 | AD16: 0 | AE16: 0 | AF16: 0 | AG16: =SUM(C16:AF16) -> 0 | AH16: =Maret!AJ16 -> 1 | AI16: =AG16+AH16 -> 1 | AJ16: =Maret!AN16 -> 0 | AK16: =Maret!AO16 -> 1 | AL16: 0 | AM16: =AJ16+AL16 -> 0 | AN16: =AI16-AM16 -> 1 | AO16: dalam proses
A17: 10 | B17: Tanda Daftar Industri (TDI) | C17: 0 | D17: 0 | E17: 0 | F17: 0 | G17: 0 | H17: 0 | I17: 0 | J17: 0 | K17: 0 | L17: 1 | M17: 0 | N17: 0 | O17: 0 | P17: 0 | Q17: 0 | R17: 0 | S17: 0 | T17: 0 | U17: 0 | V17: 0 | W17: 0 | X17: 0 | Y17: 0 | Z17: 0 | AA17: 0 | AB17: 0 | AC17: 0 | AD17: 0 | AE17: 0 | AF17: 0 | AG17: =SUM(C17:AF17) -> 1 | AH17: =Maret!AJ17 -> 6 | AI17: =AG17+AH17 -> 7 | AJ17: =Maret!AN17 -> 6 | AK17: =Maret!AO17 -> 0 | AL17: 1 | AM17: =AJ17+AL17 -> 7
A18: 11 | B18: Surat Izin Usaha Perdagangan (SIUP) | C18: 0 | D18: 0 | E18: 4 | F18: 5 | G18: 3 | H18: 5 | I18: 3 | J18: 0 | K18: 0 | L18: 5 | M18: 6 | N18: 2 | O18: 2 | P18: 0 | Q18: 0 | R18: 0 | S18: 5 | T18: 3 | U18: 6 | V18: 1 | W18: 0 | X18: 0 | Y18: 0 | Z18: 0 | AA18: 4 | AB18: 1 | AC18: 3 | AD18: 5 | AE18: 0 | AF18: 0 | AG18: =SUM(C18:AF18) -> 63 | AH18: =Maret!AJ18 -> 203 | AI18: =AG18+AH18 -> 266 | AJ18: =Maret!AN18 -> 175 | AK18: =Maret!AO18 -> 28 | AL18: 39 | AM18: =AJ18+AL18 -> 214 | AN18: =AI18-AM18 -> 52 | AO18: dalam proses
A19: 12 | B19: Tanda Daftar Gudang (TDG) | C19: 0 | D19: 0 | E19: 0 | F19: 0 | G19: 0 | H19: 0 | I19: 0 | J19: 0 | K19: 0 | L19: 0 | M19: 0 | N19: 0 | O19: 0 | P19: 0 | Q19: 0 | R19: 0 | S19: 0 | T19: 0 | U19: 0 | V19: 0 | W19: 0 | X19: 0 | Y19: 0 | Z19: 0 | AA19: 0 | AB19: 0 | AC19: 0 | AD19: 0 | AE19: 0 | AF19: 0 | AG19: =SUM(C19:AF19) -> 0 | AH19: =Maret!AJ19 -> 7 | AI19: =AG19+AH19 -> 7 | AJ19: =Maret!AN19 -> 7 | AK19: =Maret!AO19 -> 0 | AL19: 0 | AM19: =AJ19+AL19 -> 7
A20: 13 | B20: Tanda Daftar Perusahaan (TDP) | C20: 0 | D20: 0 | E20: 4 | F20: 4 | G20: 3 | H20: 5 | I20: 3 | J20: 0 | K20: 0 | L20: 5 | M20: 6 | N20: 3 | O20: 2 | P20: 0 | Q20: 0 | R20: 0 | S20: 4 | T20: 3 | U20: 6 | V20: 1 | W20: 0 | X20: 0 | Y20: 0 | Z20: 0 | AA20: 4 | AB20: 0 | AC20: 2 | AD20: 3 | AE20: 0 | AF20: 0 | AG20: =SUM(C20:AF20) -> 58 | AH20: =Maret!AJ20 -> 153 | AI20: =AG20+AH20 -> 211 | AJ20: =Maret!AN20 -> 120 | AK20: =Maret!AO20 -> 33 | AL20: 39 | AM20: =AJ20+AL20 -> 159 | AN20: =AI20-AM20 -> 52 | AO20: dalam proses
A21: 14 | B21: Izin Usaha Jasa Kontruksi (IUJK) | C21: 0 | D21: 0 | E21: 0 | F21: 2 | G21: 0 | H21: 1 | I21: 0 | J21: 0 | K21: 0 | L21: 0 | M21: 0 | N21: 0 | O21: 1 | P21: 0 | Q21: 0 | R21: 0 | S21: 0 | T21: 1 | U21: 0 | V21: 0 | W21: 0 | X21: 0 | Y21: 0 | Z21: 0 | AA21: 2 | AB21: 0 | AC21: 0 | AD21: 0 | AE21: 0 | AF21: 0 | AG21: =SUM(C21:AF21) -> 7 | AH21: =Maret!AJ21 -> 20 | AI21: =AG21+AH21 -> 27 | AJ21: =Maret!AN21 -> 13 | AK21: =Maret!AO21 -> 7 | AL21: 6 | AM21: =AJ21+AL21 -> 19 | AN21: =AI21-AM21 -> 8 | AO21: dalam proses (1 dikembalikan)
B22: Kartu Penanggungjawab Teknik Badan (KPTJBU) | C22: 0 | D22: 0 | E22: 0 | F22: 1 | G22: 0 | H22: 0 | I22: 0 | J22: 0 | K22: 0 | L22: 0 | M22: 0 | N22: 0 | O22: 1 | P22: 0 | Q22: 0 | R22: 0 | S22: 0 | T22: 1 | U22: 0 | V22: 0 | W22: 0 | X22: 0 | Y22: 0 | Z22: 0 | AA22: 1 | AB22: 0 | AC22: 0 | AD22: 0 | AE22: 0 | AF22: 0 | AG22: =SUM(C22:AF22) -> 4 | AH22: =Maret!AJ22 -> 17 | AI22: =AG22+AH22 -> 21 | AJ22: =Maret!AN22 -> 17 | AK22: =Maret!AO22 -> 0 | AL22: 4 | AM22: =AJ22+AL22 -> 21
A23: 15 | B23: Tanda Daftar Usaha Pariwisata | C23: 0 | D23: 0 | E23: 0 | F23: 1 | G23: 0 | H23: 0 | I23: 0 | J23: 0 | K23: 0 | L23: 0 | M23: 1 | N23: 0 | O23: 0 | P23: 0 | Q23: 0 | R23: 0 | S23: 0 | T23: 0 | U23: 0 | V23: 0 | W23: 0 | X23: 0 | Y23: 0 | Z23: 0 | AA23: 0 | AB23: 0 | AC23: 1 | AD23: 0 | AE23: 0 | AF23: 0 | AG23: =SUM(C23:AF23) -> 3 | AH23: =Maret!AJ23 -> 6 | AI23: =AG23+AH23 -> 9 | AJ23: =Maret!AN23 -> 5 | AK23: =Maret!AO23 -> 1 | AL23: 2 | AM23: =AJ23+AL23 -> 7 | AN23: =AI23-AM23 -> 2 | AO23: dalam proses
A24: 16 | B24: Izin Penggunaan Gedung Juang | C24: 0 | D24: 0 | E24: 0 | F24: 0 | G24: 0 | H24: 1 | I24: 0 | J24: 0 | K24: 0 | L24: 2 | M24: 1 | N24: 1 | O24: 0 | P24: 0 | Q24: 0 | R24: 0 | S24: 1 | T24: 0 | U24: 1 | V24: 0 | W24: 0 | X24: 0 | Y24: 0 | Z24: 0 | AA24: 0 | AB24: 0 | AC24: 0 | AD24: 0 | AE24: 0 | AF24: 0 | AG24: =SUM(C24:AF24) -> 7 | AH24: =Maret!AJ24 -> 14 | AI24: =AG24+AH24 -> 21 | AJ24: =Maret!AN24 -> 10 | AK24: =Maret!AO24 -> 4 | AL24: 8 | AM24: =AJ24+AL24 -> 18 | AN24: =AI24-AM24 -> 3 | AO24: dalam proses
A25: 17 | B25: Izin Penggunaan Stadion Candradimuka | C25: 0 | D25: 0 | E25: 0 | F25: 0 | G25: 0 | H25: 0 | I25: 0 | J25: 0 | K25: 0 | L25: 0 | M25: 0 | N25: 0 | O25: 0 | P25: 0 | Q25: 0 | R25: 0 | S25: 0 | T25: 0 | U25: 0 | V25: 0 | W25: 0 | X25: 0 | Y25: 0 | Z25: 0 | AA25: 0 | AB25: 0 | AC25: 0 | AD25: 0 | AE25: 0 | AF25: 0 | AG25: =SUM(C25:AF25) -> 0 | AH25: =Maret!AJ25 -> 0 | AI25: =AG25+AH25 -> 0 | AJ25: =Maret!AN25 -> 0 | AK25: =Maret!AO25 -> 0 | AL25: 0 | AM25: =AJ25+AL25 -> 0
A26: 18 | B26: Izin Penggunaan Alun-alun Kebumen | C26: 0 | D26: 0 | E26: 0 | F26: 0 | G26: 0 | H26: 0 | I26: 0 | J26: 0 | K26: 0 | L26: 0 | M26: 0 | N26: 1 | O26: 2 | P26: 0 | Q26: 0 | R26: 0 | S26: 0 | T26: 3 | U26: 0 | V26: 0 | W26: 0 | X26: 0 | Y26: 0 | Z26: 0 | AA26: 0 | AB26: 0 | AC26: 0 | AD26: 0 | AE26: 0 | AF26: 0 | AG26: =SUM(C26:AF26) -> 6 | AH26: =Maret!AJ26 -> 11 | AI26: =AG26+AH26 -> 17 | AJ26: =Maret!AN26 -> 7 | AK26: =Maret!AO26 -> 4 | AL26: 2 | AM26: =AJ26+AL26 -> 9 | AN26: =AI26-AM26 -> 8 | AO26: dalam proses
A27: 19 | B27: Izin Pemasangan Reklame | C27: 0 | D27: 0 | E27: 1 | F27: 1 | G27: 2 | H27: 2 | I27: 1 | J27: 0 | K27: 0 | L27: 2 | M27: 3 | N27: 2 | O27: 0 | P27: 0 | Q27: 0 | R27: 0 | S27: 1 | T27: 0 | U27: 0 | V27: 2 | W27: 1 | X27: 0 | Y27: 0 | Z27: 0 | AA27: 6 | AB27: 1 | AC27: 2 | AD27: 0 | AE27: 0 | AF27: 0 | AG27: =SUM(C27:AF27) -> 27 | AH27: =Maret!AJ27 -> 115 | AI27: =AG27+AH27 -> 142 | AJ27: =Maret!AN27 -> 114 | AK27: =Maret!AO27 -> 1 | AL27: 27 | AM27: =AJ27+AL27 -> 141 | AN27: =AI27-AM27 -> 1 | AO27: dalam proses
A28: 20 | B28: Izin Pengelolaan Sarang Burung Lawet | C28: 0 | D28: 0 | E28: 0 | F28: 0 | G28: 0 | H28: 0 | I28: 0 | J28: 0 | K28: 0 | L28: 0 | M28: 0 | N28: 0 | O28: 0 | P28: 0 | Q28: 0 | R28: 0 | S28: 0 | T28: 0 | U28: 0 | V28: 0 | W28: 0 | X28: 0 | Y28: 0 | Z28: 0 | AA28: 0 | AB28: 0 | AC28: 0 | AD28: 0 | AE28: 0 | AF28: 0 | AG28: =SUM(C28:AF28) -> 0 | AH28: =Maret!AJ28 -> 0 | AI28: =AG28+AH28 -> 0 | AJ28: =Maret!AN28 -> 0 | AK28: =Maret!AO28 -> 0 | AL28: 0 | AM28: =AJ28+AL28 -> 0
A29: 21 | B29: Izin Mendirikan Rumah Sakit Umum | C29: 0 | D29: 0 | E29: 0 | F29: 0 | G29: 0 | H29: 0 | I29: 0 | J29: 0 | K29: 0 | L29: 0 | M29: 0 | N29: 0 | O29: 0 | P29: 0 | Q29: 0 | R29: 0 | S29: 0 | T29: 0 | U29: 0 | V29: 0 | W29: 0 | X29: 0 | Y29: 0 | Z29: 0 | AA29: 0 | AB29: 0 | AC29: 0 | AD29: 0 | AE29: 0 | AF29: 0 | AG29: =SUM(C29:AF29) -> 0 | AH29: =Maret!AJ29 -> 0 | AI29: =AG29+AH29 -> 0 | AJ29: =Maret!AN29 -> 0 | AK29: =Maret!AO29 -> 0 | AL29: 0 | AM29: =AJ29+AL29 -> 0
A30: 22 | B30: Izin Mendirikan Rumah Sakit Khusus | C30: 0 | D30: 0 | E30: 0 | F30: 0 | G30: 0 | H30: 0 | I30: 0 | J30: 0 | K30: 0 | L30: 0 | M30: 0 | N30: 0 | O30: 0 | P30: 0 | Q30: 0 | R30: 0 | S30: 0 | T30: 0 | U30: 0 | V30: 0 | W30: 0 | X30: 0 | Y30: 0 | Z30: 0 | AA30: 0 | AB30: 0 | AC30: 0 | AD30: 0 | AE30: 0 | AF30: 0 | AG30: =SUM(C30:AF30) -> 0 | AH30: =Maret!AJ30 -> 0 | AI30: =AG30+AH30 -> 0 | AJ30: =Maret!AN30 -> 0 | AK30: =Maret!AO30 -> 0 | AL30: 0 | AM30: =AJ30+AL30 -> 0
A31: 23 | B31: Izin Klinik Pratama | C31: 0 | D31: 0 | E31: 0 | F31: 0 | G31: 0 | H31: 0 | I31: 0 | J31: 0 | K31: 0 | L31: 0 | M31: 0 | N31: 0 | O31: 0 | P31: 0 | Q31: 0 | R31: 0 | S31: 0 | T31: 0 | U31: 0 | V31: 0 | W31: 0 | X31: 0 | Y31: 0 | Z31: 0 | AA31: 0 | AB31: 0 | AC31: 0 | AD31: 0 | AE31: 0 | AF31: 0 | AG31: =SUM(C31:AF31) -> 0 | AH31: =Maret!AJ31 -> 1 | AI31: =AG31+AH31 -> 1 | AJ31: =Maret!AN31 -> 0 | AK31: =Maret!AO31 -> 1 | AL31: 0 | AM31: =AJ31+AL31 -> 0 | AN31: =AI31-AM31 -> 1 | AO31: dalam proses
A32: 24 | B32: Izin Klinik Utama | C32: 0 | D32: 0 | E32: 0 | F32: 0 | G32: 0 | H32: 0 | I32: 0 | J32: 0 | K32: 0 | L32: 0 | M32: 0 | N32: 0 | O32: 0 | P32: 0 | Q32: 0 | R32: 0 | S32: 0 | T32: 0 | U32: 0 | V32: 0 | W32: 0 | X32: 0 | Y32: 0 | Z32: 0 | AA32: 0 | AB32: 0 | AC32: 0 | AD32: 0 | AE32: 0 | AF32: 0 | AG32: =SUM(C32:AF32) -> 0 | AH32: =Maret!AJ32 -> 0 | AI32: =AG32+AH32 -> 0 | AJ32: =Maret!AN32 -> 0 | AK32: =Maret!AO32 -> 0 | AL32: 0 | AM32: =AJ32+AL32 -> 0
A33: 25 | B33: Izin Laboratorium Klinik Pratama | C33: 0 | D33: 0 | E33: 0 | F33: 0 | G33: 0 | H33: 0 | I33: 0 | J33: 0 | K33: 0 | L33: 0 | M33: 0 | N33: 0 | O33: 0 | P33: 0 | Q33: 0 | R33: 0 | S33: 0 | T33: 0 | U33: 0 | V33: 0 | W33: 0 | X33: 0 | Y33: 0 | Z33: 0 | AA33: 0 | AB33: 0 | AC33: 0 | AD33: 0 | AE33: 0 | AF33: 0 | AG33: =SUM(C33:AF33) -> 0 | AH33: =Maret!AJ33 -> 0 | AI33: =AG33+AH33 -> 0 | AJ33: =Maret!AN33 -> 0 | AK33: =Maret!AO33 -> 0 | AL33: 0 | AM33: =AJ33+AL33 -> 0
A34: 26 | B34: Izin Laboratorium Klinik Utama | C34: 0 | D34: 0 | E34: 0 | F34: 0 | G34: 0 | H34: 0 | I34: 0 | J34: 0 | K34: 0 | L34: 0 | M34: 0 | N34: 0 | O34: 0 | P34: 0 | Q34: 0 | R34: 0 | S34: 0 | T34: 0 | U34: 0 | V34: 0 | W34: 0 | X34: 0 | Y34: 0 | Z34: 0 | AA34: 0 | AB34: 0 | AC34: 0 | AD34: 0 | AE34: 0 | AF34: 0 | AG34: =SUM(C34:AF34) -> 0 | AH34: =Maret!AJ34 -> 0 | AI34: =AG34+AH34 -> 0 | AJ34: =Maret!AN34 -> 0 | AK34: =Maret!AO34 -> 0 | AL34: 0 | AM34: =AJ34+AL34 -> 0
A35: 27 | B35: Izin Apotik | C35: 0 | D35: 0 | E35: 0 | F35: 0 | G35: 0 | H35: 0 | I35: 0 | J35: 0 | K35: 0 | L35: 0 | M35: 0 | N35: 1 | O35: 0 | P35: 0 | Q35: 0 | R35: 0 | S35: 0 | T35: 0 | U35: 0 | V35: 0 | W35: 0 | X35: 0 | Y35: 0 | Z35: 0 | AA35: 0 | AB35: 0 | AC35: 0 | AD35: 0 | AE35: 0 | AF35: 0 | AG35: =SUM(C35:AF35) -> 1 | AH35: =Maret!AJ35 -> 5 | AI35: =AG35+AH35 -> 6 | AJ35: =Maret!AN35 -> 4 | AK35: =Maret!AO35 -> 1 | AL35: 2 | AM35: =AJ35+AL35 -> 6
A36: 28 | B36: Izin Toko Obat | C36: 0 | D36: 0 | E36: 0 | F36: 0 | G36: 0 | H36: 0 | I36: 0 | J36: 0 | K36: 0 | L36: 0 | M36: 0 | N36: 0 | O36: 0 | P36: 0 | Q36: 0 | R36: 0 | S36: 0 | T36: 0 | U36: 0 | V36: 0 | W36: 0 | X36: 0 | Y36: 0 | Z36: 0 | AA36: 0 | AB36: 0 | AC36: 0 | AD36: 0 | AE36: 0 | AF36: 0 | AG36: =SUM(C36:AF36) -> 0 | AH36: =Maret!AJ36 -> 3 | AI36: =AG36+AH36 -> 3 | AJ36: =Maret!AN36 -> 2 | AK36: =Maret!AO36 -> 1 | AL36: 0 | AM36: =AJ36+AL36 -> 2 | AN36: =AI36-AM36 -> 1 | AO36: dalam proses
A37: 29 | B37: Izin Optik | C37: 0 | D37: 0 | E37: 0 | F37: 0 | G37: 0 | H37: 0 | I37: 0 | J37: 0 | K37: 0 | L37: 0 | M37: 0 | N37: 0 | O37: 0 | P37: 0 | Q37: 0 | R37: 0 | S37: 0 | T37: 0 | U37: 0 | V37: 0 | W37: 0 | X37: 0 | Y37: 0 | Z37: 0 | AA37: 0 | AB37: 0 | AC37: 0 | AD37: 0 | AE37: 0 | AF37: 0 | AG37: =SUM(C37:AF37) -> 0 | AH37: =Maret!AJ37 -> 0 | AI37: =AG37+AH37 -> 0 | AJ37: =Maret!AN37 -> 0 | AK37: =Maret!AO37 -> 0 | AL37: 0 | AM37: =AJ37+AL37 -> 0
A38: 30 | B38: Izin Industri Rumah Tangga Makanan Minuman (PIRT) | C38: 0 | D38: 0 | E38: 2 | F38: 2 | G38: 1 | H38: 0 | I38: 1 | J38: 0 | K38: 0 | L38: 1 | M38: 17 | N38: 3 | O38: 0 | P38: 0 | Q38: 0 | R38: 0 | S38: 6 | T38: 0 | U38: 0 | V38: 0 | W38: 1 | X38: 0 | Y38: 0 | Z38: 0 | AA38: 1 | AB38: 0 | AC38: 2 | AD38: 1 | AE38: 0 | AF38: 0 | AG38: =SUM(C38:AF38) -> 38 | AH38: =Maret!AJ38 -> 79 | AI38: =AG38+AH38 -> 117 | AJ38: =Maret!AN38 -> 38 | AK38: =Maret!AO38 -> 41 | AL38: 44 | AM38: =AJ38+AL38 -> 82 | AN38: =AI38-AM38 -> 35 | AO38: dalam proses
A39: 31 | B39: Tanda Daftar Depot Air Minum | C39: 0 | D39: 0 | E39: 0 | F39: 0 | G39: 0 | H39: 0 | I39: 0 | J39: 0 | K39: 0 | L39: 0 | M39: 0 | N39: 0 | O39: 0 | P39: 0 | Q39: 0 | R39: 0 | S39: 0 | T39: 0 | U39: 0 | V39: 0 | W39: 0 | X39: 0 | Y39: 0 | Z39: 0 | AA39: 0 | AB39: 0 | AC39: 0 | AD39: 0 | AE39: 0 | AF39: 0 | AG39: =SUM(C39:AF39) -> 0 | AH39: =Maret!AJ39 -> 7 | AI39: =AG39+AH39 -> 7 | AJ39: =Maret!AN39 -> 6 | AK39: =Maret!AO39 -> 1 | AL39: 0 | AM39: =AJ39+AL39 -> 6 | AN39: =AI39-AM39 -> 1 | AO39: dalam proses
A40: 32 | B40: Tanda Daftar Pengobatan Tradisional | C40: 0 | D40: 0 | E40: 0 | F40: 0 | G40: 0 | H40: 0 | I40: 0 | J40: 0 | K40: 0 | L40: 0 | M40: 0 | N40: 0 | O40: 0 | P40: 0 | Q40: 0 | R40: 0 | S40: 0 | T40: 0 | U40: 0 | V40: 0 | W40: 0 | X40: 0 | Y40: 0 | Z40: 0 | AA40: 0 | AB40: 0 | AC40: 0 | AD40: 0 | AE40: 0 | AF40: 0 | AG40: =SUM(C40:AF40) -> 0 | AH40: =Maret!AJ40 -> 0 | AI40: =AG40+AH40 -> 0 | AJ40: =Maret!AN40 -> 0 | AK40: =Maret!AO40 -> 0 | AL40: 0 | AM40: =AJ40+AL40 -> 0
A41: 33 | B41: Izin Operasional Pendirian Bursa Kerja Khusus (BKK) | C41: 0 | D41: 0 | E41: 0 | F41: 0 | G41: 0 | H41: 0 | I41: 0 | J41: 0 | K41: 0 | L41: 0 | M41: 0 | N41: 0 | O41: 0 | P41: 0 | Q41: 0 | R41: 0 | S41: 0 | T41: 0 | U41: 0 | V41: 0 | W41: 0 | X41: 0 | Y41: 0 | Z41: 0 | AA41: 0 | AB41: 0 | AC41: 0 | AD41: 0 | AE41: 0 | AF41: 0 | AG41: =SUM(C41:AF41) -> 0 | AH41: =Maret!AJ41 -> 1 | AI41: =AG41+AH41 -> 1 | AJ41: =Maret!AN41 -> 0 | AK41: =Maret!AO41 -> 1 | AL41: 0 | AM41: =AJ41+AL41 -> 0 | AN41: =AI41-AM41 -> 1 | AO41: dalam proses
A42: 34 | B42: Izin Lembaga Pelatihan Kerja | C42: 0 | D42: 0 | E42: 0 | F42: 0 | G42: 0 | H42: 0 | I42: 0 | J42: 0 | K42: 0 | L42: 0 | M42: 0 | N42: 0 | O42: 0 | P42: 0 | Q42: 0 | R42: 0 | S42: 0 | T42: 0 | U42: 0 | V42: 0 | W42: 0 | X42: 0 | Y42: 0 | Z42: 0 | AA42: 0 | AB42: 0 | AC42: 1 | AD42: 0 | AE42: 0 | AF42: 0 | AG42: =SUM(C42:AF42) -> 1 | AH42: =Maret!AJ42 -> 4 | AI42: =AG42+AH42 -> 5 | AJ42: =Maret!AN42 -> 4 | AK42: =Maret!AO42 -> 0 | AL42: 0 | AM42: =AJ42+AL42 -> 4 | AN42: =AI42-AM42 -> 1 | AO42: dalam proses
A43: 35 | B43: Izin Perusahaan Penyedia Jasa Buruh ( Out Sourching) | C43: 0 | D43: 0 | E43: 0 | F43: 0 | G43: 0 | H43: 0 | I43: 0 | J43: 0 | K43: 0 | L43: 0 | M43: 0 | N43: 0 | O43: 0 | P43: 0 | Q43: 0 | R43: 0 | S43: 0 | T43: 0 | U43: 0 | V43: 0 | W43: 0 | X43: 0 | Y43: 0 | Z43: 0 | AA43: 0 | AB43: 0 | AC43: 0 | AD43: 0 | AE43: 0 | AF43: 0 | AG43: =SUM(C43:AF43) -> 0 | AH43: =Maret!AJ43 -> 0 | AI43: =AG43+AH43 -> 0 | AJ43: =Maret!AN43 -> 0 | AK43: =Maret!AO43 -> 0 | AL43: 0 | AM43: =AJ43+AL43 -> 0
A44: 36 | B44: Izin Pembuatan Tambak | C44: 0 | D44: 0 | E44: 0 | F44: 0 | G44: 0 | H44: 0 | I44: 0 | J44: 0 | K44: 0 | L44: 0 | M44: 0 | N44: 0 | O44: 0 | P44: 0 | Q44: 0 | R44: 0 | S44: 0 | T44: 0 | U44: 0 | V44: 0 | W44: 0 | X44: 0 | Y44: 0 | Z44: 0 | AA44: 0 | AB44: 0 | AC44: 0 | AD44: 0 | AE44: 0 | AF44: 0 | AG44: =SUM(C44:AF44) -> 0 | AH44: =Maret!AJ44 -> 0 | AI44: =AG44+AH44 -> 0 | AJ44: =Maret!AN44 -> 0 | AK44: =Maret!AO44 -> 0 | AL44: 0 | AM44: =AJ44+AL44 -> 0
A45: 37 | B45: Izin Usaha Perikanan | C45: 0 | D45: 0 | E45: 0 | F45: 0 | G45: 0 | H45: 0 | I45: 0 | J45: 0 | K45: 0 | L45: 0 | M45: 0 | N45: 0 | O45: 0 | P45: 0 | Q45: 0 | R45: 0 | S45: 0 | T45: 0 | U45: 0 | V45: 0 | W45: 0 | X45: 0 | Y45: 0 | Z45: 0 | AA45: 0 | AB45: 0 | AC45: 0 | AD45: 0 | AE45: 0 | AF45: 0 | AG45: =SUM(C45:AF45) -> 0 | AH45: =Maret!AJ45 -> 0 | AI45: =AG45+AH45 -> 0 | AJ45: =Maret!AN45 -> 0 | AK45: =Maret!AO45 -> 0 | AL45: 0 | AM45: =AJ45+AL45 -> 0
A46: 38 | B46: Izin Usaha Peternakan | C46: 0 | D46: 0 | E46: 0 | F46: 0 | G46: 0 | H46: 0 | I46: 0 | J46: 0 | K46: 0 | L46: 0 | M46: 0 | N46: 0 | O46: 0 | P46: 0 | Q46: 0 | R46: 0 | S46: 0 | T46: 0 | U46: 0 | V46: 0 | W46: 0 | X46: 0 | Y46: 0 | Z46: 0 | AA46: 0 | AB46: 0 | AC46: 0 | AD46: 0 | AE46: 0 | AF46: 0 | AG46: =SUM(C46:AF46) -> 0 | AH46: =Maret!AJ46 -> 0 | AI46: =AG46+AH46 -> 0 | AJ46: =Maret!AN46 -> 0 | AK46: =Maret!AO46 -> 0 | AL46: 0 | AM46: =AJ46+AL46 -> 0
A47: 39 | B47: Izin Pemakaian Tanah Pengairan | C47: 0 | D47: 0 | E47: 0 | F47: 0 | G47: 0 | H47: 0 | I47: 0 | J47: 0 | K47: 0 | L47: 0 | M47: 0 | N47: 0 | O47: 0 | P47: 0 | Q47: 0 | R47: 0 | S47: 0 | T47: 0 | U47: 0 | V47: 0 | W47: 0 | X47: 0 | Y47: 0 | Z47: 0 | AA47: 0 | AB47: 0 | AC47: 0 | AD47: 0 | AE47: 0 | AF47: 0 | AG47: =SUM(C47:AF47) -> 0 | AH47: =Maret!AJ47 -> 0 | AI47: =AG47+AH47 -> 0 | AJ47: =Maret!AN47 -> 0 | AK47: =Maret!AO47 -> 0 | AL47: 0 | AM47: =AJ47+AL47 -> 0
A48: 40 | B48: Izin Tebang dan Pengangkutan Kayu Rakyat | C48: 0 | D48: 0 | E48: 0 | F48: 0 | G48: 0 | H48: 0 | I48: 0 | J48: 0 | K48: 0 | L48: 0 | M48: 0 | N48: 0 | O48: 0 | P48: 0 | Q48: 0 | R48: 0 | S48: 0 | T48: 0 | U48: 0 | V48: 0 | W48: 0 | X48: 0 | Y48: 0 | Z48: 0 | AA48: 0 | AB48: 0 | AC48: 0 | AD48: 0 | AE48: 0 | AF48: 0 | AG48: =SUM(C48:AF48) -> 0 | AH48: =Maret!AJ48 -> 0 | AI48: =AG48+AH48 -> 0 | AJ48: =Maret!AN48 -> 0 | AK48: =Maret!AO48 -> 0 | AL48: 0 | AM48: =AJ48+AL48 -> 0
A49: 41 | B49: Izin Penggunaaan Tanah/Bangunan Milik Pemerintah Kabupaten | C49: 0 | D49: 0 | E49: 0 | F49: 0 | G49: 0 | H49: 0 | I49: 0 | J49: 0 | K49: 0 | L49: 0 | M49: 0 | N49: 0 | O49: 0 | P49: 0 | Q49: 0 | R49: 0 | S49: 0 | T49: 0 | U49: 0 | V49: 0 | W49: 0 | X49: 0 | Y49: 0 | Z49: 0 | AA49: 0 | AB49: 0 | AC49: 0 | AD49: 1 | AE49: 0 | AF49: 0 | AG49: =SUM(C49:AF49) -> 1 | AH49: =Maret!AJ49 -> 0 | AI49: =AG49+AH49 -> 1 | AJ49: =Maret!AN49 -> 0 | AK49: =Maret!AO49 -> 0 | AL49: 0 | AM49: =AJ49+AL49 -> 0 | AN49: =AI49-AM49 -> 1 | AO49: dalam proses
A50: 42 | B50: Izin Penempatan Kios /Los | C50: 0 | D50: 0 | E50: 0 | F50: 0 | G50: 0 | H50: 0 | I50: 0 | J50: 0 | K50: 0 | L50: 0 | M50: 0 | N50: 0 | O50: 0 | P50: 0 | Q50: 0 | R50: 0 | S50: 0 | T50: 0 | U50: 0 | V50: 0 | W50: 0 | X50: 0 | Y50: 0 | Z50: 0 | AA50: 0 | AB50: 16 | AC50: 0 | AD50: 12 | AE50: 0 | AF50: 0 | AG50: =SUM(C50:AF50) -> 28 | AH50: =Maret!AJ50 -> 46 | AI50: =AG50+AH50 -> 74 | AJ50: =Maret!AN50 -> 19 | AK50: =Maret!AO50 -> 27 | AL50: 28 | AM50: =AJ50+AL50 -> 47 | AN50: =AI50-AM50 -> 27 | AO50: dalam proses
A51: 43 | B51: Limbah B3 | C51: 0 | D51: 0 | E51: 0 | F51: 0 | G51: 0 | H51: 0 | I51: 0 | J51: 0 | K51: 0 | L51: 0 | M51: 0 | N51: 0 | O51: 0 | P51: 0 | Q51: 0 | R51: 0 | S51: 0 | T51: 0 | U51: 0 | V51: 0 | W51: 0 | X51: 0 | Y51: 0 | Z51: 0 | AA51: 0 | AB51: 0 | AC51: 0 | AD51: 0 | AE51: 0 | AF51: 0 | AG51: =SUM(C51:AF51) -> 0 | AH51: =Maret!AJ51 -> 6 | AI51: =AG51+AH51 -> 6 | AJ51: =Maret!AN51 -> 1 | AK51: =Maret!AO51 -> 5 | AL51: 0 | AM51: =AJ51+AL51 -> 1 | AN51: =AI51-AM51 -> 5 | AO51: dalam proses
A52: 44 | B52: Izin Pengelolaan Air Limbah (IPAL) | C52: 0 | D52: 0 | E52: 0 | F52: 0 | G52: 0 | H52: 0 | I52: 0 | J52: 0 | K52: 0 | L52: 0 | M52: 0 | N52: 0 | O52: 0 | P52: 0 | Q52: 0 | R52: 0 | S52: 0 | T52: 0 | U52: 0 | V52: 0 | W52: 0 | X52: 0 | Y52: 0 | Z52: 0 | AA52: 0 | AB52: 0 | AC52: 0 | AD52: 0 | AE52: 0 | AF52: 0 | AG52: =SUM(C52:AF52) -> 0 | AH52: =Maret!AJ52 -> 1 | AI52: =AG52+AH52 -> 1 | AJ52: =Maret!AN52 -> 0 | AK52: =Maret!AO52 -> 1 | AL52: 0 | AM52: =AJ52+AL52 -> 0 | AN52: =AI52-AM52 -> 1 | AO52: dalam proses
A53: 45 | B53: Izin Operasional Rumah Sakit / Klinik / Puskesmas | C53: 0 | D53: 0 | E53: 0 | F53: 3 | G53: 0 | H53: 0 | I53: 0 | J53: 0 | K53: 0 | L53: 0 | M53: 0 | N53: 1 | O53: 0 | P53: 0 | Q53: 0 | R53: 0 | S53: 0 | T53: 0 | U53: 1 | V53: 0 | W53: 1 | X53: 0 | Y53: 0 | Z53: 0 | AA53: 0 | AB53: 0 | AC53: 0 | AD53: 0 | AE53: 0 | AF53: 0 | AG53: =SUM(C53:AF53) -> 6 | AH53: =Maret!AJ53 -> 7 | AI53: =AG53+AH53 -> 13 | AJ53: =Maret!AN53 -> 1 | AK53: =Maret!AO53 -> 6 | AL53: 1 | AM53: =AJ53+AL53 -> 2 | AN53: =AI53-AM53 -> 11 | AO53: dalam proses
A54: 46 | B54: Izin Lingkungan | C54: 0 | D54: 0 | E54: 0 | F54: 0 | G54: 0 | H54: 0 | I54: 1 | J54: 0 | K54: 0 | L54: 0 | M54: 0 | N54: 0 | O54: 4 | P54: 0 | Q54: 0 | R54: 0 | S54: 1 | T54: 0 | U54: 0 | V54: 0 | W54: 0 | X54: 0 | Y54: 0 | Z54: 0 | AA54: 0 | AB54: 0 | AC54: 1 | AD54: 0 | AE54: 0 | AF54: 0 | AG54: =SUM(C54:AF54) -> 7 | AH54: =Maret!AJ54 -> 15 | AI54: =AG54+AH54 -> 22 | AJ54: =Maret!AN54 -> 5 | AK54: =Maret!AO54 -> 10 | AL54: 5 | AM54: =AJ54+AL54 -> 10 | AN54: =AI54-AM54 -> 12 | AO54: dalam proses
A55: 47 | B55: Izin Tukang Gigi | C55: 0 | D55: 0 | E55: 0 | F55: 0 | G55: 0 | H55: 0 | I55: 0 | J55: 0 | K55: 0 | L55: 0 | M55: 0 | N55: 0 | O55: 0 | P55: 0 | Q55: 0 | R55: 0 | S55: 0 | T55: 0 | U55: 0 | V55: 0 | W55: 0 | X55: 0 | Y55: 0 | Z55: 0 | AA55: 0 | AB55: 0 | AC55: 0 | AD55: 0 | AE55: 0 | AF55: 0 | AG55: =SUM(C55:AF55) -> 0 | AH55: =Maret!AJ55 -> 43 | AI55: =AG55+AH55 -> 43 | AJ55: =Maret!AN55 -> 40 | AK55: =Maret!AO55 -> 3 | AL55: 3 | AM55: =AJ55+AL55 -> 43
A56: Jumlah | C56: =SUM(C7:C55) -> 0 | D56: =SUM(D7:D55) -> 0 | E56: =SUM(E7:E55) -> 11 | F56: =SUM(F7:F55) -> 22 | G56: =SUM(G7:G55) -> 13 | H56: =SUM(H7:H55) -> 33 | I56: =SUM(I7:I55) -> 9 | J56: =SUM(J7:J55) -> 0 | ... AG56: =SUM(AG7:AG55) -> 323 | AH56: =Maret!AJ56 -> 957 | AI56: =SUM(AI7:AI55) -> 1280 | AJ56: =Maret!AN56 -> 733 | AK56: =Maret!AO56 -> 224 | AL56: =SUM(AL7:AL55) -> 236 | AM56: =SUM(AM7:AM55) -> 969 | AN56: =AI56-AM56 -> 311 | AO56: dalam proses
AB58: Kebumen, 09 Mei 2017
AB59: KEPALA DINAS PENANAMAN MODAL
AB60: DAN PELAYANAN TERPADU SATU PINTU
AB61: KABUPATEN KEBUMEN
AB66: Drs. H. Hery Setyanto
AB67: Pembina Utama Muda
AB68: NIP. 19601023 199001 1 001

Sheet Mei
A1: LAPORAN BERKAS IZIN MASUK DAN TERPROSES DINAS PENANAMAN MODAL DAN PELAYANAN TERPADU SATU PINTU
A2: KABUPATEN KEBUMEN
A3: Bulan Mei 2017
A5: NO | B5: JENIS IZIN | C5: TANGGAL | AH5: PEMOHON BLN INI | AI5: PEMOHON BULAN LALU | AJ5: TOTAL PERMOHONAN | AK5: TERPROSES BULAN LALU | AL5: DALAM PROSES BULAN LALU | AM5: TERPROSES BLN INI (SK) | AN5: TOTAL TERPROSES | AO5: IZIN BELUM JADI | AP5: KETERANGAN
C6: 1 | D6: 2 | E6: 3 | F6: 4 | G6: 5 | H6: 6 | I6: 7 | J6: 8 | K6: 9 | L6: 10 | M6: 11 | N6: 12 | O6: 13 | P6: 14 | Q6: 15 | R6: 16 | S6: 17 | T6: 18 | U6: 19 | V6: 20 | W6: 21 | X6: 22 | Y6: 23 | Z6: 24 | AA6: 25 | AB6: 26 | AC6: 27 | AD6: 28 | AE6: 29 | AF6: 30 | AG6: 31
A7: 1 | B7: Izin Prinsip | C7: 0 | D7: 0 | E7: 2 | F7: 0 | G7: 0 | H7: 0 | I7: 0 | J7: 1 | K7: 0 | L7: 0 | M7: 0 | N7: 0 | O7: 0 | P7: 0 | Q7: 0 | R7: 2 | S7: 1 | T7: 0 | U7: 0 | V7: 0 | W7: 0 | X7: 0 | Y7: 1 | Z7: 0 | AA7: 0 | AB7: 0 | AC7: 0 | AD7: 0 | AE7: 2 | AF7: 0 | AG7: 1 | AH7: =SUM(C7:AG7) -> 10 | AI7: =April!AI7 -> 39 | AJ7: =AH7+AI7 -> 49 | AK7: =April!AM7 -> 25 | AL7: =April!AN7 -> 14 | AM7: 7 | AN7: =AK7+AM7 -> 32 | AO7: =AJ7-AN7 -> 17 | AP7: dalam proses
A8: 2 | B8: Izin Lokasi/Izin perencanaan letak penggunaan tanah/ penetapan lokasi | C8: 0 | D8: 0 | E8: 0 | F8: 0 | G8: 0 | H8: 0 | I8: 0 | J8: 2 | K8: 1 | L8: 0 | M8: 0 | N8: 0 | O8: 0 | P8: 0 | Q8: 1 | R8: 0 | S8: 0 | T8: 0 | U8: 0 | V8: 0 | W8: 0 | X8: 0 | Y8: 0 | Z8: 0 | AA8: 0 | AB8: 0 | AC8: 0 | AD8: 0 | AE8: 0 | AF8: 1 | AG8: 0 | AH8: =SUM(C8:AG8) -> 5 | AI8: =April!AI8 -> 20 | AJ8: =AH8+AI8 -> 25 | AK8: =April!AM8 -> 15 | AL8: =April!AN8 -> 5 | AM8: 4 | AN8: =AK8+AM8 -> 19 | AO8: =AJ8-AN8 -> 6 | AP8: dalam proses
A9: 3 | B9: Izin Gangguan/HO | C9: 0 | D9: 0 | E9: 0 | F9: 0 | G9: 0 | H9: 0 | I9: 0 | J9: 0 | K9: 0 | L9: 0 | M9: 0 | N9: 0 | O9: 0 | P9: 0 | Q9: 0 | R9: 1 | S9: 0 | T9: 0 | U9: 0 | V9: 0 | W9: 0 | X9: 0 | Y9: 0 | Z9: 0 | AA9: 0 | AB9: 0 | AC9: 0 | AD9: 0 | AE9: 0 | AF9: 0 | AG9: 0 | AH9: =SUM(C9:AG9) -> 1 | AI9: =April!AI9 -> 42 | AJ9: =AH9+AI9 -> 43 | AK9: =April!AM9 -> 21 | AL9: =April!AN9 -> 21 | AM9: 0 | AN9: =AK9+AM9 -> 21 | AO9: =AJ9-AN9 -> 22 | AP9: berkas dikembalikan
B10: Izin Gangguan Ulang / HO | C10: 0 | D10: 0 | E10: 0 | F10: 0 | G10: 0 | H10: 0 | I10: 0 | J10: 0 | K10: 0 | L10: 0 | M10: 0 | N10: 0 | O10: 0 | P10: 0 | Q10: 0 | R10: 0 | S10: 0 | T10: 0 | U10: 0 | V10: 0 | W10: 0 | X10: 0 | Y10: 0 | Z10: 0 | AA10: 0 | AB10: 0 | AC10: 0 | AD10: 0 | AE10: 1 | AF10: 0 | AG10: 0 | AH10: =SUM(C10:AG10) -> 1 | AI10: =April!AI10 -> 65 | AJ10: =AH10+AI10 -> 66 | AK10: =April!AM10 -> 60 | AL10: =April!AN10 -> 5 | AM10: 0 | AN10: =AK10+AM10 -> 60 | AO10: =AJ10-AN10 -> 6 | AP10: berkas dikembalikan
A11: 4 | B11: Izin Penggilingan Padi Keliling | C11: 0 | D11: 0 | E11: 0 | F11: 0 | G11: 0 | H11: 0 | I11: 0 | J11: 0 | K11: 0 | L11: 0 | M11: 0 | N11: 0 | O11: 0 | P11: 0 | Q11: 0 | R11: 0 | S11: 0 | T11: 0 | U11: 0 | V11: 0 | W11: 0 | X11: 0 | Y11: 0 | Z11: 0 | AA11: 0 | AB11: 0 | AC11: 0 | AD11: 0 | AE11: 0 | AF11: 0 | AG11: 0 | AH11: =SUM(C11:AG11) -> 0 | AI11: =April!AI11 -> 0 | AJ11: =AH11+AI11 -> 0 | AK11: =April!AM11 -> 0 | AL11: =April!AN11 -> 0 | AM11: 0 | AN11: =AK11+AM11 -> 0
A12: 5 | B12: Izin Usaha Pengangkutan | C12: 0 | D12: 0 | E12: 0 | F12: 0 | G12: 0 | H12: 0 | I12: 0 | J12: 0 | K12: 0 | L12: 0 | M12: 0 | N12: 0 | O12: 0 | P12: 0 | Q12: 0 | R12: 0 | S12: 0 | T12: 0 | U12: 0 | V12: 0 | W12: 0 | X12: 0 | Y12: 0 | Z12: 0 | AA12: 0 | AB12: 0 | AC12: 0 | AD12: 0 | AE12: 0 | AF12: 0 | AG12: 0 | AH12: =SUM(C12:AG12) -> 0 | AI12: =April!AI12 -> 0 | AJ12: =AH12+AI12 -> 0 | AK12: =April!AM12 -> 0 | AL12: =April!AN12 -> 0 | AM12: 0 | AN12: =AK12+AM12 -> 0
A13: 6 | B13: Izin Trayek | C13: 0 | D13: 0 | E13: 0 | F13: 0 | G13: 0 | H13: 0 | I13: 0 | J13: 0 | K13: 0 | L13: 0 | M13: 0 | N13: 0 | O13: 0 | P13: 0 | Q13: 0 | R13: 0 | S13: 0 | T13: 0 | U13: 0 | V13: 0 | W13: 0 | X13: 0 | Y13: 0 | Z13: 0 | AA13: 0 | AB13: 0 | AC13: 0 | AD13: 0 | AE13: 0 | AF13: 0 | AG13: 0 | AH13: =SUM(C13:AG13) -> 0 | AI13: =April!AI13 -> 0 | AJ13: =AH13+AI13 -> 0 | AK13: =April!AM13 -> 0 | AL13: =April!AN13 -> 0 | AM13: 0 | AN13: =AK13+AM13 -> 0
A14: 7 | B14: Izin Insidentil | C14: 0 | D14: 0 | E14: 0 | F14: 0 | G14: 0 | H14: 0 | I14: 0 | J14: 0 | K14: 0 | L14: 0 | M14: 0 | N14: 0 | O14: 0 | P14: 0 | Q14: 0 | R14: 0 | S14: 0 | T14: 0 | U14: 0 | V14: 0 | W14: 0 | X14: 0 | Y14: 0 | Z14: 0 | AA14: 0 | AB14: 0 | AC14: 0 | AD14: 0 | AE14: 0 | AF14: 0 | AG14: 0 | AH14: =SUM(C14:AG14) -> 0 | AI14: =April!AI14 -> 0 | AJ14: =AH14+AI14 -> 0 | AK14: =April!AM14 -> 0 | AL14: =April!AN14 -> 0 | AM14: 0 | AN14: =AK14+AM14 -> 0
A15: 8 | B15: Izin Mendirikan Bangunan (IMB) | C15: 0 | D15: 0 | E15: 1 | F15: 0 | G15: 0 | H15: 0 | I15: 0 | J15: 1 | K15: 0 | L15: 1 | M15: 0 | N15: 0 | O15: 0 | P15: 0 | Q15: 1 | R15: 1 | S15: 0 | T15: 0 | U15: 2 | V15: 0 | W15: 0 | X15: 0 | Y15: 1 | Z15: 1 | AA15: 0 | AB15: 1 | AC15: 0 | AD15: 0 | AE15: 0 | AF15: 3 | AG15: 0 | AH15: =SUM(C15:AG15) -> 13 | AI15: =April!AI15 -> 85 | AJ15: =AH15+AI15 -> 98 | AK15: =April!AM15 -> 43 | AL15: =April!AN15 -> 42 | AM15: 14 | AN15: =AK15+AM15 -> 57 | AO15: =AJ15-AN15 -> 41 | AP15: dalam proses
A16: 9 | B16: Izin Usaha Industri (IUI) | C16: 0 | D16: 0 | E16: 0 | F16: 0 | G16: 0 | H16: 0 | I16: 0 | K16: 0 | L16: 0 | M16: 0 | N16: 0 | O16: 0 | P16: 0 | Q16: 0 | R16: 0 | S16: 0 | T16: 0 | U16: 0 | V16: 0 | W16: 0 | X16: 1 | Y16: 0 | Z16: 0 | AA16: 0 | AB16: 0 | AC16: 0 | AD16: 0 | AE16: 0 | AF16: 0 | AG16: 0 | AH16: =SUM(C16:AG16) -> 1 | AI16: =April!AI16 -> 1 | AJ16: =AH16+AI16 -> 2 | AK16: =April!AM16 -> 0 | AL16: =April!AN16 -> 1 | AM16: 2 | AN16: =AK16+AM16 -> 2
A17: 10 | B17: Tanda Daftar Industri (TDI) | C17: 0 | D17: 0 | E17: 0 | F17: 0 | G17: 0 | H17: 0 | I17: 0 | J17: 1 | K17: 0 | L17: 0 | M17: 0 | N17: 0 | O17: 0 | P17: 0 | Q17: 0 | R17: 0 | S17: 0 | T17: 0 | U17: 0 | V17: 0 | W17: 0 | X17: 0 | Y17: 0 | Z17: 0 | AA17: 0 | AB17: 0 | AC17: 0 | AD17: 0 | AE17: 0 | AF17: 0 | AG17: 1 | AH17: =SUM(C17:AG17) -> 2 | AI17: =April!AI17 -> 7 | AJ17: =AH17+AI17 -> 9 | AK17: =April!AM17 -> 7 | AL17: =April!AN17 -> 0 | AM17: 2 | AN17: =AK17+AM17 -> 9
A18: 11 | B18: Surat Izin Usaha Perdagangan (SIUP) | C18: 0 | D18: 1 | E18: 0 | F18: 5 | G18: 2 | H18: 0 | I18: 0 | J18: 3 | K18: 5 | L18: 2 | M18: 0 | N18: 4 | O18: 0 | P18: 0 | Q18: 0 | R18: 8 | S18: 2 | T18: 4 | U18: 2 | V18: 0 | W18: 0 | X18: 6 | Y18: 5 | Z18: 2 | AA18: 0 | AB18: 0 | AC18: 0 | AD18: 0 | AE18: 4 | AF18: 5 | AG18: 4 | AH18: =SUM(C18:AG18) -> 64 | AI18: =April!AI18 -> 266 | AJ18: =AH18+AI18 -> 330 | AK18: =April!AM18 -> 214 | AL18: =April!AN18 -> 52 | AM18: 85 | AN18: =AK18+AM18 -> 299 | AO18: =AJ18-AN18 -> 31 | AP18: dalam proses
A19: 12 | B19: Tanda Daftar Gudang (TDG) | C19: 0 | D19: 0 | E19: 0 | F19: 0 | G19: 0 | H19: 0 | I19: 0 | J19: 0 | K19: 0 | L19: 0 | M19: 0 | N19: 0 | O19: 0 | P19: 0 | Q19: 0 | R19: 1 | S19: 0 | T19: 0 | U19: 1 | V19: 0 | W19: 0 | X19: 0 | Y19: 0 | Z19: 0 | AA19: 0 | AB19: 0 | AC19: 0 | AD19: 0 | AE19: 0 | AF19: 3 | AG19: 1 | AH19: =SUM(C19:AG19) -> 6 | AI19: =April!AI19 -> 7 | AJ19: =AH19+AI19 -> 13 | AK19: =April!AM19 -> 7 | AL19: =April!AN19 -> 0 | AM19: 6 | AN19: =AK19+AM19 -> 13
A20: 13 | B20: Tanda Daftar Perusahaan (TDP) | C20: 0 | D20: 2 | E20: 0 | F20: 5 | G20: 2 | H20: 0 | I20: 0 | J20: 3 | K20: 5 | L20: 1 | M20: 0 | N20: 4 | O20: 0 | P20: 0 | Q20: 0 | R20: 8 | S20: 2 | T20: 4 | U20: 2 | V20: 0 | W20: 0 | X20: 7 | Y20: 5 | Z20: 2 | AA20: 0 | AB20: 0 | AC20: 0 | AD20: 0 | AE20: 4 | AF20: 4 | AG20: 4 | AH20: =SUM(C20:AG20) -> 64 | AI20: =April!AI20 -> 211 | AJ20: =AH20+AI20 -> 275 | AK20: =April!AM20 -> 159 | AL20: =April!AN20 -> 52 | AM20: 89 | AN20: =AK20+AM20 -> 248 | AO20: =AJ20-AN20 -> 27 | AP20: dalam proses
A21: 14 | B21: Izin Usaha Jasa Kontruksi (IUJK) | C21: 0 | D21: 0 | E21: 1 | F21: 0 | G21: 0 | H21: 0 | I21: 0 | J21: 1 | K21: 0 | L21: 1 | M21: 0 | N21: 0 | O21: 0 | P21: 0 | Q21: 1 | R21: 0 | S21: 2 | T21: 1 | U21: 2 | V21: 0 | W21: 0 | X21: 0 | Y21: 2 | Z21: 0 | AA21: 0 | AB21: 0 | AC21: 0 | AD21: 0 | AE21: 0 | AF21: 1 | AG21: 0 | AH21: =SUM(C21:AG21) -> 12 | AI21: =April!AI21 -> 27 | AJ21: =AH21+AI21 -> 39 | AK21: =April!AM21 -> 19 | AL21: =April!AN21 -> 8 | AM21: 12 | AN21: =AK21+AM21 -> 31 | AO21: =AJ21-AN21 -> 8 | AP21: dalam proses (1 dikembalikan)
B22: Kartu Penanggungjawab Teknik Badan (KPTJBU) | C22: 0 | D22: 0 | E22: 0 | F22: 0 | G22: 0 | H22: 0 | I22: 0 | J22: 2 | K22: 0 | L22: 1 | M22: 0 | N22: 0 | O22: 0 | P22: 0 | Q22: 1 | R22: 0 | S22: 1 | T22: 1 | U22: 0 | V22: 0 | W22: 0 | X22: 0 | Y22: 2 | Z22: 0 | AA22: 0 | AB22: 0 | AC22: 0 | AD22: 0 | AE22: 1 | AF22: 1 | AG22: 0 | AH22: =SUM(C22:AG22) -> 10 | AI22: =April!AI22 -> 21 | AJ22: =AH22+AI22 -> 31 | AK22: =April!AM22 -> 21 | AL22: =April!AN22 -> 0 | AM22: 10 | AN22: =AK22+AM22 -> 31
A23: 15 | B23: Tanda Daftar Usaha Pariwisata | C23: 0 | D23: 0 | E23: 0 | F23: 0 | G23: 0 | H23: 0 | I23: 0 | J23: 0 | K23: 0 | L23: 0 | M23: 0 | N23: 0 | O23: 0 | P23: 0 | Q23: 0 | R23: 0 | S23: 0 | T23: 0 | U23: 0 | V23: 0 | W23: 0 | X23: 0 | Y23: 0 | Z23: 0 | AA23: 0 | AB23: 0 | AC23: 0 | AD23: 0 | AE23: 0 | AF23: 0 | AG23: 0 | AH23: =SUM(C23:AG23) -> 0 | AI23: =April!AI23 -> 9 | AJ23: =AH23+AI23 -> 9 | AK23: =April!AM23 -> 7 | AL23: =April!AN23 -> 2 | AM23: 1 | AN23: =AK23+AM23 -> 8 | AO23: =AJ23-AN23 -> 1
A24: 16 | B24: Izin Penggunaan Gedung Juang | C24: 0 | D24: 0 | E24: 2 | F24: 0 | G24: 0 | H24: 0 | I24: 0 | J24: 1 | K24: 0 | L24: 0 | M24: 0 | N24: 0 | O24: 0 | P24: 0 | Q24: 0 | R24: 0 | S24: 0 | T24: 0 | U24: 0 | V24: 0 | W24: 0 | X24: 0 | Y24: 0 | Z24: 0 | AA24: 0 | AB24: 0 | AC24: 0 | AD24: 0 | AE24: 0 | AF24: 0 | AG24: 0 | AH24: =SUM(C24:AG24) -> 3 | AI24: =April!AI24 -> 21 | AJ24: =AH24+AI24 -> 24 | AK24: =April!AM24 -> 18 | AL24: =April!AN24 -> 3 | AM24: 3 | AN24: =AK24+AM24 -> 21 | AO24: =AJ24-AN24 -> 3 | AP24: dalam proses
A25: 17 | B25: Izin Penggunaan Alun-alun Kebumen | C25: 0 | D25: 0 | E25: 1 | F25: 0 | G25: 0 | H25: 0 | I25: 0 | J25: 0 | K25: 0 | L25: 0 | M25: 0 | N25: 0 | O25: 0 | P25: 0 | Q25: 0 | R25: 0 | S25: 1 | T25: 0 | U25: 0 | V25: 0 | W25: 0 | X25: 0 | Y25: 0 | Z25: 0 | AA25: 0 | AB25: 0 | AC25: 0 | AD25: 0 | AE25: 0 | AF25: 1 | AG25: 0 | AH25: =SUM(C25:AG25) -> 3 | AI25: =April!AI26 -> 17 | AJ25: =AH25+AI25 -> 20 | AK25: =April!AM26 -> 9 | AL25: =April!AN26 -> 8 | AM25: 3 | AN25: =AK25+AM25 -> 12 | AO25: =AJ25-AN25 -> 8 | AP25: dalam proses
A26: 18 | B26: Izin Pemasangan Reklame | C26: 0 | D26: 2 | E26: 2 | F26: 1 | G26: 1 | H26: 0 | I26: 0 | J26: 1 | K26: 2 | L26: 1 | M26: 0 | N26: 1 | O26: 0 | P26: 0 | Q26: 4 | R26: 6 | S26: 0 | T26: 2 | U26: 1 | V26: 0 | W26: 0 | X26: 2 | Y26: 1 | Z26: 1 | AA26: 0 | AB26: 3 | AC26: 0 | AD26: 0 | AE26: 1 | AF26: 1 | AG26: 0 | AH26: =SUM(C26:AG26) -> 33 | AI26: =April!AI27 -> 142 | AJ26: =AH26+AI26 -> 175 | AK26: =April!AM27 -> 141 | AL26: =April!AN27 -> 1 | AM26: 34 | AN26: =AK26+AM26 -> 175
A27: 19 | B27: Izin Pengelolaan Sarang Burung Lawet | C27: 0 | D27: 0 | E27: 0 | F27: 0 | G27: 0 | H27: 0 | I27: 0 | J27: 0 | K27: 0 | L27: 0 | M27: 0 | N27: 0 | O27: 0 | P27: 0 | Q27: 0 | R27: 0 | S27: 0 | T27: 0 | U27: 0 | V27: 0 | W27: 0 | X27: 0 | Y27: 0 | Z27: 0 | AA27: 0 | AB27: 0 | AC27: 0 | AD27: 0 | AE27: 0 | AF27: 0 | AG27: 0 | AH27: =SUM(C27:AG27) -> 0 | AI27: =April!AI28 -> 0 | AJ27: =AH27+AI27 -> 0 | AK27: =April!AM28 -> 0 | AL27: =April!AN28 -> 0 | AM27: 0 | AN27: =AK27+AM27 -> 0
A28: 20 | B28: Izin Mendirikan Rumah Sakit Umum | C28: 0 | D28: 0 | E28: 0 | F28: 0 | G28: 0 | H28: 0 | I28: 0 | J28: 0 | K28: 0 | L28: 0 | M28: 0 | N28: 0 | O28: 0 | P28: 0 | Q28: 0 | R28: 0 | S28: 0 | T28: 0 | U28: 0 | V28: 0 | W28: 0 | X28: 0 | Y28: 0 | Z28: 0 | AA28: 0 | AB28: 0 | AC28: 0 | AD28: 0 | AE28: 0 | AF28: 0 | AG28: 0 | AH28: =SUM(C28:AG28) -> 0 | AI28: =April!AI29 -> 0 | AJ28: =AH28+AI28 -> 0 | AK28: =April!AM29 -> 0 | AL28: =April!AN29 -> 0 | AM28: 0 | AN28: =AK28+AM28 -> 0
A29: 21 | B29: Izin Mendirikan Rumah Sakit Khusus | C29: 0 | D29: 0 | E29: 0 | F29: 0 | G29: 0 | H29: 0 | I29: 0 | J29: 0 | K29: 0 | L29: 0 | M29: 0 | N29: 0 | O29: 0 | P29: 0 | Q29: 0 | R29: 0 | S29: 0 | T29: 0 | U29: 0 | V29: 0 | W29: 0 | X29: 0 | Y29: 0 | Z29: 0 | AA29: 0 | AB29: 0 | AC29: 0 | AD29: 0 | AE29: 0 | AF29: 0 | AG29: 0 | AH29: =SUM(C29:AG29) -> 0 | AI29: =April!AI30 -> 0 | AJ29: =AH29+AI29 -> 0 | AK29: =April!AM30 -> 0 | AL29: =April!AN30 -> 0 | AM29: 0 | AN29: =AK29+AM29 -> 0
A30: 22 | B30: Izin Klinik Pratama | C30: 0 | D30: 0 | E30: 0 | F30: 0 | G30: 0 | H30: 0 | I30: 0 | J30: 0 | K30: 0 | L30: 0 | M30: 0 | N30: 0 | O30: 0 | P30: 0 | Q30: 0 | R30: 0 | S30: 0 | T30: 0 | U30: 0 | V30: 0 | W30: 0 | X30: 0 | Y30: 0 | Z30: 0 | AA30: 0 | AB30: 0 | AC30: 0 | AD30: 0 | AE30: 0 | AF30: 0 | AG30: 0 | AH30: =SUM(C30:AG30) -> 0 | AI30: =April!AI31 -> 1 | AJ30: =AH30+AI30 -> 1 | AK30: =April!AM31 -> 0 | AL30: =April!AN31 -> 1 | AM30: 0 | AN30: =AK30+AM30 -> 0 | AO30: =AJ30-AN30 -> 1
A31: 23 | B31: Izin Klinik Utama | C31: 0 | D31: 0 | E31: 0 | F31: 0 | G31: 0 | H31: 0 | I31: 0 | J31: 0 | K31: 0 | L31: 0 | M31: 0 | N31: 0 | O31: 0 | P31: 0 | Q31: 0 | R31: 0 | S31: 0 | T31: 0 | U31: 0 | V31: 0 | W31: 0 | X31: 0 | Y31: 0 | Z31: 0 | AA31: 0 | AB31: 0 | AC31: 0 | AD31: 0 | AE31: 0 | AF31: 0 | AG31: 0 | AH31: =SUM(C31:AG31) -> 0 | AI31: =April!AI32 -> 0 | AJ31: =AH31+AI31 -> 0 | AK31: =April!AM32 -> 0 | AL31: =April!AN32 -> 0 | AM31: 0 | AN31: =AK31+AM31 -> 0
A32: 24 | B32: Izin Laboratorium Klinik Pratama | C32: 0 | D32: 0 | E32: 0 | F32: 0 | G32: 0 | H32: 0 | I32: 0 | J32: 0 | K32: 0 | L32: 0 | M32: 0 | N32: 0 | O32: 0 | P32: 0 | Q32: 0 | R32: 0 | S32: 0 | T32: 0 | U32: 0 | V32: 0 | W32: 0 | X32: 0 | Y32: 0 | Z32: 0 | AA32: 0 | AB32: 0 | AC32: 0 | AD32: 0 | AE32: 0 | AF32: 0 | AG32: 0 | AH32: =SUM(C32:AG32) -> 0 | AI32: =April!AI33 -> 0 | AJ32: =AH32+AI32 -> 0 | AK32: =April!AM33 -> 0 | AL32: =April!AN33 -> 0 | AM32: 0 | AN32: =AK32+AM32 -> 0
A33: 25 | B33: Izin Laboratorium Klinik Utama | C33: 0 | D33: 0 | E33: 0 | F33: 0 | G33: 0 | H33: 0 | I33: 0 | J33: 0 | K33: 0 | L33: 0 | M33: 0 | N33: 0 | O33: 0 | P33: 0 | Q33: 0 | R33: 0 | S33: 0 | T33: 0 | U33: 0 | V33: 0 | W33: 0 | X33: 0 | Y33: 0 | Z33: 0 | AA33: 0 | AB33: 0 | AC33: 0 | AD33: 0 | AE33: 0 | AF33: 0 | AG33: 0 | AH33: =SUM(C33:AG33) -> 0 | AI33: =April!AI34 -> 0 | AJ33: =AH33+AI33 -> 0 | AK33: =April!AM34 -> 0 | AL33: =April!AN34 -> 0 | AM33: 0 | AN33: =AK33+AM33 -> 0
A34: 26 | B34: Izin Apotik | C34: 0 | D34: 0 | E34: 0 | F34: 0 | G34: 0 | H34: 0 | I34: 0 | J34: 0 | K34: 0 | L34: 0 | M34: 0 | N34: 0 | O34: 0 | P34: 0 | Q34: 0 | R34: 0 | S34: 0 | T34: 0 | U34: 0 | V34: 0 | W34: 0 | X34: 0 | Y34: 0 | Z34: 0 | AA34: 0 | AB34: 0 | AC34: 0 | AD34: 0 | AE34: 0 | AF34: 0 | AG34: 0 | AH34: =SUM(C34:AG34) -> 0 | AI34: =April!AI35 -> 6 | AJ34: =AH34+AI34 -> 6 | AK34: =April!AM35 -> 6 | AL34: =April!AN35 -> 0 | AM34: 0 | AN34: =AK34+AM34 -> 6
A35: 27 | B35: Izin Toko Obat | C35: 0 | D35: 0 | E35: 0 | F35: 0 | G35: 0 | H35: 0 | I35: 0 | J35: 0 | K35: 0 | L35: 0 | M35: 0 | N35: 0 | O35: 0 | P35: 0 | Q35: 0 | R35: 0 | S35: 0 | T35: 0 | U35: 0 | V35: 0 | W35: 0 | X35: 0 | Y35: 0 | Z35: 0 | AA35: 0 | AB35: 0 | AC35: 0 | AD35: 0 | AE35: 0 | AF35: 0 | AG35: 0 | AH35: =SUM(C35:AG35) -> 0 | AI35: =April!AI36 -> 3 | AJ35: =AH35+AI35 -> 3 | AK35: =April!AM36 -> 2 | AL35: =April!AN36 -> 1 | AM35: 0 | AN35: =AK35+AM35 -> 2 | AO35: =AJ35-AN35 -> 1
A36: 28 | B36: Izin Optik | C36: 0 | D36: 0 | E36: 0 | F36: 0 | G36: 0 | H36: 0 | I36: 0 | J36: 0 | K36: 0 | L36: 0 | M36: 0 | N36: 0 | O36: 0 | P36: 0 | Q36: 0 | R36: 0 | S36: 0 | T36: 0 | U36: 0 | V36: 0 | W36: 0 | X36: 0 | Y36: 0 | Z36: 0 | AA36: 0 | AB36: 0 | AC36: 0 | AD36: 0 | AE36: 0 | AF36: 0 | AH36: =SUM(C36:AG36) -> 0 | AI36: =April!AI37 -> 0 | AJ36: =AH36+AI36 -> 0 | AK36: =April!AM37 -> 0 | AL36: =April!AN37 -> 0 | AM36: 0 | AN36: =AK36+AM36 -> 0
A37: 29 | B37: Izin Industri Rumah Tangga Makanan Minuman (PIRT) | C37: 0 | D37: 1 | E37: 0 | F37: 0 | G37: 1 | H37: 0 | I37: 0 | J37: 0 | K37: 0 | L37: 0 | M37: 0 | N37: 1 | O37: 0 | P37: 0 | Q37: 4 | R37: 0 | S37: 2 | T37: 1 | U37: 1 | V37: 0 | W37: 0 | X37: 2 | Y37: 0 | Z37: 0 | AA37: 0 | AB37: 0 | AC37: 0 | AD37: 0 | AE37: 0 | AF37: 4 | AG37: 5 | AH37: =SUM(C37:AG37) -> 22 | AI37: =April!AI38 -> 117 | AJ37: =AH37+AI37 -> 139 | AK37: =April!AM38 -> 82 | AL37: =April!AN38 -> 35 | AM37: 22 | AN37: =AK37+AM37 -> 104 | AO37: =AJ37-AN37 -> 35
A38: 30 | B38: Tanda Daftar Depot Air Minum | C38: 0 | D38: 0 | E38: 0 | F38: 0 | G38: 0 | H38: 0 | I38: 0 | J38: 0 | K38: 0 | L38: 1 | M38: 0 | N38: 0 | O38: 0 | P38: 0 | Q38: 0 | R38: 0 | S38: 0 | T38: 0 | U38: 0 | V38: 0 | W38: 0 | X38: 0 | Y38: 0 | Z38: 0 | AA38: 0 | AB38: 0 | AC38: 0 | AD38: 0 | AE38: 0 | AF38: 0 | AG38: 0 | AH38: =SUM(C38:AG38) -> 1 | AI38: =April!AI39 -> 7 | AJ38: =AH38+AI38 -> 8 | AK38: =April!AM39 -> 6 | AL38: =April!AN39 -> 1 | AM38: 2 | AN38: =AK38+AM38 -> 8
A39: 31 | B39: Tanda Daftar Pengobatan Tradisional | C39: 0 | D39: 0 | E39: 0 | F39: 1 | G39: 0 | H39: 0 | I39: 0 | J39: 0 | K39: 0 | L39: 0 | M39: 0 | N39: 0 | O39: 0 | P39: 0 | Q39: 0 | R39: 0 | S39: 0 | T39: 0 | U39: 0 | V39: 0 | W39: 0 | X39: 0 | Y39: 0 | Z39: 0 | AA39: 0 | AB39: 0 | AC39: 0 | AD39: 0 | AE39: 0 | AF39: 0 | AG39: 0 | AH39: =SUM(C39:AG39) -> 1 | AI39: =April!AI40 -> 0 | AJ39: =AH39+AI39 -> 1 | AK39: =April!AM40 -> 0 | AL39: =April!AN40 -> 0 | AM39: 1 | AN39: =AK39+AM39 -> 1
A40: 32 | B40: Izin Operasional Pendirian Bursa Kerja Khusus (BKK) | C40: 0 | D40: 0 | E40: 0 | F40: 0 | G40: 1 | H40: 0 | I40: 0 | J40: 0 | K40: 0 | L40: 0 | M40: 0 | N40: 0 | O40: 0 | P40: 0 | Q40: 0 | R40: 0 | S40: 0 | T40: 0 | U40: 0 | V40: 0 | W40: 0 | X40: 0 | Y40: 0 | Z40: 0 | AA40: 0 | AB40: 0 | AC40: 0 | AD40: 0 | AE40: 1 | AF40: 0 | AG40: 0 | AH40: =SUM(C40:AG40) -> 2 | AI40: =April!AI41 -> 1 | AJ40: =AH40+AI40 -> 3 | AK40: =April!AM41 -> 0 | AL40: =April!AN41 -> 1 | AM40: 0 | AN40: =AK40+AM40 -> 0 | AO40: =AJ40-AN40 -> 3
A41: 33 | B41: Izin Lembaga Pelatihan Kerja | C41: 0 | D41: 0 | E41: 0 | F41: 0 | G41: 0 | H41: 0 | I41: 0 | J41: 0 | K41: 0 | L41: 0 | M41: 0 | N41: 0 | O41: 0 | P41: 0 | Q41: 0 | R41: 0 | S41: 0 | T41: 0 | U41: 0 | V41: 0 | W41: 0 | X41: 0 | Y41: 0 | Z41: 0 | AA41: 0 | AB41: 0 | AC41: 0 | AD41: 0 | AE41: 0 | AF41: 0 | AG41: 0 | AH41: =SUM(C41:AG41) -> 0 | AI41: =April!AI42 -> 5 | AJ41: =AH41+AI41 -> 5 | AK41: =April!AM42 -> 4 | AL41: =April!AN42 -> 1 | AM41: 0 | AN41: =AK41+AM41 -> 4 | AO41: =AJ41-AN41 -> 1
A42: 34 | B42: Izin Perusahaan Penyedia Jasa Buruh ( Out Sourching) | C42: 0 | D42: 0 | E42: 0 | F42: 0 | G42: 0 | H42: 0 | I42: 0 | J42: 0 | K42: 0 | L42: 0 | M42: 0 | N42: 0 | O42: 0 | P42: 0 | Q42: 0 | R42: 0 | S42: 0 | T42: 0 | U42: 0 | V42: 0 | W42: 0 | X42: 0 | Y42: 0 | Z42: 0 | AA42: 0 | AB42: 0 | AC42: 0 | AD42: 0 | AE42: 0 | AF42: 0 | AG42: 0 | AH42: =SUM(C42:AG42) -> 0 | AI42: =April!AI43 -> 0 | AJ42: =AH42+AI42 -> 0 | AK42: =April!AM43 -> 0 | AL42: =April!AN43 -> 0 | AM42: 0 | AN42: =AK42+AM42 -> 0
A43: 35 | B43: Izin Pembuatan Tambak | C43: 0 | D43: 0 | E43: 0 | F43: 0 | G43: 0 | H43: 0 | I43: 0 | J43: 0 | L43: 0 | M43: 0 | N43: 0 | O43: 0 | P43: 0 | Q43: 0 | R43: 0 | S43: 0 | T43: 0 | U43: 0 | V43: 0 | W43: 0 | X43: 0 | Y43: 0 | Z43: 0 | AA43: 0 | AB43: 0 | AC43: 0 | AD43: 0 | AE43: 0 | AF43: 0 | AG43: 0 | AH43: =SUM(C43:AG43) -> 0 | AI43: =April!AI44 -> 0 | AJ43: =AH43+AI43 -> 0 | AK43: =April!AM44 -> 0 | AL43: =April!AN44 -> 0 | AM43: 0 | AN43: =AK43+AM43 -> 0
A44: 36 | B44: Izin Usaha Perikanan | C44: 0 | D44: 0 | E44: 0 | F44: 0 | G44: 0 | H44: 0 | I44: 0 | J44: 0 | K44: 1 | L44: 0 | M44: 0 | N44: 0 | O44: 0 | P44: 0 | Q44: 0 | R44: 0 | S44: 0 | T44: 0 | U44: 0 | V44: 0 | W44: 0 | X44: 0 | Y44: 0 | Z44: 0 | AA44: 0 | AB44: 0 | AC44: 0 | AD44: 0 | AE44: 0 | AF44: 0 | AG44: 0 | AH44: =SUM(C44:AG44) -> 1 | AI44: =April!AI45 -> 0 | AJ44: =AH44+AI44 -> 1 | AK44: =April!AM45 -> 0 | AL44: =April!AN45 -> 0 | AM44: 1 | AN44: =AK44+AM44 -> 1
A45: 37 | B45: Izin Usaha Peternakan | C45: 0 | D45: 0 | E45: 0 | F45: 0 | G45: 0 | H45: 0 | I45: 0 | J45: 0 | K45: 0 | L45: 0 | M45: 0 | N45: 0 | O45: 0 | P45: 0 | Q45: 0 | R45: 0 | S45: 0 | T45: 0 | U45: 0 | V45: 0 | W45: 0 | X45: 0 | Y45: 0 | Z45: 0 | AA45: 0 | AB45: 0 | AC45: 0 | AD45: 0 | AE45: 0 | AF45: 0 | AG45: 0 | AH45: =SUM(C45:AG45) -> 0 | AI45: =April!AI46 -> 0 | AJ45: =AH45+AI45 -> 0 | AK45: =April!AM46 -> 0 | AL45: =April!AN46 -> 0 | AM45: 0 | AN45: =AK45+AM45 -> 0
A46: 38 | B46: Izin Pemakaian Tanah Pengairan | C46: 0 | D46: 0 | E46: 0 | F46: 0 | G46: 0 | H46: 0 | I46: 0 | J46: 0 | K46: 0 | L46: 0 | M46: 0 | N46: 0 | O46: 0 | P46: 0 | Q46: 0 | R46: 0 | S46: 0 | T46: 0 | U46: 0 | V46: 0 | W46: 0 | X46: 0 | Y46: 0 | Z46: 0 | AA46: 0 | AB46: 0 | AC46: 0 | AD46: 0 | AE46: 0 | AF46: 0 | AG46: 0 | AH46: =SUM(C46:AG46) -> 0 | AI46: =April!AI47 -> 0 | AJ46: =AH46+AI46 -> 0 | AK46: =April!AM47 -> 0 | AL46: =April!AN47 -> 0 | AM46: 0 | AN46: =AK46+AM46 -> 0
A47: 39 | B47: Izin Tebang dan Pengangkutan Kayu Rakyat | C47: 0 | D47: 0 | E47: 0 | F47: 0 | G47: 0 | H47: 0 | I47: 0 | J47: 0 | K47: 0 | L47: 0 | M47: 0 | N47: 0 | O47: 0 | P47: 0 | Q47: 0 | R47: 0 | S47: 0 | T47: 0 | U47: 0 | V47: 0 | W47: 0 | X47: 0 | Y47: 0 | Z47: 0 | AA47: 0 | AB47: 0 | AC47: 0 | AD47: 0 | AE47: 0 | AF47: 0 | AG47: 0 | AH47: =SUM(C47:AG47) -> 0 | AI47: =April!AI48 -> 0 | AJ47: =AH47+AI47 -> 0 | AK47: =April!AM48 -> 0 | AL47: =April!AN48 -> 0 | AM47: 0 | AN47: =AK47+AM47 -> 0
A48: 40 | B48: Izin Penggunaaan Tanah/Bangunan Milik Pemerintah Kabupaten | C48: 0 | D48: 0 | E48: 0 | F48: 0 | G48: 0 | H48: 0 | I48: 0 | J48: 0 | K48: 0 | L48: 0 | M48: 0 | N48: 0 | O48: 0 | P48: 0 | Q48: 0 | R48: 0 | S48: 0 | T48: 0 | U48: 0 | V48: 0 | W48: 0 | X48: 0 | Y48: 0 | Z48: 0 | AA48: 0 | AB48: 0 | AC48: 0 | AD48: 0 | AE48: 0 | AF48: 0 | AG48: 0 | AH48: =SUM(C48:AG48) -> 0 | AI48: =April!AI49 -> 1 | AJ48: =AH48+AI48 -> 1 | AK48: =April!AM49 -> 0 | AL48: =April!AN49 -> 1 | AM48: 0 | AN48: =AK48+AM48 -> 0 | AO48: =AJ48-AN48 -> 1 | AP48: dalam proses
A49: 41 | B49: Izin Penempatan Kios /Los | C49: 0 | D49: 0 | E49: 0 | F49: 0 | G49: 0 | H49: 0 | I49: 0 | J49: 0 | K49: 0 | L49: 0 | M49: 0 | N49: 0 | O49: 0 | P49: 0 | Q49: 0 | R49: 0 | S49: 0 | T49: 0 | U49: 0 | V49: 0 | W49: 0 | X49: 0 | Y49: 80 | Z49: 0 | AA49: 0 | AB49: 0 | AC49: 0 | AD49: 0 | AE49: 0 | AF49: 0 | AG49: 0 | AH49: =SUM(C49:AG49) -> 80 | AI49: =April!AI50 -> 74 | AJ49: =AH49+AI49 -> 154 | AK49: =April!AM50 -> 47 | AL49: =April!AN50 -> 27 | AM49: 38 | AN49: =AK49+AM49 -> 85 | AO49: =AJ49-AN49 -> 69 | AP49: dalam proses
A50: 42 | B50: Limbah B3 | C50: 0 | D50: 0 | E50: 0 | F50: 0 | G50: 0 | H50: 0 | I50: 0 | J50: 0 | K50: 0 | L50: 0 | M50: 0 | N50: 0 | O50: 0 | P50: 0 | Q50: 1 | R50: 0 | S50: 1 | T50: 0 | U50: 0 | V50: 0 | W50: 0 | X50: 0 | Y50: 0 | Z50: 0 | AA50: 0 | AB50: 0 | AC50: 0 | AD50: 0 | AE50: 0 | AF50: 0 | AG50: 0 | AH50: =SUM(C50:AG50) -> 2 | AI50: =April!AI51 -> 6 | AJ50: =AH50+AI50 -> 8 | AK50: =April!AM51 -> 1 | AL50: =April!AN51 -> 5 | AM50: 0 | AN50: =AK50+AM50 -> 1 | AO50: =AJ50-AN50 -> 7 | AP50: dalam proses
A51: 43 | B51: Izin Pengelolaan Air Limbah (IPAL) | C51: 0 | D51: 0 | E51: 0 | F51: 0 | G51: 0 | H51: 0 | I51: 0 | J51: 0 | K51: 0 | L51: 0 | M51: 0 | N51: 0 | O51: 0 | P51: 0 | Q51: 0 | R51: 0 | S51: 0 | T51: 0 | U51: 0 | V51: 0 | W51: 0 | X51: 0 | Y51: 0 | Z51: 0 | AA51: 0 | AB51: 0 | AC51: 0 | AD51: 0 | AE51: 0 | AF51: 0 | AG51: 0 | AH51: =SUM(C51:AG51) -> 0 | AI51: =April!AI52 -> 1 | AJ51: =AH51+AI51 -> 1 | AK51: =April!AM52 -> 0 | AL51: =April!AN52 -> 1 | AM51: 0 | AN51: =AK51+AM51 -> 0 | AO51: =AJ51-AN51 -> 1 | AP51: dalam proses
A52: 44 | B52: Izin Operasional Rumah Sakit / Klinik / Puskesmas | C52: 0 | D52: 0 | E52: 0 | F52: 0 | G52: 0 | H52: 0 | I52: 0 | J52: 0 | K52: 0 | L52: 0 | M52: 0 | N52: 0 | O52: 0 | P52: 0 | Q52: 0 | R52: 0 | S52: 0 | T52: 1 | U52: 0 | V52: 0 | W52: 0 | X52: 0 | Y52: 0 | Z52: 0 | AA52: 0 | AB52: 0 | AC52: 0 | AD52: 0 | AE52: 0 | AF52: 0 | AG52: 0 | AH52: =SUM(C52:AG52) -> 1 | AI52: =April!AI53 -> 13 | AJ52: =AH52+AI52 -> 14 | AK52: =April!AM53 -> 2 | AL52: =April!AN53 -> 11 | AM52: 1 | AN52: =AK52+AM52 -> 3 | AO52: =AJ52-AN52 -> 11 | AP52: dalam proses
A53: 45 | B53: Izin Lingkungan | C53: 0 | D53: 0 | E53: 0 | F53: 0 | G53: 0 | H53: 0 | I53: 0 | J53: 0 | K53: 0 | L53: 0 | M53: 0 | N53: 0 | O53: 0 | P53: 0 | Q53: 0 | R53: 0 | S53: 0 | T53: 1 | U53: 0 | V53: 0 | W53: 0 | X53: 1 | Y53: 0 | Z53: 0 | AA53: 0 | AB53: 0 | AC53: 0 | AD53: 0 | AE53: 0 | AF53: 0 | AG53: 0 | AH53: =SUM(C53:AG53) -> 2 | AI53: =April!AI54 -> 22 | AJ53: =AH53+AI53 -> 24 | AK53: =April!AM54 -> 10 | AL53: =April!AN54 -> 12 | AM53: 0 | AN53: =AK53+AM53 -> 10 | AO53: =AJ53-AN53 -> 14 | AP53: dalam proses
A54: 46 | B54: Izin Tukang Gigi | C54: 0 | D54: 0 | E54: 0 | F54: 0 | G54: 0 | H54: 0 | I54: 0 | J54: 0 | K54: 2 | L54: 0 | M54: 0 | N54: 0 | O54: 0 | P54: 0 | Q54: 0 | R54: 0 | S54: 0 | T54: 0 | U54: 0 | V54: 0 | W54: 0 | X54: 0 | Y54: 0 | Z54: 0 | AA54: 0 | AB54: 0 | AC54: 0 | AD54: 0 | AE54: 1 | AF54: 0 | AG54: 0 | AH54: =SUM(C54:AG54) -> 3 | AI54: =April!AI55 -> 43 | AJ54: =AH54+AI54 -> 46 | AK54: =April!AM55 -> 43 | AL54: =April!AN55 -> 0 | AM54: 0 | AN54: =AK54+AM54 -> 43 | AO54: =AJ54-AN54 -> 3 | AP54: dalam proses
A55: Jumlah | C55: =SUM(C7:C54) -> 0 | D55: =SUM(D7:D54) -> 6 | E55: =SUM(E7:E54) -> 9 | F55: =SUM(F7:F54) -> 12 | G55: =SUM(G7:G54) -> 7 | H55: =SUM(H7:H54) -> 0 | I55: =SUM(I7:I54) -> 0 | J55: =SUM(J7:J54) -> 16 | ... AH55: =SUM(AH7:AH54) -> 343 | AI55: =April!AI56 -> 1280 | AJ55: =SUM(AJ7:AJ54) -> 1623 | AK55: =April!AM56 -> 969 | AL55: =April!AN56 -> 311 | AM55: =SUM(AM7:AM54) -> 337 | AN55: =SUM(AN7:AN54) -> 1306 | AO55: =AJ55-AN55 -> 317 | AP55: dalam proses
AB57: Kebumen, Juni 2017
AB58: KEPALA DINAS PENANAMAN MODAL
AB59: DAN PELAYANAN TERPADU SATU PINTU
AB60: KABUPATEN KEBUMEN
AB65: Drs. H. Hery Setyanto
AB66: Pembina Utama Muda
AB67: NIP. 19601023 199001 1 001

Sheet Juni
A1: LAPORAN BERKAS IZIN MASUK DAN TERPROSES DINAS PENANAMAN MODAL DAN PELAYANAN TERPADU SATU PINTU
A2: KABUPATEN KEBUMEN
A3: Bulan Juni 2017
A5: NO | B5: JENIS IZIN | C5: TANGGAL | AG5: PEMOHON BLN INI | AH5: PEMOHON BULAN LALU | AI5: TOTAL PERMOHONAN | AJ5: TERPROSES BULAN LALU | AK5: DALAM PROSES BULAN LALU | AL5: TERPROSES BLN INI (SK) | AM5: TOTAL TERPROSES | AN5: IZIN BELUM JADI | AO5: KETERANGAN
C6: 1 | D6: 2 | E6: 3 | F6: 4 | G6: 5 | H6: 6 | I6: 7 | J6: 8 | K6: 9 | L6: 10 | M6: 11 | N6: 12 | O6: 13 | P6: 14 | Q6: 15 | R6: 16 | S6: 17 | T6: 18 | U6: 19 | V6: 20 | W6: 21 | X6: 22 | Y6: 23 | Z6: 24 | AA6: 25 | AB6: 26 | AC6: 27 | AD6: 28 | AE6: 29 | AF6: 30
A7: 1 | B7: Izin Prinsip | C7: 0 | D7: 0 | E7: 0 | F7: 0 | G7: 1 | H7: 0 | I7: 0 | J7: 0 | K7: 0 | L7: 0 | M7: 0 | N7: 0 | O7: 0 | P7: 1 | Q7: 0 | R7: 0 | S7: 0 | T7: 0 | U7: 1 | V7: 1 | W7: 1 | X7: 0 | Y7: 0 | Z7: 0 | AA7: 0 | AB7: 0 | AC7: 0 | AD7: 0 | AE7: 0 | AF7: 0 | AG7: =SUM(C7:AF7) -> 5 | AH7: =Mei!AJ7 -> 49 | AI7: =AG7+AH7 -> 54 | AJ7: =Mei!AN7 -> 32 | AK7: =Mei!AO7 -> 17 | AL7: 5 | AM7: =AJ7+AL7 -> 37 | AN7: =AI7-AM7 -> 17 | AO7: dalam proses
A8: 2 | B8: Izin Lokasi/Izin perencanaan letak penggunaan tanah/ penetapan lokasi | C8: 0 | D8: 0 | E8: 0 | F8: 0 | G8: 3 | H8: 0 | I8: 0 | J8: 1 | K8: 0 | L8: 0 | M8: 0 | N8: 0 | O8: 0 | P8: 2 | Q8: 0 | R8: 0 | S8: 0 | T8: 0 | U8: 0 | V8: 1 | W8: 0 | X8: 0 | Y8: 0 | Z8: 0 | AA8: 0 | AB8: 0 | AC8: 0 | AD8: 0 | AE8: 0 | AF8: 0 | AG8: =SUM(C8:AF8) -> 7 | AH8: =Mei!AJ8 -> 25 | AI8: =AG8+AH8 -> 32 | AJ8: =Mei!AN8 -> 19 | AK8: =Mei!AO8 -> 6 | AL8: 0 | AM8: =AJ8+AL8 -> 19 | AN8: =AI8-AM8 -> 13 | AO8: dalam proses
A9: 3 | B9: Izin Gangguan/HO | C9: 0 | D9: 0 | E9: 0 | F9: 0 | G9: 0 | H9: 0 | I9: 0 | J9: 0 | K9: 0 | L9: 0 | M9: 0 | N9: 0 | O9: 0 | P9: 0 | Q9: 0 | R9: 0 | S9: 0 | T9: 0 | U9: 0 | V9: 0 | W9: 0 | X9: 0 | Y9: 0 | Z9: 0 | AA9: 0 | AB9: 0 | AC9: 0 | AD9: 0 | AE9: 0 | AF9: 0 | AG9: =SUM(C9:AF9) -> 0 | AH9: =Mei!AJ9 -> 43 | AI9: =AG9+AH9 -> 43 | AJ9: =Mei!AN9 -> 21 | AK9: =Mei!AO9 -> 22 | AL9: 0 | AM9: =AJ9+AL9 -> 21 | AN9: =AI9-AM9 -> 22 | AO9: berkas dikembalikan
B10: Izin Gangguan Ulang / HO | C10: 0 | D10: 0 | E10: 0 | F10: 0 | G10: 0 | H10: 0 | I10: 0 | J10: 0 | K10: 0 | L10: 0 | M10: 0 | N10: 0 | O10: 0 | P10: 0 | Q10: 0 | R10: 0 | S10: 0 | T10: 0 | U10: 0 | V10: 0 | W10: 0 | X10: 0 | Y10: 0 | Z10: 0 | AA10: 0 | AB10: 0 | AC10: 0 | AD10: 0 | AE10: 0 | AF10: 0 | AG10: =SUM(C10:AF10) -> 0 | AH10: =Mei!AJ10 -> 66 | AI10: =AG10+AH10 -> 66 | AJ10: =Mei!AN10 -> 60 | AK10: =Mei!AO10 -> 6 | AL10: 0 | AM10: =AJ10+AL10 -> 60 | AN10: =AI10-AM10 -> 6 | AO10: berkas dikembalikan
A11: 4 | B11: Izin Penggilingan Padi Keliling | C11: 0 | D11: 0 | E11: 0 | F11: 0 | G11: 0 | H11: 0 | I11: 0 | J11: 0 | K11: 0 | L11: 0 | M11: 0 | N11: 0 | O11: 0 | P11: 0 | Q11: 0 | R11: 0 | S11: 0 | T11: 0 | U11: 0 | V11: 0 | W11: 0 | X11: 0 | Y11: 0 | Z11: 0 | AA11: 0 | AB11: 0 | AC11: 0 | AD11: 0 | AE11: 0 | AF11: 0 | AG11: =SUM(C11:AF11) -> 0 | AH11: =Mei!AJ11 -> 0 | AI11: =AG11+AH11 -> 0 | AJ11: =Mei!AN11 -> 0 | AK11: =Mei!AO11 -> 0 | AL11: 0 | AM11: =AJ11+AL11 -> 0
A12: 5 | B12: Izin Usaha Pengangkutan | C12: 0 | D12: 0 | E12: 0 | F12: 0 | G12: 0 | H12: 0 | I12: 0 | J12: 0 | K12: 0 | L12: 0 | M12: 0 | N12: 0 | O12: 0 | P12: 0 | Q12: 0 | R12: 0 | S12: 0 | T12: 0 | U12: 0 | V12: 0 | W12: 0 | X12: 0 | Y12: 0 | Z12: 0 | AA12: 0 | AB12: 0 | AC12: 0 | AD12: 0 | AE12: 0 | AF12: 0 | AG12: =SUM(C12:AF12) -> 0 | AH12: =Mei!AJ12 -> 0 | AI12: =AG12+AH12 -> 0 | AJ12: =Mei!AN12 -> 0 | AK12: =Mei!AO12 -> 0 | AL12: 0 | AM12: =AJ12+AL12 -> 0
A13: 6 | B13: Izin Trayek | C13: 0 | D13: 0 | E13: 0 | F13: 0 | G13: 0 | H13: 0 | I13: 0 | J13: 0 | K13: 0 | L13: 0 | M13: 0 | N13: 0 | O13: 0 | P13: 0 | Q13: 0 | R13: 0 | S13: 0 | T13: 0 | U13: 0 | V13: 0 | W13: 0 | X13: 0 | Y13: 0 | Z13: 0 | AA13: 0 | AB13: 0 | AC13: 0 | AD13: 0 | AE13: 0 | AF13: 0 | AG13: =SUM(C13:AF13) -> 0 | AH13: =Mei!AJ13 -> 0 | AI13: =AG13+AH13 -> 0 | AJ13: =Mei!AN13 -> 0 | AK13: =Mei!AO13 -> 0 | AL13: 0 | AM13: =AJ13+AL13 -> 0
A14: 7 | B14: Izin Insidentil | C14: 0 | D14: 0 | E14: 0 | F14: 0 | G14: 0 | H14: 0 | I14: 0 | J14: 0 | K14: 0 | L14: 0 | M14: 0 | N14: 0 | O14: 0 | P14: 0 | Q14: 0 | R14: 0 | S14: 0 | T14: 0 | U14: 0 | V14: 0 | W14: 0 | X14: 0 | Y14: 0 | Z14: 0 | AA14: 0 | AB14: 0 | AC14: 0 | AD14: 0 | AE14: 0 | AF14: 0 | AG14: =SUM(C14:AF14) -> 0 | AH14: =Mei!AJ14 -> 0 | AI14: =AG14+AH14 -> 0 | AJ14: =Mei!AN14 -> 0 | AK14: =Mei!AO14 -> 0 | AL14: 0 | AM14: =AJ14+AL14 -> 0
A15: 8 | B15: Izin Mendirikan Bangunan (IMB) | C15: 0 | D15: 1 | E15: 0 | F15: 0 | G15: 1 | H15: 0 | I15: 0 | J15: 2 | L15: 0 | M15: 0 | N15: 0 | O15: 1 | P15: 0 | Q15: 2 | R15: 1 | S15: 0 | T15: 0 | U15: 0 | V15: 2 | W15: 1 | X15: 0 | Y15: 0 | Z15: 0 | AA15: 0 | AB15: 0 | AC15: 0 | AD15: 0 | AE15: 0 | AF15: 0 | AG15: =SUM(C15:AF15) -> 11 | AH15: =Mei!AJ15 -> 98 | AI15: =AG15+AH15 -> 109 | AJ15: =Mei!AN15 -> 57 | AK15: =Mei!AO15 -> 41 | AL15: 24 | AM15: =AJ15+AL15 -> 81 | AN15: =AI15-AM15 -> 28 | AO15: dalam proses
A16: 9 | B16: Izin Usaha Industri (IUI) | C16: 0 | D16: 0 | E16: 0 | F16: 0 | G16: 0 | H16: 0 | I16: 0 | J16: 0 | K16: 0 | L16: 0 | M16: 0 | N16: 0 | O16: 0 | P16: 0 | Q16: 0 | R16: 0 | S16: 0 | T16: 0 | U16: 0 | V16: 0 | W16: 0 | X16: 0 | Y16: 0 | Z16: 0 | AA16: 0 | AB16: 0 | AC16: 0 | AD16: 0 | AE16: 0 | AF16: 0 | AG16: =SUM(C16:AF16) -> 0 | AH16: =Mei!AJ16 -> 2 | AI16: =AG16+AH16 -> 2 | AJ16: =Mei!AN16 -> 2 | AK16: =Mei!AO16 -> 0 | AL16: 0 | AM16: =AJ16+AL16 -> 2
A17: 10 | B17: Tanda Daftar Industri (TDI) | C17: 0 | D17: 0 | E17: 0 | F17: 0 | G17: 0 | H17: 0 | I17: 0 | J17: 0 | K17: 1 | L17: 0 | M17: 0 | N17: 0 | O17: 0 | P17: 1 | Q17: 0 | R17: 0 | S17: 0 | T17: 0 | U17: 0 | V17: 0 | W17: 0 | X17: 0 | Y17: 0 | Z17: 0 | AA17: 0 | AB17: 0 | AC17: 0 | AD17: 0 | AE17: 0 | AF17: 0 | AG17: =SUM(C17:AF17) -> 2 | AH17: =Mei!AJ17 -> 9 | AI17: =AG17+AH17 -> 11 | AJ17: =Mei!AN17 -> 9 | AK17: =Mei!AO17 -> 0 | AL17: 2 | AM17: =AJ17+AL17 -> 11
A18: 11 | B18: Surat Izin Usaha Perdagangan (SIUP) | C18: 0 | D18: 2 | E18: 0 | F18: 0 | G18: 6 | H18: 5 | I18: 4 | J18: 1 | K18: 1 | L18: 0 | M18: 0 | N18: 4 | O18: 0 | P18: 4 | Q18: 2 | R18: 3 | S18: 0 | T18: 0 | U18: 0 | V18: 2 | W18: 0 | X18: 2 | Y18: 0 | Z18: 0 | AA18: 0 | AB18: 0 | AC18: 0 | AD18: 0 | AE18: 0 | AF18: 0 | AG18: =SUM(C18:AF18) -> 36 | AH18: =Mei!AJ18 -> 330 | AI18: =AG18+AH18 -> 366 | AJ18: =Mei!AN18 -> 299 | AK18: =Mei!AO18 -> 31 | AL18: 60 | AM18: =AJ18+AL18 -> 359 | AN18: =AI18-AM18 -> 7 | AO18: dalam proses
A19: 12 | B19: Tanda Daftar Gudang (TDG) | C19: 0 | D19: 0 | E19: 0 | F19: 0 | G19: 0 | H19: 0 | I19: 0 | J19: 0 | K19: 0 | L19: 0 | M19: 0 | N19: 2 | O19: 0 | P19: 0 | Q19: 0 | R19: 0 | S19: 0 | T19: 0 | U19: 0 | V19: 0 | W19: 0 | X19: 0 | Y19: 0 | Z19: 0 | AA19: 0 | AB19: 0 | AC19: 0 | AD19: 0 | AE19: 0 | AF19: 0 | AG19: =SUM(C19:AF19) -> 2 | AH19: =Mei!AJ19 -> 13 | AI19: =AG19+AH19 -> 15 | AJ19: =Mei!AN19 -> 13 | AK19: =Mei!AO19 -> 0 | AL19: 2 | AM19: =AJ19+AL19 -> 15
A20: 13 | B20: Tanda Daftar Perusahaan (TDP) | C20: 0 | D20: 2 | E20: 0 | F20: 0 | G20: 7 | H20: 4 | I20: 6 | J20: 1 | K20: 0 | L20: 0 | M20: 0 | N20: 4 | O20: 0 | P20: 4 | Q20: 2 | R20: 2 | S20: 0 | T20: 0 | U20: 0 | V20: 2 | W20: 0 | X20: 2 | Y20: 0 | Z20: 0 | AA20: 0 | AB20: 0 | AC20: 0 | AD20: 0 | AE20: 0 | AF20: 0 | AG20: =SUM(C20:AF20) -> 36 | AH20: =Mei!AJ20 -> 275 | AI20: =AG20+AH20 -> 311 | AJ20: =Mei!AN20 -> 248 | AK20: =Mei!AO20 -> 27 | AL20: 43 | AM20: =AJ20+AL20 -> 291 | AN20: =AI20-AM20 -> 20 | AO20: dalam proses
A21: 14 | B21: Izin Usaha Jasa Kontruksi (IUJK) | C21: 0 | D21: 0 | E21: 0 | F21: 0 | G21: 0 | H21: 0 | I21: 0 | J21: 0 | K21: 0 | L21: 0 | M21: 0 | N21: 2 | O21: 0 | P21: 0 | Q21: 0 | R21: 0 | S21: 0 | T21: 0 | U21: 0 | V21: 0 | W21: 0 | X21: 0 | Y21: 0 | Z21: 0 | AA21: 0 | AB21: 0 | AC21: 0 | AD21: 0 | AE21: 0 | AF21: 0 | AG21: =SUM(C21:AF21) -> 2 | AH21: =Mei!AJ21 -> 39 | AI21: =AG21+AH21 -> 41 | AJ21: =Mei!AN21 -> 31 | AK21: =Mei!AO21 -> 8 | AL21: 9 | AM21: =AJ21+AL21 -> 40 | AN21: =AI21-AM21 -> 1 | AO21: dalam proses (1 dikembalikan)
B22: Kartu Penanggungjawab Teknik Badan (KPTJBU) | C22: 0 | D22: 0 | E22: 0 | F22: 0 | G22: 0 | H22: 0 | I22: 0 | J22: 0 | K22: 0 | L22: 0 | M22: 0 | N22: 0 | O22: 0 | P22: 0 | Q22: 0 | R22: 0 | S22: 0 | T22: 0 | U22: 0 | V22: 0 | W22: 0 | X22: 0 | Y22: 0 | Z22: 0 | AA22: 0 | AB22: 0 | AC22: 0 | AD22: 0 | AE22: 0 | AF22: 0 | AG22: =SUM(C22:AF22) -> 0 | AH22: =Mei!AJ22 -> 31 | AI22: =AG22+AH22 -> 31 | AJ22: =Mei!AN22 -> 31 | AK22: =Mei!AO22 -> 0 | AL22: 0 | AM22: =AJ22+AL22 -> 31
A23: 15 | B23: Tanda Daftar Usaha Pariwisata | C23: 0 | D23: 0 | E23: 0 | F23: 0 | G23: 0 | H23: 0 | I23: 0 | J23: 0 | K23: 0 | L23: 0 | M23: 0 | N23: 0 | O23: 1 | P23: 0 | Q23: 0 | R23: 0 | S23: 0 | T23: 0 | U23: 0 | V23: 0 | W23: 0 | X23: 0 | Y23: 0 | Z23: 0 | AA23: 0 | AB23: 0 | AC23: 0 | AD23: 0 | AE23: 0 | AF23: 0 | AG23: =SUM(C23:AF23) -> 1 | AH23: =Mei!AJ23 -> 9 | AI23: =AG23+AH23 -> 10 | AJ23: =Mei!AN23 -> 8 | AK23: =Mei!AO23 -> 1 | AL23: 2 | AM23: =AJ23+AL23 -> 10
A24: 16 | B24: Izin Penggunaan Gedung Juang | C24: 0 | D24: 0 | E24: 0 | F24: 0 | G24: 0 | H24: 0 | I24: 0 | J24: 0 | K24: 0 | L24: 0 | M24: 0 | N24: 0 | O24: 0 | P24: 0 | Q24: 0 | R24: 0 | S24: 0 | T24: 0 | U24: 1 | V24: 0 | W24: 0 | X24: 0 | Y24: 0 | Z24: 0 | AA24: 0 | AB24: 0 | AC24: 0 | AD24: 0 | AE24: 0 | AF24: 0 | AG24: =SUM(C24:AF24) -> 1 | AH24: =Mei!AJ24 -> 24 | AI24: =AG24+AH24 -> 25 | AJ24: =Mei!AN24 -> 21 | AK24: =Mei!AO24 -> 3 | AL24: 4 | AM24: =AJ24+AL24 -> 25
A25: 17 | B25: Izin Penggunaan Alun-alun Kebumen | C25: 0 | D25: 0 | E25: 0 | F25: 0 | G25: 0 | H25: 0 | I25: 0 | J25: 0 | K25: 0 | L25: 0 | M25: 0 | N25: 0 | O25: 0 | P25: 0 | Q25: 0 | R25: 0 | S25: 0 | T25: 0 | U25: 0 | V25: 1 | W25: 0 | X25: 0 | Y25: 0 | Z25: 0 | AA25: 0 | AB25: 0 | AC25: 0 | AD25: 0 | AE25: 0 | AF25: 0 | AG25: =SUM(C25:AF25) -> 1 | AH25: =Mei!AJ25 -> 20 | AI25: =AG25+AH25 -> 21 | AJ25: =Mei!AN25 -> 12 | AK25: =Mei!AO25 -> 8 | AL25: 9 | AM25: =AJ25+AL25 -> 21
A26: 18 | B26: Izin Pemasangan Reklame | C26: 0 | D26: 0 | E26: 0 | F26: 0 | G26: 4 | H26: 4 | I26: 2 | J26: 0 | K26: 0 | L26: 0 | M26: 0 | N26: 3 | O26: 3 | P26: 1 | Q26: 2 | R26: 0 | S26: 0 | T26: 0 | U26: 2 | V26: 2 | W26: 1 | X26: 0 | Y26: 0 | Z26: 0 | AA26: 0 | AB26: 0 | AC26: 0 | AD26: 0 | AE26: 0 | AF26: 0 | AG26: =SUM(C26:AF26) -> 24 | AH26: =Mei!AJ26 -> 175 | AI26: =AG26+AH26 -> 199 | AJ26: =Mei!AN26 -> 175 | AK26: =Mei!AO26 -> 0 | AL26: 24 | AM26: =AJ26+AL26 -> 199
A27: 19 | B27: Izin Pengelolaan Sarang Burung Lawet | C27: 0 | D27: 0 | E27: 0 | F27: 0 | G27: 0 | H27: 0 | I27: 0 | J27: 0 | K27: 0 | L27: 0 | M27: 0 | N27: 0 | O27: 0 | P27: 0 | Q27: 0 | R27: 0 | S27: 0 | T27: 0 | U27: 0 | V27: 0 | W27: 0 | X27: 0 | Y27: 0 | Z27: 0 | AA27: 0 | AB27: 0 | AC27: 0 | AD27: 0 | AE27: 0 | AF27: 0 | AG27: =SUM(C27:AF27) -> 0 | AH27: =Mei!AJ27 -> 0 | AI27: =AG27+AH27 -> 0 | AJ27: =Mei!AN27 -> 0 | AK27: =Mei!AO27 -> 0 | AL27: 0 | AM27: =AJ27+AL27 -> 0
A28: 20 | B28: Izin Mendirikan Rumah Sakit Umum | C28: 0 | D28: 0 | E28: 0 | F28: 0 | G28: 0 | H28: 0 | I28: 0 | J28: 0 | K28: 0 | L28: 0 | M28: 0 | N28: 0 | O28: 0 | P28: 0 | Q28: 0 | R28: 0 | S28: 0 | T28: 0 | U28: 0 | V28: 0 | W28: 0 | X28: 0 | Y28: 0 | Z28: 0 | AA28: 0 | AB28: 0 | AC28: 0 | AD28: 0 | AE28: 0 | AF28: 0 | AG28: =SUM(C28:AF28) -> 0 | AH28: =Mei!AJ28 -> 0 | AI28: =AG28+AH28 -> 0 | AJ28: =Mei!AN28 -> 0 | AK28: =Mei!AO28 -> 0 | AL28: 0 | AM28: =AJ28+AL28 -> 0
A29: 21 | B29: Izin Mendirikan Rumah Sakit Khusus | C29: 0 | D29: 0 | E29: 0 | F29: 0 | G29: 0 | H29: 0 | I29: 0 | J29: 0 | K29: 0 | L29: 0 | M29: 0 | N29: 0 | O29: 0 | P29: 0 | Q29: 0 | R29: 0 | S29: 0 | T29: 0 | U29: 0 | V29: 0 | W29: 0 | X29: 0 | Y29: 0 | Z29: 0 | AA29: 0 | AB29: 0 | AC29: 0 | AD29: 0 | AE29: 0 | AF29: 0 | AG29: =SUM(C29:AF29) -> 0 | AH29: =Mei!AJ29 -> 0 | AI29: =AG29+AH29 -> 0 | AJ29: =Mei!AN29 -> 0 | AK29: =Mei!AO29 -> 0 | AL29: 0 | AM29: =AJ29+AL29 -> 0
A30: 22 | B30: Izin Klinik Pratama | C30: 0 | D30: 0 | E30: 0 | F30: 0 | G30: 0 | H30: 0 | I30: 0 | J30: 0 | K30: 0 | L30: 0 | M30: 0 | N30: 0 | O30: 0 | P30: 0 | Q30: 0 | R30: 0 | S30: 0 | T30: 0 | U30: 0 | V30: 0 | W30: 0 | X30: 0 | Y30: 0 | Z30: 0 | AA30: 0 | AB30: 0 | AC30: 0 | AD30: 0 | AE30: 0 | AF30: 0 | AG30: =SUM(C30:AF30) -> 0 | AH30: =Mei!AJ30 -> 1 | AI30: =AG30+AH30 -> 1 | AJ30: =Mei!AN30 -> 0 | AK30: =Mei!AO30 -> 1 | AL30: 1 | AM30: =AJ30+AL30 -> 1
A31: 23 | B31: Izin Klinik Utama | C31: 0 | D31: 0 | E31: 0 | F31: 0 | G31: 0 | H31: 0 | I31: 0 | J31: 0 | K31: 0 | L31: 0 | M31: 0 | N31: 0 | O31: 0 | P31: 0 | Q31: 0 | R31: 0 | S31: 0 | T31: 0 | U31: 0 | V31: 0 | W31: 0 | X31: 0 | Y31: 0 | Z31: 0 | AA31: 0 | AB31: 0 | AC31: 0 | AD31: 0 | AE31: 0 | AF31: 0 | AG31: =SUM(C31:AF31) -> 0 | AH31: =Mei!AJ31 -> 0 | AI31: =AG31+AH31 -> 0 | AJ31: =Mei!AN31 -> 0 | AK31: =Mei!AO31 -> 0 | AL31: 0 | AM31: =AJ31+AL31 -> 0
A32: 24 | B32: Izin Laboratorium Klinik Pratama | C32: 0 | D32: 0 | E32: 0 | F32: 0 | G32: 0 | H32: 0 | I32: 0 | J32: 0 | K32: 0 | L32: 0 | M32: 0 | N32: 0 | O32: 0 | P32: 0 | Q32: 0 | R32: 0 | S32: 0 | T32: 0 | U32: 0 | V32: 0 | W32: 0 | X32: 0 | Y32: 0 | Z32: 0 | AA32: 0 | AB32: 0 | AC32: 0 | AD32: 0 | AE32: 0 | AF32: 0 | AG32: =SUM(C32:AF32) -> 0 | AH32: =Mei!AJ32 -> 0 | AI32: =AG32+AH32 -> 0 | AJ32: =Mei!AN32 -> 0 | AK32: =Mei!AO32 -> 0 | AL32: 0 | AM32: =AJ32+AL32 -> 0
A33: 25 | B33: Izin Laboratorium Klinik Utama | C33: 0 | D33: 0 | E33: 0 | F33: 0 | G33: 0 | H33: 0 | I33: 0 | J33: 0 | K33: 0 | L33: 0 | M33: 0 | N33: 0 | O33: 0 | P33: 0 | Q33: 0 | R33: 0 | S33: 0 | T33: 0 | U33: 0 | V33: 0 | W33: 0 | X33: 0 | Y33: 0 | Z33: 0 | AA33: 0 | AB33: 0 | AC33: 0 | AD33: 0 | AE33: 0 | AF33: 0 | AG33: =SUM(C33:AF33) -> 0 | AH33: =Mei!AJ33 -> 0 | AI33: =AG33+AH33 -> 0 | AJ33: =Mei!AN33 -> 0 | AK33: =Mei!AO33 -> 0 | AL33: 0 | AM33: =AJ33+AL33 -> 0
A34: 26 | B34: Izin Apotik | C34: 0 | D34: 0 | E34: 0 | F34: 0 | G34: 0 | H34: 0 | I34: 0 | J34: 0 | K34: 0 | L34: 0 | M34: 0 | N34: 0 | O34: 0 | P34: 0 | Q34: 1 | R34: 0 | S34: 0 | T34: 0 | U34: 1 | V34: 2 | W34: 0 | X34: 0 | Y34: 0 | Z34: 0 | AA34: 0 | AB34: 0 | AC34: 0 | AD34: 0 | AE34: 0 | AF34: 0 | AG34: =SUM(C34:AF34) -> 4 | AH34: =Mei!AJ34 -> 6 | AI34: =AG34+AH34 -> 10 | AJ34: =Mei!AN34 -> 6 | AK34: =Mei!AO34 -> 0 | AL34: 2 | AM34: =AJ34+AL34 -> 8 | AN34: =AI34-AM34 -> 2 | AO34: dalam proses
A35: 27 | B35: Izin Toko Obat | C35: 0 | D35: 0 | E35: 0 | F35: 0 | G35: 0 | H35: 0 | I35: 0 | J35: 0 | K35: 0 | L35: 0 | M35: 0 | N35: 0 | O35: 0 | P35: 0 | Q35: 0 | R35: 0 | S35: 0 | T35: 0 | U35: 0 | V35: 0 | W35: 0 | X35: 0 | Y35: 0 | Z35: 0 | AA35: 0 | AB35: 0 | AC35: 0 | AD35: 0 | AE35: 0 | AF35: 0 | AG35: =SUM(C35:AF35) -> 0 | AH35: =Mei!AJ35 -> 3 | AI35: =AG35+AH35 -> 3 | AJ35: =Mei!AN35 -> 2 | AK35: =Mei!AO35 -> 1 | AL35: 1 | AM35: =AJ35+AL35 -> 3
A36: 28 | B36: Izin Optik | C36: 0 | D36: 0 | E36: 0 | F36: 0 | G36: 0 | H36: 0 | I36: 0 | J36: 0 | K36: 0 | L36: 0 | M36: 0 | N36: 0 | O36: 0 | P36: 0 | Q36: 0 | R36: 0 | S36: 0 | T36: 0 | U36: 0 | V36: 0 | W36: 0 | X36: 0 | Y36: 0 | Z36: 0 | AA36: 0 | AB36: 0 | AC36: 0 | AD36: 0 | AE36: 0 | AF36: 0 | AG36: =SUM(C36:AF36) -> 0 | AH36: =Mei!AJ36 -> 0 | AI36: =AG36+AH36 -> 0 | AJ36: =Mei!AN36 -> 0 | AK36: =Mei!AO36 -> 0 | AL36: 0 | AM36: =AJ36+AL36 -> 0
A37: 29 | B37: Izin Industri Rumah Tangga Makanan Minuman (PIRT) | C37: 0 | D37: 1 | E37: 0 | F37: 0 | H37: 1 | I37: 4 | J37: 1 | K37: 0 | L37: 0 | M37: 0 | N37: 0 | O37: 0 | P37: 0 | Q37: 0 | R37: 0 | S37: 0 | T37: 0 | U37: 0 | V37: 2 | W37: 2 | X37: 0 | Y37: 0 | Z37: 0 | AA37: 0 | AB37: 0 | AC37: 0 | AD37: 0 | AE37: 0 | AF37: 0 | AG37: =SUM(C37:AF37) -> 11 | AH37: =Mei!AJ37 -> 139 | AI37: =AG37+AH37 -> 150 | AJ37: =Mei!AN37 -> 104 | AK37: =Mei!AO37 -> 35 | AL37: 32 | AM37: =AJ37+AL37 -> 136 | AN37: =AI37-AM37 -> 14 | AO37: dalam proses
A38: 30 | B38: Tanda Daftar Depot Air Minum | C38: 0 | D38: 0 | E38: 0 | F38: 0 | G38: 0 | H38: 0 | I38: 0 | J38: 0 | K38: 0 | L38: 0 | M38: 0 | N38: 0 | O38: 0 | P38: 0 | Q38: 0 | R38: 0 | S38: 0 | T38: 0 | U38: 0 | V38: 0 | W38: 0 | X38: 0 | Y38: 0 | Z38: 0 | AA38: 0 | AB38: 0 | AC38: 0 | AD38: 0 | AE38: 0 | AF38: 0 | AG38: =SUM(C38:AF38) -> 0 | AH38: =Mei!AJ38 -> 8 | AI38: =AG38+AH38 -> 8 | AJ38: =Mei!AN38 -> 8 | AK38: =Mei!AO38 -> 0 | AL38: 0 | AM38: =AJ38+AL38 -> 8
A39: 31 | B39: Tanda Daftar Pengobatan Tradisional | C39: 0 | D39: 0 | E39: 0 | F39: 0 | G39: 0 | H39: 0 | I39: 0 | J39: 0 | K39: 0 | L39: 0 | M39: 0 | N39: 0 | O39: 0 | P39: 0 | Q39: 0 | R39: 0 | S39: 0 | T39: 0 | U39: 0 | V39: 0 | W39: 0 | X39: 0 | Y39: 0 | Z39: 0 | AA39: 0 | AB39: 0 | AC39: 0 | AD39: 0 | AE39: 0 | AF39: 0 | AG39: =SUM(C39:AF39) -> 0 | AH39: =Mei!AJ39 -> 1 | AI39: =AG39+AH39 -> 1 | AJ39: =Mei!AN39 -> 1 | AK39: =Mei!AO39 -> 0 | AL39: 0 | AM39: =AJ39+AL39 -> 1
A40: 32 | B40: Izin Operasional Pendirian Bursa Kerja Khusus (BKK) | C40: 0 | D40: 0 | E40: 0 | F40: 0 | G40: 0 | H40: 0 | I40: 0 | J40: 0 | K40: 0 | L40: 0 | M40: 0 | N40: 0 | O40: 0 | P40: 0 | Q40: 0 | R40: 0 | S40: 0 | T40: 0 | U40: 0 | V40: 0 | W40: 0 | X40: 0 | Y40: 0 | Z40: 0 | AA40: 0 | AB40: 0 | AC40: 0 | AD40: 0 | AE40: 0 | AF40: 0 | AG40: =SUM(C40:AF40) -> 0 | AH40: =Mei!AJ40 -> 3 | AI40: =AG40+AH40 -> 3 | AJ40: =Mei!AN40 -> 0 | AK40: =Mei!AO40 -> 3 | AL40: 3 | AM40: =AJ40+AL40 -> 3
A41: 33 | B41: Izin Lembaga Pelatihan Kerja | C41: 0 | D41: 0 | E41: 0 | F41: 0 | G41: 0 | H41: 0 | I41: 0 | J41: 0 | K41: 0 | L41: 0 | M41: 0 | N41: 0 | O41: 0 | P41: 0 | Q41: 0 | R41: 0 | S41: 0 | T41: 0 | U41: 0 | V41: 0 | W41: 0 | X41: 0 | Y41: 0 | Z41: 0 | AA41: 0 | AB41: 0 | AC41: 0 | AD41: 0 | AE41: 0 | AF41: 0 | AG41: =SUM(C41:AF41) -> 0 | AH41: =Mei!AJ41 -> 5 | AI41: =AG41+AH41 -> 5 | AJ41: =Mei!AN41 -> 4 | AK41: =Mei!AO41 -> 1 | AL41: 1 | AM41: =AJ41+AL41 -> 5
A42: 34 | B42: Izin Perusahaan Penyedia Jasa Buruh ( Out Sourching) | C42: 0 | D42: 0 | E42: 0 | F42: 0 | G42: 0 | H42: 0 | I42: 0 | J42: 0 | K42: 0 | L42: 0 | M42: 0 | N42: 0 | O42: 0 | P42: 0 | Q42: 0 | R42: 0 | S42: 0 | T42: 0 | U42: 0 | V42: 0 | W42: 0 | X42: 0 | Y42: 0 | Z42: 0 | AA42: 0 | AB42: 0 | AC42: 0 | AD42: 0 | AE42: 0 | AF42: 0 | AG42: =SUM(C42:AF42) -> 0 | AH42: =Mei!AJ42 -> 0 | AI42: =AG42+AH42 -> 0 | AJ42: =Mei!AN42 -> 0 | AK42: =Mei!AO42 -> 0 | AL42: 0 | AM42: =AJ42+AL42 -> 0
A43: 35 | B43: Izin Pembuatan Tambak | C43: 0 | D43: 0 | E43: 0 | F43: 0 | G43: 0 | H43: 0 | I43: 0 | J43: 0 | K43: 0 | L43: 0 | M43: 0 | N43: 0 | O43: 0 | P43: 0 | Q43: 0 | R43: 0 | S43: 0 | T43: 0 | U43: 0 | V43: 0 | W43: 0 | X43: 0 | Y43: 0 | Z43: 0 | AA43: 0 | AB43: 0 | AC43: 0 | AD43: 0 | AE43: 0 | AF43: 0 | AG43: =SUM(C43:AF43) -> 0 | AH43: =Mei!AJ43 -> 0 | AI43: =AG43+AH43 -> 0 | AJ43: =Mei!AN43 -> 0 | AK43: =Mei!AO43 -> 0 | AL43: 0 | AM43: =AJ43+AL43 -> 0
A44: 36 | B44: Izin Usaha Perikanan | C44: 0 | D44: 0 | E44: 0 | F44: 0 | G44: 0 | H44: 0 | I44: 0 | J44: 0 | K44: 0 | L44: 0 | M44: 0 | N44: 0 | O44: 0 | P44: 0 | Q44: 0 | R44: 0 | S44: 0 | T44: 0 | U44: 0 | V44: 0 | W44: 0 | X44: 0 | Y44: 0 | Z44: 0 | AA44: 0 | AB44: 0 | AC44: 0 | AD44: 0 | AE44: 0 | AF44: 0 | AG44: =SUM(C44:AF44) -> 0 | AH44: =Mei!AJ44 -> 1 | AI44: =AG44+AH44 -> 1 | AJ44: =Mei!AN44 -> 1 | AK44: =Mei!AO44 -> 0 | AL44: 0 | AM44: =AJ44+AL44 -> 1
A45: 37 | B45: Izin Usaha Peternakan | C45: 0 | D45: 0 | E45: 0 | F45: 0 | G45: 0 | H45: 0 | I45: 0 | J45: 0 | K45: 0 | L45: 0 | M45: 0 | N45: 0 | O45: 0 | P45: 0 | Q45: 0 | R45: 0 | S45: 0 | T45: 0 | U45: 0 | V45: 0 | W45: 0 | X45: 0 | Y45: 0 | Z45: 0 | AA45: 0 | AB45: 0 | AC45: 0 | AD45: 0 | AE45: 0 | AF45: 0 | AG45: =SUM(C45:AF45) -> 0 | AH45: =Mei!AJ45 -> 0 | AI45: =AG45+AH45 -> 0 | AJ45: =Mei!AN45 -> 0 | AK45: =Mei!AO45 -> 0 | AL45: 0 | AM45: =AJ45+AL45 -> 0
A46: 38 | B46: Izin Pemakaian Tanah Pengairan | C46: 0 | D46: 0 | E46: 0 | F46: 0 | G46: 0 | H46: 0 | I46: 0 | J46: 0 | K46: 0 | L46: 0 | M46: 0 | N46: 0 | O46: 0 | P46: 0 | Q46: 0 | R46: 0 | S46: 0 | T46: 0 | U46: 0 | V46: 0 | W46: 0 | X46: 0 | Y46: 0 | Z46: 0 | AA46: 0 | AB46: 0 | AC46: 0 | AD46: 0 | AE46: 0 | AF46: 0 | AG46: =SUM(C46:AF46) -> 0 | AH46: =Mei!AJ46 -> 0 | AI46: =AG46+AH46 -> 0 | AJ46: =Mei!AN46 -> 0 | AK46: =Mei!AO46 -> 0 | AL46: 0 | AM46: =AJ46+AL46 -> 0
A47: 39 | B47: Izin Tebang dan Pengangkutan Kayu Rakyat | C47: 0 | D47: 0 | E47: 0 | F47: 0 | G47: 0 | H47: 0 | I47: 0 | J47: 0 | K47: 0 | L47: 0 | M47: 0 | N47: 0 | O47: 0 | P47: 0 | Q47: 0 | R47: 0 | S47: 0 | T47: 0 | U47: 0 | V47: 0 | W47: 0 | X47: 0 | Y47: 0 | Z47: 0 | AA47: 0 | AB47: 0 | AC47: 0 | AD47: 0 | AE47: 0 | AF47: 0 | AG47: =SUM(C47:AF47) -> 0 | AH47: =Mei!AJ47 -> 0 | AI47: =AG47+AH47 -> 0 | AJ47: =Mei!AN47 -> 0 | AK47: =Mei!AO47 -> 0 | AL47: 0 | AM47: =AJ47+AL47 -> 0
A48: 40 | B48: Izin Penggunaaan Tanah/Bangunan Milik Pemerintah Kabupaten | C48: 0 | D48: 0 | E48: 0 | F48: 0 | G48: 0 | H48: 0 | I48: 0 | J48: 0 | K48: 0 | L48: 0 | M48: 0 | N48: 0 | O48: 0 | P48: 0 | Q48: 0 | R48: 0 | S48: 0 | T48: 0 | U48: 0 | V48: 0 | W48: 0 | X48: 0 | Y48: 0 | Z48: 0 | AA48: 0 | AB48: 0 | AC48: 0 | AD48: 0 | AE48: 0 | AF48: 0 | AG48: =SUM(C48:AF48) -> 0 | AH48: =Mei!AJ48 -> 1 | AI48: =AG48+AH48 -> 1 | AJ48: =Mei!AN48 -> 0 | AK48: =Mei!AO48 -> 1 | AL48: 0 | AM48: =AJ48+AL48 -> 0 | AN48: =AI48-AM48 -> 1 | AO48: dalam proses
A49: 41 | B49: Izin Penempatan Kios /Los | C49: 0 | D49: 0 | E49: 0 | F49: 0 | G49: 0 | H49: 0 | I49: 0 | J49: 0 | K49: 0 | L49: 0 | M49: 0 | N49: 0 | O49: 0 | P49: 0 | Q49: 0 | R49: 0 | S49: 0 | T49: 0 | U49: 0 | V49: 0 | W49: 0 | X49: 0 | Y49: 0 | Z49: 0 | AA49: 0 | AB49: 0 | AC49: 0 | AD49: 0 | AE49: 0 | AF49: 0 | AG49: =SUM(C49:AF49) -> 0 | AH49: =Mei!AJ49 -> 154 | AI49: =AG49+AH49 -> 154 | AJ49: =Mei!AN49 -> 85 | AK49: =Mei!AO49 -> 69 | AL49: 0 | AM49: =AJ49+AL49 -> 85 | AN49: =AI49-AM49 -> 69 | AO49: dalam proses
A50: 42 | B50: Limbah B3 | C50: 0 | D50: 0 | E50: 0 | F50: 0 | G50: 0 | H50: 0 | I50: 0 | J50: 0 | K50: 0 | L50: 0 | M50: 0 | N50: 0 | O50: 0 | P50: 0 | Q50: 0 | R50: 0 | S50: 0 | T50: 0 | U50: 0 | V50: 1 | W50: 1 | X50: 0 | Y50: 0 | Z50: 0 | AA50: 0 | AB50: 0 | AC50: 0 | AD50: 0 | AE50: 0 | AF50: 0 | AG50: =SUM(C50:AF50) -> 2 | AH50: =Mei!AJ50 -> 8 | AI50: =AG50+AH50 -> 10 | AJ50: =Mei!AN50 -> 1 | AK50: =Mei!AO50 -> 7 | AL50: 0 | AM50: =AJ50+AL50 -> 1 | AN50: =AI50-AM50 -> 9 | AO50: dalam proses
A51: 43 | B51: Izin Pengelolaan Air Limbah (IPAL) | C51: 0 | D51: 0 | E51: 0 | F51: 0 | G51: 1 | H51: 0 | I51: 0 | J51: 0 | K51: 0 | L51: 0 | M51: 0 | N51: 0 | O51: 0 | P51: 0 | Q51: 0 | R51: 0 | S51: 0 | T51: 0 | U51: 0 | V51: 0 | W51: 1 | X51: 0 | Y51: 0 | Z51: 0 | AA51: 0 | AB51: 0 | AC51: 0 | AD51: 0 | AE51: 0 | AF51: 0 | AG51: =SUM(C51:AF51) -> 2 | AH51: =Mei!AJ51 -> 1 | AI51: =AG51+AH51 -> 3 | AJ51: =Mei!AN51 -> 0 | AK51: =Mei!AO51 -> 1 | AL51: 0 | AM51: =AJ51+AL51 -> 0 | AN51: =AI51-AM51 -> 3 | AO51: dalam proses
A52: 44 | B52: Izin Operasional Rumah Sakit / Klinik / Puskesmas | C52: 0 | D52: 0 | E52: 0 | F52: 0 | G52: 0 | H52: 0 | I52: 0 | J52: 0 | K52: 0 | L52: 0 | M52: 0 | N52: 0 | O52: 0 | P52: 0 | Q52: 0 | R52: 0 | S52: 0 | T52: 0 | U52: 0 | V52: 0 | W52: 0 | X52: 0 | Y52: 0 | Z52: 0 | AA52: 0 | AB52: 0 | AC52: 0 | AD52: 0 | AE52: 0 | AF52: 0 | AG52: =SUM(C52:AF52) -> 0 | AH52: =Mei!AJ52 -> 14 | AI52: =AG52+AH52 -> 14 | AJ52: =Mei!AN52 -> 3 | AK52: =Mei!AO52 -> 11 | AL52: 4 | AM52: =AJ52+AL52 -> 7 | AN52: =AI52-AM52 -> 7 | AO52: dalam proses
A53: 45 | B53: Izin Lingkungan | C53: 0 | D53: 1 | E53: 0 | F53: 0 | G53: 1 | H53: 0 | I53: 0 | J53: 0 | K53: 0 | L53: 0 | M53: 0 | N53: 0 | O53: 0 | P53: 3 | Q53: 1 | R53: 0 | S53: 0 | T53: 0 | U53: 0 | V53: 1 | W53: 0 | X53: 0 | Y53: 0 | Z53: 0 | AA53: 0 | AB53: 0 | AC53: 0 | AD53: 0 | AE53: 0 | AF53: 0 | AG53: =SUM(C53:AF53) -> 7 | AH53: =Mei!AJ53 -> 24 | AI53: =AG53+AH53 -> 31 | AJ53: =Mei!AN53 -> 10 | AK53: =Mei!AO53 -> 14 | AL53: 7 | AM53: =AJ53+AL53 -> 17 | AN53: =AI53-AM53 -> 14 | AO53: dalam proses
A54: 46 | B54: Izin Tukang Gigi | C54: 0 | D54: 0 | E54: 0 | F54: 0 | G54: 0 | H54: 1 | I54: 1 | J54: 0 | K54: 0 | L54: 0 | M54: 0 | N54: 1 | O54: 0 | P54: 0 | Q54: 0 | R54: 0 | S54: 0 | T54: 0 | U54: 0 | V54: 0 | W54: 0 | X54: 0 | Y54: 0 | Z54: 0 | AA54: 0 | AB54: 0 | AC54: 0 | AD54: 0 | AE54: 0 | AF54: 0 | AG54: =SUM(C54:AF54) -> 3 | AH54: =Mei!AJ54 -> 46 | AI54: =AG54+AH54 -> 49 | AJ54: =Mei!AN54 -> 43 | AK54: =Mei!AO54 -> 3 | AL54: 0 | AM54: =AJ54+AL54 -> 43 | AN54: =AI54-AM54 -> 6 | AO54: dalam proses
A55: Jumlah | C55: =SUM(C7:C54) -> 0 | D55: =SUM(D7:D54) -> 7 | E55: =SUM(E7:E54) -> 0 | F55: =SUM(F7:F54) -> 0 | G55: =SUM(G7:G54) -> 24 | H55: =SUM(H7:H54) -> 15 | I55: =SUM(I7:I54) -> 17 | J55: =SUM(J7:J54) -> 6 | ... AJ55: =SUM(AJ7:AJ54) -> 1306 | AK55: =Mei!AO55 -> 317 | AL55: =SUM(AL7:AL54) -> 235 | AM55: =SUM(AM7:AM54) -> 1541 | AN55: =AI55-AM55 -> 239 | AO55: dalam proses
AB57: Kebumen, Juli 2017
AB58: KEPALA DINAS PENANAMAN MODAL
AB59: DAN PELAYANAN TERPADU SATU PINTU
AB60: KABUPATEN KEBUMEN
AB65: Drs. H. Hery Setyanto
AB66: Pembina Utama Muda
AB67: NIP. 19601023 199001 1 001

Sheet Juli
A1: LAPORAN BERKAS IZIN MASUK DAN TERPROSES DINAS PENANAMAN MODAL DAN PELAYANAN TERPADU SATU PINTU
A2: KABUPATEN KEBUMEN
A3: Bulan Juli 2017
A5: NO | B5: JENIS IZIN | C5: TANGGAL | AH5: PEMOHON BLN INI | AI5: PEMOHON BULAN LALU | AJ5: TOTAL PERMOHONAN | AK5: TERPROSES BULAN LALU | AL5: DALAM PROSES BULAN LALU | AM5: TERPROSES BLN INI (SK) | AN5: TOTAL TERPROSES | AO5: IZIN BELUM JADI | AP5: KETERANGAN
C6: 1 | D6: 2 | E6: 3 | F6: 4 | G6: 5 | H6: 6 | I6: 7 | J6: 8 | K6: 9 | L6: 10 | M6: 11 | N6: 12 | O6: 13 | P6: 14 | Q6: 15 | R6: 16 | S6: 17 | T6: 18 | U6: 19 | V6: 20 | W6: 21 | X6: 22 | Y6: 23 | Z6: 24 | AA6: 25 | AB6: 26 | AC6: 27 | AD6: 28 | AE6: 29 | AF6: 30 | AG6: 31
A7: 1 | B7: Izin Prinsip | C7: 0 | D7: 0 | E7: 1 | F7: 0 | G7: 0 | H7: 0 | I7: 0 | J7: 0 | K7: 0 | L7: 0 | M7: 0 | N7: 0 | O7: 1 | P7: 0 | Q7: 0 | R7: 0 | S7: 0 | T7: 0 | U7: 0 | V7: 0 | W7: 2 | X7: 0 | Y7: 0 | Z7: 0 | AA7: 0 | AB7: 0 | AC7: 1 | AD7: 0 | AE7: 0 | AF7: 0 | AG7: 1 | AH7: =SUM(C7:AG7) -> 6 | AI7: =Juni!AI7 -> 54 | AJ7: =AH7+AI7 -> 60 | AK7: =Juni!AM7 -> 37 | AL7: =Juni!AN7 -> 17 | AM7: 3 | AN7: =AK7+AM7 -> 40 | AO7: =AJ7-AN7 -> 20 | AP7: dalam proses
A8: 2 | B8: Izin Lokasi/Izin perencanaan letak penggunaan tanah/ penetapan lokasi | C8: 0 | D8: 0 | E8: 0 | F8: 0 | G8: 0 | H8: 0 | I8: 0 | J8: 0 | K8: 0 | L8: 0 | M8: 0 | N8: 0 | O8: 1 | P8: 0 | Q8: 0 | R8: 0 | S8: 1 | T8: 1 | U8: 0 | V8: 1 | W8: 0 | X8: 0 | Y8: 0 | Z8: 0 | AA8: 0 | AB8: 0 | AC8: 0 | AD8: 0 | AE8: 0 | AF8: 0 | AG8: 0 | AH8: =SUM(C8:AG8) -> 4 | AI8: =Juni!AI8 -> 32 | AJ8: =AH8+AI8 -> 36 | AK8: =Juni!AM8 -> 19 | AL8: =Juni!AN8 -> 13 | AM8: 5 | AN8: =AK8+AM8 -> 24 | AO8: =AJ8-AN8 -> 12 | AP8: dalam proses
A9: 3 | B9: Izin Gangguan/HO | C9: 0 | D9: 0 | E9: 0 | F9: 0 | G9: 0 | H9: 0 | I9: 0 | J9: 0 | K9: 0 | L9: 0 | M9: 0 | N9: 0 | O9: 1 | P9: 0 | Q9: 0 | R9: 0 | S9: 0 | T9: 0 | U9: 0 | V9: 0 | W9: 0 | X9: 0 | Y9: 0 | Z9: 0 | AA9: 0 | AB9: 0 | AC9: 0 | AD9: 0 | AE9: 0 | AF9: 0 | AG9: 0 | AH9: =SUM(C9:AG9) -> 1 | AI9: =Juni!AI9 -> 43 | AJ9: =AH9+AI9 -> 44 | AK9: =Juni!AM9 -> 21 | AL9: =Juni!AN9 -> 22 | AM9: 6 | AN9: =AK9+AM9 -> 27 | AO9: =AJ9-AN9 -> 17 | AP9: berkas dikembalikan
B10: Izin Gangguan Ulang / HO | C10: 0 | D10: 0 | E10: 0 | F10: 0 | G10: 0 | H10: 0 | I10: 0 | J10: 0 | K10: 0 | L10: 1 | M10: 0 | N10: 0 | O10: 0 | P10: 0 | Q10: 0 | R10: 0 | S10: 0 | T10: 0 | U10: 0 | V10: 0 | W10: 0 | X10: 0 | Y10: 0 | Z10: 0 | AA10: 0 | AB10: 0 | AC10: 0 | AD10: 0 | AE10: 0 | AF10: 0 | AG10: 0 | AH10: =SUM(C10:AG10) -> 1 | AI10: =Juni!AI10 -> 66 | AJ10: =AH10+AI10 -> 67 | AK10: =Juni!AM10 -> 60 | AL10: =Juni!AN10 -> 6 | AM10: 2 | AN10: =AK10+AM10 -> 62 | AO10: =AJ10-AN10 -> 5 | AP10: berkas dikembalikan
A11: 4 | B11: Izin Penggilingan Padi Keliling | C11: 0 | D11: 0 | E11: 0 | F11: 0 | G11: 0 | H11: 0 | I11: 0 | J11: 0 | K11: 0 | L11: 0 | M11: 0 | N11: 0 | O11: 0 | P11: 0 | Q11: 0 | R11: 0 | S11: 0 | T11: 0 | U11: 0 | V11: 0 | W11: 0 | X11: 0 | Y11: 0 | Z11: 0 | AA11: 0 | AB11: 0 | AC11: 0 | AD11: 0 | AE11: 0 | AF11: 0 | AG11: 0 | AH11: =SUM(C11:AG11) -> 0 | AI11: =Juni!AI11 -> 0 | AJ11: =AH11+AI11 -> 0 | AK11: =Juni!AM11 -> 0 | AL11: =Juni!AN11 -> 0 | AM11: 0 | AN11: =AK11+AM11 -> 0
A12: 5 | B12: Izin Usaha Pengangkutan | C12: 0 | D12: 0 | E12: 0 | F12: 0 | G12: 0 | H12: 0 | I12: 0 | J12: 0 | K12: 0 | L12: 0 | M12: 0 | N12: 0 | O12: 0 | P12: 0 | Q12: 0 | R12: 0 | S12: 0 | T12: 0 | U12: 0 | V12: 0 | W12: 0 | X12: 0 | Y12: 0 | Z12: 0 | AA12: 0 | AB12: 0 | AC12: 0 | AD12: 0 | AE12: 0 | AF12: 0 | AG12: 0 | AH12: =SUM(C12:AG12) -> 0 | AI12: =Juni!AI12 -> 0 | AJ12: =AH12+AI12 -> 0 | AK12: =Juni!AM12 -> 0 | AL12: =Juni!AN12 -> 0 | AM12: 0 | AN12: =AK12+AM12 -> 0
A13: 6 | B13: Izin Trayek | C13: 0 | D13: 0 | E13: 0 | F13: 0 | G13: 0 | H13: 0 | I13: 0 | J13: 0 | K13: 0 | L13: 0 | M13: 0 | N13: 0 | O13: 0 | P13: 0 | Q13: 0 | R13: 0 | S13: 0 | T13: 0 | U13: 0 | V13: 0 | W13: 0 | X13: 0 | Y13: 0 | Z13: 0 | AA13: 0 | AB13: 0 | AC13: 0 | AD13: 0 | AE13: 0 | AF13: 0 | AG13: 0 | AH13: =SUM(C13:AG13) -> 0 | AI13: =Juni!AI13 -> 0 | AJ13: =AH13+AI13 -> 0 | AK13: =Juni!AM13 -> 0 | AL13: =Juni!AN13 -> 0 | AM13: 0 | AN13: =AK13+AM13 -> 0
A14: 7 | B14: Izin Insidentil | C14: 0 | D14: 0 | E14: 0 | F14: 0 | G14: 0 | H14: 0 | I14: 0 | J14: 0 | K14: 0 | L14: 0 | M14: 0 | N14: 0 | O14: 0 | P14: 0 | Q14: 0 | R14: 0 | S14: 0 | T14: 0 | U14: 0 | V14: 0 | W14: 0 | X14: 0 | Y14: 0 | Z14: 0 | AA14: 0 | AB14: 0 | AC14: 0 | AD14: 0 | AE14: 0 | AF14: 0 | AG14: 0 | AH14: =SUM(C14:AG14) -> 0 | AI14: =Juni!AI14 -> 0 | AJ14: =AH14+AI14 -> 0 | AK14: =Juni!AM14 -> 0 | AL14: =Juni!AN14 -> 0 | AM14: 0 | AN14: =AK14+AM14 -> 0
A15: 8 | B15: Izin Mendirikan Bangunan (IMB) | C15: 0 | D15: 0 | E15: 0 | F15: 0 | G15: 1 | H15: 1 | I15: 0 | J15: 0 | K15: 0 | L15: 0 | M15: 0 | N15: 0 | O15: 0 | P15: 0 | Q15: 0 | R15: 0 | S15: 1 | T15: 0 | U15: 1 | V15: 0 | W15: 0 | X15: 0 | Y15: 0 | Z15: 0 | AA15: 2 | AB15: 0 | AC15: 0 | AD15: 0 | AE15: 0 | AF15: 0 | AG15: 0 | AH15: =SUM(C15:AG15) -> 6 | AI15: =Juni!AI15 -> 109 | AJ15: =AH15+AI15 -> 115 | AK15: =Juni!AM15 -> 81 | AL15: =Juni!AN15 -> 28 | AM15: 10 | AN15: =AK15+AM15 -> 91 | AO15: =AJ15-AN15 -> 24 | AP15: dalam proses
A16: 9 | B16: Izin Usaha Industri (IUI) | C16: 0 | D16: 0 | E16: 0 | F16: 0 | G16: 0 | H16: 0 | I16: 0 | J16: 0 | K16: 0 | L16: 0 | M16: 0 | N16: 0 | O16: 0 | P16: 0 | Q16: 0 | R16: 0 | S16: 0 | T16: 0 | U16: 0 | V16: 0 | W16: 0 | X16: 0 | Y16: 0 | Z16: 0 | AA16: 0 | AB16: 0 | AC16: 0 | AD16: 0 | AE16: 0 | AF16: 0 | AG16: 0 | AH16: =SUM(C16:AG16) -> 0 | AI16: =Juni!AI16 -> 2 | AJ16: =AH16+AI16 -> 2 | AK16: =Juni!AM16 -> 2 | AL16: =Juni!AN16 -> 0 | AM16: 0 | AN16: =AK16+AM16 -> 2
A17: 10 | B17: Tanda Daftar Industri (TDI) | C17: 0 | D17: 0 | E17: 0 | F17: 0 | G17: 0 | H17: 0 | I17: 0 | J17: 0 | K17: 0 | L17: 0 | M17: 0 | N17: 0 | O17: 0 | P17: 0 | Q17: 0 | R17: 0 | S17: 0 | T17: 0 | U17: 0 | V17: 0 | W17: 0 | X17: 0 | Y17: 0 | Z17: 0 | AA17: 0 | AB17: 0 | AC17: 0 | AD17: 0 | AE17: 0 | AF17: 0 | AG17: 0 | AH17: =SUM(C17:AG17) -> 0 | AI17: =Juni!AI17 -> 11 | AJ17: =AH17+AI17 -> 11 | AK17: =Juni!AM17 -> 11 | AL17: =Juni!AN17 -> 0 | AM17: 0 | AN17: =AK17+AM17 -> 11
A18: 11 | B18: Surat Izin Usaha Perdagangan (SIUP) | C18: 0 | D18: 0 | E18: 1 | F18: 2 | G18: 2 | H18: 7 | I18: 1 | J18: 0 | K18: 0 | L18: 8 | M18: 2 | N18: 7 | O18: 4 | P18: 3 | Q18: 0 | R18: 0 | S18: 2 | T18: 1 | U18: 4 | V18: 4 | W18: 1 | X18: 0 | Y18: 0 | Z18: 2 | AA18: 4 | AB18: 5 | AC18: 4 | AD18: 1 | AE18: 0 | AF18: 0 | AG18: 2 | AH18: =SUM(C18:AG18) -> 67 | AI18: =Juni!AI18 -> 366 | AJ18: =AH18+AI18 -> 433 | AK18: =Juni!AM18 -> 359 | AL18: =Juni!AN18 -> 7 | AM18: 74 | AN18: =AK18+AM18 -> 433
A19: 12 | B19: Tanda Daftar Gudang (TDG) | C19: 0 | D19: 0 | E19: 0 | F19: 0 | G19: 0 | H19: 0 | I19: 0 | J19: 0 | K19: 0 | L19: 0 | M19: 0 | N19: 0 | O19: 0 | P19: 0 | Q19: 0 | R19: 0 | S19: 0 | T19: 0 | U19: 0 | V19: 0 | W19: 0 | X19: 0 | Y19: 0 | Z19: 0 | AA19: 0 | AB19: 0 | AC19: 0 | AD19: 0 | AE19: 0 | AF19: 0 | AG19: 0 | AH19: =SUM(C19:AG19) -> 0 | AI19: =Juni!AI19 -> 15 | AJ19: =AH19+AI19 -> 15 | AK19: =Juni!AM19 -> 15 | AL19: =Juni!AN19 -> 0 | AM19: 0 | AN19: =AK19+AM19 -> 15
A20: 13 | B20: Tanda Daftar Perusahaan (TDP) | C20: 0 | D20: 0 | E20: 1 | F20: 1 | G20: 2 | H20: 8 | I20: 1 | J20: 0 | K20: 0 | L20: 5 | M20: 2 | N20: 5 | O20: 4 | P20: 3 | Q20: 0 | R20: 0 | S20: 0 | T20: 1 | U20: 4 | V20: 4 | W20: 1 | X20: 0 | Y20: 0 | Z20: 2 | AA20: 4 | AB20: 5 | AC20: 4 | AD20: 1 | AE20: 0 | AF20: 0 | AG20: 2 | AH20: =SUM(C20:AG20) -> 60 | AI20: =Juni!AI20 -> 311 | AJ20: =AH20+AI20 -> 371 | AK20: =Juni!AM20 -> 291 | AL20: =Juni!AN20 -> 20 | AM20: 70 | AN20: =AK20+AM20 -> 361 | AO20: =AJ20-AN20 -> 10 | AP20: dalam proses
A21: 14 | B21: Izin Usaha Jasa Kontruksi (IUJK) | C21: 0 | D21: 0 | E21: 0 | F21: 2 | G21: 0 | H21: 0 | I21: 0 | J21: 0 | K21: 0 | L21: 2 | M21: 0 | N21: 0 | O21: 0 | P21: 0 | Q21: 0 | R21: 0 | S21: 0 | T21: 1 | U21: 0 | V21: 0 | W21: 0 | X21: 0 | Y21: 0 | Z21: 1 | AA21: 0 | AB21: 0 | AC21: 0 | AD21: 0 | AE21: 0 | AF21: 0 | AG21: 0 | AH21: =SUM(C21:AG21) -> 6 | AI21: =Juni!AI21 -> 41 | AJ21: =AH21+AI21 -> 47 | AK21: =Juni!AM21 -> 40 | AL21: =Juni!AN21 -> 1 | AM21: 6 | AN21: =AK21+AM21 -> 46 | AO21: =AJ21-AN21 -> 1 | AP21: dalam proses (1 dikembalikan)
B22: Kartu Penanggungjawab Teknik Badan (KPTJBU) | C22: 0 | D22: 0 | E22: 0 | F22: 0 | G22: 0 | H22: 0 | I22: 0 | J22: 0 | K22: 0 | L22: 2 | M22: 1 | N22: 0 | O22: 0 | P22: 0 | Q22: 0 | R22: 0 | S22: 0 | T22: 0 | U22: 0 | V22: 0 | W22: 1 | X22: 0 | Y22: 0 | Z22: 1 | AA22: 0 | AB22: 0 | AC22: 0 | AD22: 0 | AE22: 0 | AF22: 0 | AG22: 0 | AH22: =SUM(C22:AG22) -> 5 | AI22: =Juni!AI22 -> 31 | AJ22: =AH22+AI22 -> 36 | AK22: =Juni!AM22 -> 31 | AL22: =Juni!AN22 -> 0 | AM22: 5 | AN22: =AK22+AM22 -> 36
A23: 15 | B23: Tanda Daftar Usaha Pariwisata | C23: 0 | D23: 0 | E23: 0 | F23: 0 | G23: 0 | H23: 0 | I23: 0 | J23: 0 | K23: 0 | L23: 0 | M23: 0 | N23: 0 | O23: 1 | P23: 0 | Q23: 0 | R23: 0 | S23: 0 | T23: 0 | U23: 0 | V23: 0 | W23: 0 | X23: 0 | Y23: 0 | Z23: 0 | AA23: 2 | AB23: 0 | AC23: 0 | AD23: 0 | AE23: 0 | AF23: 0 | AG23: 0 | AH23: =SUM(C23:AG23) -> 3 | AI23: =Juni!AI23 -> 10 | AJ23: =AH23+AI23 -> 13 | AK23: =Juni!AM23 -> 10 | AL23: =Juni!AN23 -> 0 | AM23: 3 | AN23: =AK23+AM23 -> 13
A24: 16 | B24: Izin Penggunaan Gedung Juang | C24: 0 | D24: 0 | E24: 0 | F24: 0 | G24: 1 | H24: 0 | I24: 0 | J24: 0 | K24: 0 | L24: 0 | M24: 0 | N24: 0 | O24: 0 | P24: 0 | Q24: 0 | R24: 0 | S24: 0 | T24: 0 | U24: 0 | V24: 0 | W24: 0 | X24: 0 | Y24: 0 | Z24: 0 | AA24: 0 | AB24: 0 | AC24: 0 | AD24: 0 | AE24: 0 | AF24: 0 | AG24: 0 | AH24: =SUM(C24:AG24) -> 1 | AI24: =Juni!AI24 -> 25 | AJ24: =AH24+AI24 -> 26 | AK24: =Juni!AM24 -> 25 | AL24: =Juni!AN24 -> 0 | AM24: 1 | AN24: =AK24+AM24 -> 26
A25: 17 | B25: Izin Penggunaan Alun-alun Kebumen | C25: 0 | D25: 0 | E25: 0 | F25: 0 | G25: 0 | H25: 0 | I25: 0 | J25: 0 | K25: 0 | L25: 0 | M25: 1 | N25: 0 | O25: 0 | P25: 0 | Q25: 0 | R25: 0 | S25: 2 | T25: 0 | U25: 0 | V25: 0 | W25: 0 | X25: 0 | Y25: 0 | Z25: 0 | AA25: 0 | AB25: 1 | AC25: 0 | AD25: 0 | AE25: 0 | AF25: 0 | AG25: 0 | AH25: =SUM(C25:AG25) -> 4 | AI25: =Juni!AI25 -> 21 | AJ25: =AH25+AI25 -> 25 | AK25: =Juni!AM25 -> 21 | AL25: =Juni!AN25 -> 0 | AM25: 4 | AN25: =AK25+AM25 -> 25
A26: 18 | B26: Izin Pemasangan Reklame | C26: 0 | D26: 0 | E26: 1 | F26: 0 | G26: 0 | H26: 0 | I26: 0 | J26: 0 | K26: 0 | L26: 4 | M26: 0 | N26: 1 | O26: 0 | P26: 0 | Q26: 0 | R26: 0 | S26: 1 | T26: 4 | U26: 0 | V26: 0 | W26: 2 | X26: 0 | Y26: 0 | Z26: 0 | AA26: 0 | AB26: 0 | AC26: 0 | AD26: 0 | AE26: 0 | AF26: 0 | AG26: 1 | AH26: =SUM(C26:AG26) -> 14 | AI26: =Juni!AI26 -> 199 | AJ26: =AH26+AI26 -> 213 | AK26: =Juni!AM26 -> 199 | AL26: =Juni!AN26 -> 0 | AM26: 14 | AN26: =AK26+AM26 -> 213
A27: 19 | B27: Izin Pengelolaan Sarang Burung Lawet | C27: 0 | D27: 0 | E27: 0 | F27: 0 | G27: 0 | H27: 0 | I27: 0 | J27: 0 | K27: 0 | L27: 0 | M27: 0 | N27: 0 | O27: 0 | P27: 0 | Q27: 0 | R27: 0 | S27: 0 | T27: 0 | U27: 0 | V27: 0 | W27: 0 | X27: 0 | Y27: 0 | Z27: 0 | AA27: 0 | AB27: 0 | AC27: 0 | AD27: 0 | AE27: 0 | AF27: 0 | AG27: 0 | AH27: =SUM(C27:AG27) -> 0 | AI27: =Juni!AI27 -> 0 | AJ27: =AH27+AI27 -> 0 | AK27: =Juni!AM27 -> 0 | AL27: =Juni!AN27 -> 0 | AM27: 0 | AN27: =AK27+AM27 -> 0
A28: 20 | B28: Izin Mendirikan Rumah Sakit Umum | C28: 0 | D28: 0 | E28: 0 | F28: 0 | G28: 0 | H28: 0 | I28: 0 | J28: 0 | K28: 0 | L28: 0 | M28: 0 | N28: 0 | O28: 0 | P28: 0 | Q28: 0 | R28: 0 | S28: 0 | T28: 0 | U28: 0 | V28: 0 | W28: 0 | X28: 0 | Y28: 0 | Z28: 0 | AA28: 0 | AB28: 0 | AC28: 0 | AD28: 0 | AE28: 0 | AF28: 0 | AG28: 0 | AH28: =SUM(C28:AG28) -> 0 | AI28: =Juni!AI28 -> 0 | AJ28: =AH28+AI28 -> 0 | AK28: =Juni!AM28 -> 0 | AL28: =Juni!AN28 -> 0 | AM28: 0 | AN28: =AK28+AM28 -> 0
A29: 21 | B29: Izin Mendirikan Rumah Sakit Khusus | C29: 0 | D29: 0 | E29: 0 | F29: 0 | G29: 0 | H29: 0 | I29: 0 | J29: 0 | K29: 0 | L29: 0 | M29: 0 | N29: 0 | O29: 0 | P29: 0 | Q29: 0 | R29: 0 | S29: 0 | T29: 0 | U29: 0 | V29: 0 | W29: 0 | X29: 0 | Y29: 0 | Z29: 0 | AA29: 0 | AB29: 0 | AC29: 0 | AD29: 0 | AE29: 0 | AF29: 0 | AG29: 0 | AH29: =SUM(C29:AG29) -> 0 | AI29: =Juni!AI29 -> 0 | AJ29: =AH29+AI29 -> 0 | AK29: =Juni!AM29 -> 0 | AL29: =Juni!AN29 -> 0 | AM29: 0 | AN29: =AK29+AM29 -> 0
A30: 22 | B30: Izin Klinik Pratama | C30: 0 | D30: 0 | E30: 0 | F30: 0 | G30: 0 | H30: 0 | I30: 0 | J30: 0 | K30: 0 | L30: 0 | M30: 0 | N30: 0 | O30: 0 | P30: 0 | Q30: 0 | R30: 0 | S30: 0 | T30: 0 | U30: 0 | V30: 0 | W30: 0 | X30: 0 | Y30: 0 | Z30: 0 | AA30: 0 | AB30: 0 | AC30: 0 | AD30: 0 | AE30: 0 | AF30: 0 | AG30: 0 | AH30: =SUM(C30:AG30) -> 0 | AI30: =Juni!AI30 -> 1 | AJ30: =AH30+AI30 -> 1 | AK30: =Juni!AM30 -> 1 | AL30: =Juni!AN30 -> 0 | AM30: 0 | AN30: =AK30+AM30 -> 1
A31: 23 | B31: Izin Klinik Utama | C31: 0 | D31: 0 | E31: 0 | F31: 0 | G31: 0 | H31: 0 | I31: 0 | J31: 0 | K31: 0 | L31: 0 | M31: 0 | N31: 0 | O31: 0 | P31: 0 | Q31: 0 | R31: 0 | S31: 0 | T31: 0 | U31: 0 | V31: 0 | W31: 0 | X31: 0 | Y31: 0 | Z31: 0 | AA31: 0 | AB31: 0 | AC31: 0 | AD31: 0 | AE31: 0 | AF31: 0 | AG31: 0 | AH31: =SUM(C31:AG31) -> 0 | AI31: =Juni!AI31 -> 0 | AJ31: =AH31+AI31 -> 0 | AK31: =Juni!AM31 -> 0 | AL31: =Juni!AN31 -> 0 | AM31: 0 | AN31: =AK31+AM31 -> 0
A32: 24 | B32: Izin Laboratorium Klinik Pratama | C32: 0 | D32: 0 | E32: 0 | F32: 0 | G32: 0 | H32: 0 | I32: 0 | J32: 0 | K32: 0 | L32: 0 | M32: 0 | N32: 0 | O32: 0 | P32: 0 | Q32: 0 | R32: 0 | S32: 0 | T32: 0 | U32: 0 | V32: 0 | W32: 0 | X32: 0 | Y32: 0 | Z32: 0 | AA32: 0 | AB32: 0 | AC32: 0 | AD32: 0 | AE32: 0 | AF32: 0 | AG32: 0 | AH32: =SUM(C32:AG32) -> 0 | AI32: =Juni!AI32 -> 0 | AJ32: =AH32+AI32 -> 0 | AK32: =Juni!AM32 -> 0 | AL32: =Juni!AN32 -> 0 | AM32: 0 | AN32: =AK32+AM32 -> 0
A33: 25 | B33: Izin Laboratorium Klinik Utama | C33: 0 | D33: 0 | E33: 0 | F33: 0 | G33: 0 | H33: 0 | I33: 0 | J33: 0 | K33: 0 | L33: 0 | M33: 0 | N33: 0 | O33: 0 | P33: 0 | Q33: 0 | R33: 0 | S33: 0 | T33: 0 | U33: 0 | V33: 0 | W33: 0 | X33: 0 | Y33: 0 | Z33: 0 | AA33: 0 | AB33: 0 | AC33: 0 | AD33: 0 | AE33: 0 | AF33: 0 | AG33: 0 | AH33: =SUM(C33:AG33) -> 0 | AI33: =Juni!AI33 -> 0 | AJ33: =AH33+AI33 -> 0 | AK33: =Juni!AM33 -> 0 | AL33: =Juni!AN33 -> 0 | AM33: 0 | AN33: =AK33+AM33 -> 0
A34: 26 | B34: Izin Apotik | C34: 0 | D34: 0 | E34: 0 | F34: 0 | G34: 0 | H34: 1 | I34: 0 | J34: 0 | K34: 0 | L34: 0 | M34: 0 | N34: 0 | O34: 0 | P34: 0 | Q34: 0 | R34: 0 | S34: 1 | T34: 0 | U34: 0 | V34: 0 | W34: 0 | X34: 0 | Y34: 0 | Z34: 0 | AA34: 0 | AB34: 1 | AC34: 0 | AD34: 0 | AE34: 0 | AF34: 0 | AG34: 0 | AH34: =SUM(C34:AG34) -> 3 | AI34: =Juni!AI34 -> 10 | AJ34: =AH34+AI34 -> 13 | AK34: =Juni!AM34 -> 8 | AL34: =Juni!AN34 -> 2 | AM34: 3 | AN34: =AK34+AM34 -> 11 | AO34: =AJ34-AN34 -> 2 | AP34: dalam proses
A35: 27 | B35: Izin Toko Obat | C35: 0 | D35: 0 | E35: 0 | F35: 0 | G35: 0 | H35: 0 | I35: 0 | J35: 0 | K35: 0 | L35: 0 | M35: 0 | N35: 0 | O35: 0 | P35: 0 | Q35: 0 | R35: 0 | S35: 0 | T35: 0 | U35: 0 | V35: 0 | W35: 0 | X35: 0 | Y35: 0 | Z35: 0 | AA35: 0 | AB35: 0 | AC35: 0 | AD35: 0 | AE35: 0 | AF35: 0 | AG35: 0 | AH35: =SUM(C35:AG35) -> 0 | AI35: =Juni!AI35 -> 3 | AJ35: =AH35+AI35 -> 3 | AK35: =Juni!AM35 -> 3 | AL35: =Juni!AN35 -> 0 | AM35: 0 | AN35: =AK35+AM35 -> 3
A36: 28 | B36: Izin Optik | C36: 0 | D36: 0 | E36: 0 | F36: 0 | G36: 0 | H36: 0 | I36: 0 | J36: 0 | K36: 0 | L36: 0 | M36: 0 | N36: 0 | O36: 0 | P36: 0 | Q36: 0 | R36: 0 | S36: 0 | T36: 0 | U36: 0 | V36: 0 | W36: 0 | X36: 0 | Y36: 0 | Z36: 0 | AA36: 1 | AB36: 0 | AC36: 0 | AD36: 0 | AE36: 0 | AF36: 0 | AG36: 0 | AH36: =SUM(C36:AG36) -> 1 | AI36: =Juni!AI36 -> 0 | AJ36: =AH36+AI36 -> 1 | AK36: =Juni!AM36 -> 0 | AL36: =Juni!AN36 -> 0 | AM36: 1 | AN36: =AK36+AM36 -> 1
A37: 29 | B37: Izin Industri Rumah Tangga Makanan Minuman (PIRT) | C37: 0 | D37: 0 | E37: 0 | F37: 0 | G37: 0 | H37: 1 | I37: 0 | J37: 0 | K37: 0 | L37: 0 | M37: 0 | N37: 1 | O37: 1 | P37: 1 | Q37: 0 | R37: 0 | S37: 1 | T37: 1 | U37: 0 | V37: 1 | W37: 0 | X37: 0 | Y37: 0 | Z37: 0 | AA37: 0 | AB37: 0 | AC37: 0 | AD37: 0 | AE37: 0 | AF37: 0 | AG37: 0 | AH37: =SUM(C37:AG37) -> 7 | AI37: =Juni!AI37 -> 150 | AJ37: =AH37+AI37 -> 157 | AK37: =Juni!AM37 -> 136 | AL37: =Juni!AN37 -> 14 | AM37: 21 | AN37: =AK37+AM37 -> 157
A38: 30 | B38: Tanda Daftar Depot Air Minum | C38: 0 | D38: 0 | E38: 0 | F38: 0 | G38: 0 | H38: 0 | I38: 0 | J38: 0 | K38: 0 | L38: 0 | M38: 0 | N38: 0 | O38: 0 | P38: 0 | Q38: 0 | R38: 0 | S38: 0 | T38: 0 | U38: 0 | V38: 0 | W38: 0 | X38: 0 | Y38: 0 | Z38: 0 | AA38: 0 | AB38: 0 | AC38: 0 | AD38: 0 | AE38: 0 | AF38: 0 | AG38: 0 | AH38: =SUM(C38:AG38) -> 0 | AI38: =Juni!AI38 -> 8 | AJ38: =AH38+AI38 -> 8 | AK38: =Juni!AM38 -> 8 | AL38: =Juni!AN38 -> 0 | AM38: 0 | AN38: =AK38+AM38 -> 8
A39: 31 | B39: Tanda Daftar Pengobatan Tradisional | C39: 0 | D39: 0 | E39: 0 | F39: 0 | G39: 0 | H39: 0 | I39: 0 | J39: 0 | K39: 0 | L39: 0 | M39: 0 | N39: 0 | O39: 0 | P39: 0 | Q39: 0 | R39: 0 | S39: 0 | T39: 1 | U39: 0 | V39: 0 | W39: 0 | X39: 0 | Y39: 0 | Z39: 0 | AA39: 0 | AB39: 0 | AC39: 0 | AD39: 0 | AE39: 0 | AF39: 0 | AG39: 0 | AH39: =SUM(C39:AG39) -> 1 | AI39: =Juni!AI39 -> 1 | AJ39: =AH39+AI39 -> 2 | AK39: =Juni!AM39 -> 1 | AL39: =Juni!AN39 -> 0 | AM39: 1 | AN39: =AK39+AM39 -> 2
A40: 32 | B40: Izin Operasional Pendirian Bursa Kerja Khusus (BKK) | C40: 0 | D40: 0 | E40: 0 | F40: 0 | G40: 0 | H40: 0 | I40: 0 | J40: 0 | K40: 0 | L40: 0 | M40: 0 | N40: 0 | O40: 1 | P40: 0 | Q40: 0 | R40: 0 | S40: 0 | T40: 0 | U40: 0 | V40: 0 | W40: 0 | X40: 0 | Y40: 0 | Z40: 0 | AA40: 0 | AB40: 0 | AC40: 0 | AD40: 0 | AE40: 0 | AF40: 0 | AG40: 0 | AH40: =SUM(C40:AG40) -> 1 | AI40: =Juni!AI40 -> 3 | AJ40: =AH40+AI40 -> 4 | AK40: =Juni!AM40 -> 3 | AL40: =Juni!AN40 -> 0 | AM40: 0 | AN40: =AK40+AM40 -> 3 | AO40: =AJ40-AN40 -> 1 | AP40: dalam proses
A41: 33 | B41: Izin Lembaga Pelatihan Kerja | C41: 0 | D41: 0 | E41: 0 | F41: 0 | G41: 0 | H41: 0 | I41: 0 | J41: 0 | K41: 0 | L41: 0 | M41: 0 | N41: 0 | O41: 0 | P41: 0 | Q41: 0 | R41: 0 | S41: 0 | T41: 0 | U41: 0 | V41: 0 | W41: 0 | X41: 0 | Y41: 0 | Z41: 0 | AA41: 0 | AB41: 0 | AC41: 0 | AD41: 0 | AE41: 0 | AF41: 0 | AG41: 0 | AH41: =SUM(C41:AG41) -> 0 | AI41: =Juni!AI41 -> 5 | AJ41: =AH41+AI41 -> 5 | AK41: =Juni!AM41 -> 5 | AL41: =Juni!AN41 -> 0 | AM41: 0 | AN41: =AK41+AM41 -> 5
A42: 34 | B42: Izin Perusahaan Penyedia Jasa Buruh ( Out Sourching) | C42: 0 | D42: 0 | E42: 0 | F42: 0 | G42: 0 | H42: 0 | I42: 0 | J42: 0 | K42: 0 | L42: 0 | M42: 0 | N42: 0 | O42: 0 | P42: 0 | Q42: 0 | R42: 0 | S42: 0 | T42: 0 | U42: 0 | V42: 0 | W42: 0 | X42: 0 | Y42: 0 | Z42: 0 | AA42: 0 | AB42: 0 | AC42: 0 | AD42: 0 | AE42: 0 | AF42: 0 | AG42: 0 | AH42: =SUM(C42:AG42) -> 0 | AI42: =Juni!AI42 -> 0 | AJ42: =AH42+AI42 -> 0 | AK42: =Juni!AM42 -> 0 | AL42: =Juni!AN42 -> 0 | AM42: 0 | AN42: =AK42+AM42 -> 0
A43: 35 | B43: Izin Pembuatan Tambak | C43: 0 | D43: 0 | E43: 0 | F43: 0 | G43: 0 | H43: 0 | I43: 0 | J43: 0 | K43: 0 | L43: 0 | M43: 0 | N43: 0 | O43: 0 | P43: 0 | Q43: 0 | R43: 0 | S43: 0 | T43: 0 | U43: 0 | V43: 0 | W43: 0 | X43: 0 | Y43: 0 | Z43: 0 | AA43: 0 | AB43: 0 | AC43: 0 | AD43: 0 | AE43: 0 | AF43: 0 | AG43: 0 | AH43: =SUM(C43:AG43) -> 0 | AI43: =Juni!AI43 -> 0 | AJ43: =AH43+AI43 -> 0 | AK43: =Juni!AM43 -> 0 | AL43: =Juni!AN43 -> 0 | AM43: 0 | AN43: =AK43+AM43 -> 0
A44: 36 | B44: Izin Usaha Perikanan | C44: 0 | D44: 0 | E44: 0 | F44: 0 | G44: 0 | H44: 0 | I44: 0 | J44: 0 | K44: 0 | L44: 0 | M44: 0 | N44: 0 | O44: 0 | P44: 0 | Q44: 0 | R44: 0 | S44: 0 | T44: 0 | U44: 0 | V44: 0 | W44: 0 | X44: 0 | Y44: 0 | Z44: 0 | AA44: 0 | AB44: 0 | AC44: 0 | AD44: 0 | AE44: 0 | AF44: 0 | AG44: 0 | AH44: =SUM(C44:AG44) -> 0 | AI44: =Juni!AI44 -> 1 | AJ44: =AH44+AI44 -> 1 | AK44: =Juni!AM44 -> 1 | AL44: =Juni!AN44 -> 0 | AM44: 0 | AN44: =AK44+AM44 -> 1
A45: 37 | B45: Izin Usaha Peternakan | C45: 0 | D45: 0 | E45: 0 | F45: 0 | G45: 0 | H45: 0 | I45: 0 | J45: 0 | K45: 0 | L45: 0 | M45: 0 | N45: 0 | O45: 0 | P45: 0 | Q45: 0 | R45: 0 | S45: 0 | T45: 0 | U45: 0 | V45: 0 | W45: 0 | X45: 0 | Y45: 0 | Z45: 0 | AA45: 0 | AB45: 0 | AC45: 0 | AD45: 0 | AE45: 0 | AF45: 0 | AG45: 0 | AH45: =SUM(C45:AG45) -> 0 | AI45: =Juni!AI45 -> 0 | AJ45: =AH45+AI45 -> 0 | AK45: =Juni!AM45 -> 0 | AL45: =Juni!AN45 -> 0 | AM45: 0 | AN45: =AK45+AM45 -> 0
A46: 38 | B46: Izin Pemakaian Tanah Pengairan | C46: 0 | D46: 0 | E46: 0 | F46: 0 | G46: 0 | H46: 0 | I46: 0 | J46: 0 | K46: 0 | L46: 0 | M46: 0 | N46: 0 | O46: 0 | P46: 0 | Q46: 0 | R46: 0 | S46: 0 | T46: 0 | U46: 0 | V46: 0 | W46: 0 | X46: 0 | Y46: 0 | Z46: 0 | AA46: 0 | AB46: 0 | AC46: 0 | AD46: 0 | AE46: 0 | AF46: 0 | AG46: 0 | AH46: =SUM(C46:AG46) -> 0 | AI46: =Juni!AI46 -> 0 | AJ46: =AH46+AI46 -> 0 | AK46: =Juni!AM46 -> 0 | AL46: =Juni!AN46 -> 0 | AM46: 0 | AN46: =AK46+AM46 -> 0
A47: 39 | B47: Izin Tebang dan Pengangkutan Kayu Rakyat | C47: 0 | D47: 0 | E47: 0 | F47: 0 | G47: 0 | H47: 0 | I47: 0 | J47: 0 | K47: 0 | L47: 0 | M47: 0 | N47: 0 | O47: 0 | P47: 0 | Q47: 0 | R47: 0 | S47: 0 | T47: 0 | U47: 0 | V47: 0 | W47: 0 | X47: 0 | Y47: 0 | Z47: 0 | AA47: 0 | AB47: 0 | AC47: 0 | AD47: 0 | AE47: 0 | AF47: 0 | AG47: 0 | AH47: =SUM(C47:AG47) -> 0 | AI47: =Juni!AI47 -> 0 | AJ47: =AH47+AI47 -> 0 | AK47: =Juni!AM47 -> 0 | AL47: =Juni!AN47 -> 0 | AM47: 0 | AN47: =AK47+AM47 -> 0
A48: 40 | B48: Izin Penggunaaan Tanah/Bangunan Milik Pemerintah Kabupaten | C48: 0 | D48: 0 | E48: 0 | F48: 0 | G48: 0 | H48: 0 | I48: 0 | J48: 0 | K48: 0 | L48: 0 | M48: 0 | N48: 0 | O48: 0 | P48: 0 | Q48: 0 | R48: 0 | S48: 0 | T48: 0 | U48: 0 | V48: 0 | W48: 0 | X48: 0 | Y48: 0 | Z48: 0 | AA48: 0 | AB48: 0 | AC48: 0 | AD48: 0 | AE48: 0 | AF48: 0 | AG48: 0 | AH48: =SUM(C48:AG48) -> 0 | AI48: =Juni!AI48 -> 1 | AJ48: =AH48+AI48 -> 1 | AK48: =Juni!AM48 -> 0 | AL48: =Juni!AN48 -> 1 | AM48: 0 | AN48: =AK48+AM48 -> 0 | AO48: =AJ48-AN48 -> 1 | AP48: dalam proses
A49: 41 | B49: Izin Penempatan Kios /Los | C49: 0 | D49: 0 | E49: 0 | F49: 0 | G49: 0 | H49: 0 | I49: 0 | J49: 0 | K49: 0 | L49: 0 | M49: 0 | N49: 0 | O49: 0 | P49: 0 | Q49: 0 | R49: 0 | S49: 0 | T49: 0 | U49: 0 | V49: 0 | W49: 0 | X49: 0 | Y49: 0 | Z49: 0 | AA49: 0 | AB49: 0 | AC49: 0 | AD49: 0 | AE49: 0 | AF49: 0 | AG49: 0 | AH49: =SUM(C49:AG49) -> 0 | AI49: =Juni!AI49 -> 154 | AJ49: =AH49+AI49 -> 154 | AK49: =Juni!AM49 -> 85 | AL49: =Juni!AN49 -> 69 | AM49: 69 | AN49: =AK49+AM49 -> 154
A50: 42 | B50: Limbah B3 | C50: 0 | D50: 0 | E50: 0 | F50: 0 | G50: 0 | H50: 0 | I50: 0 | J50: 0 | K50: 0 | L50: 0 | M50: 0 | N50: 0 | O50: 0 | P50: 0 | Q50: 0 | R50: 0 | S50: 0 | T50: 0 | U50: 0 | V50: 0 | W50: 0 | X50: 0 | Y50: 0 | Z50: 1 | AA50: 0 | AB50: 0 | AC50: 0 | AD50: 0 | AE50: 0 | AF50: 0 | AG50: 0 | AH50: =SUM(C50:AG50) -> 1 | AI50: =Juni!AI50 -> 10 | AJ50: =AH50+AI50 -> 11 | AK50: =Juni!AM50 -> 1 | AL50: =Juni!AN50 -> 9 | AM50: 2 | AN50: =AK50+AM50 -> 3 | AO50: =AJ50-AN50 -> 8 | AP50: dalam proses
A51: 43 | B51: Izin Pengelolaan Air Limbah (IPAL) | C51: 0 | D51: 0 | E51: 0 | F51: 0 | G51: 0 | H51: 0 | I51: 1 | J51: 0 | K51: 0 | L51: 0 | M51: 0 | N51: 0 | O51: 0 | P51: 0 | Q51: 0 | R51: 0 | S51: 0 | T51: 0 | U51: 0 | V51: 0 | W51: 0 | X51: 0 | Y51: 0 | Z51: 0 | AA51: 0 | AB51: 0 | AC51: 0 | AD51: 0 | AE51: 0 | AF51: 0 | AG51: 0 | AH51: =SUM(C51:AG51) -> 1 | AI51: =Juni!AI51 -> 3 | AJ51: =AH51+AI51 -> 4 | AK51: =Juni!AM51 -> 0 | AL51: =Juni!AN51 -> 3 | AM51: 1 | AN51: =AK51+AM51 -> 1 | AO51: =AJ51-AN51 -> 3 | AP51: dalam proses
A52: 44 | B52: Izin Operasional Rumah Sakit / Klinik / Puskesmas | C52: 0 | D52: 0 | E52: 0 | F52: 0 | G52: 0 | H52: 0 | I52: 0 | J52: 0 | K52: 0 | L52: 0 | M52: 0 | N52: 0 | O52: 1 | P52: 0 | Q52: 0 | R52: 0 | S52: 0 | T52: 0 | U52: 0 | V52: 0 | W52: 0 | X52: 0 | Y52: 0 | Z52: 0 | AA52: 0 | AB52: 0 | AC52: 0 | AD52: 0 | AE52: 0 | AF52: 0 | AG52: 0 | AH52: =SUM(C52:AG52) -> 1 | AI52: =Juni!AI52 -> 14 | AJ52: =AH52+AI52 -> 15 | AK52: =Juni!AM52 -> 7 | AL52: =Juni!AN52 -> 7 | AM52: 0 | AN52: =AK52+AM52 -> 7 | AO52: =AJ52-AN52 -> 8 | AP52: dalam proses
A53: 45 | B53: Izin Lingkungan | C53: 0 | D53: 0 | E53: 0 | F53: 0 | G53: 0 | H53: 1 | I53: 0 | J53: 0 | K53: 0 | L53: 0 | M53: 0 | N53: 0 | O53: 0 | P53: 0 | Q53: 0 | R53: 0 | S53: 0 | T53: 0 | U53: 0 | V53: 0 | W53: 0 | X53: 0 | Y53: 0 | Z53: 0 | AA53: 0 | AB53: 1 | AC53: 0 | AD53: 1 | AE53: 0 | AF53: 0 | AG53: 1 | AH53: =SUM(C53:AG53) -> 4 | AI53: =Juni!AI53 -> 31 | AJ53: =AH53+AI53 -> 35 | AK53: =Juni!AM53 -> 17 | AL53: =Juni!AN53 -> 14 | AM53: 3 | AN53: =AK53+AM53 -> 20 | AO53: =AJ53-AN53 -> 15 | AP53: dalam proses
A54: 46 | B54: Izin Tukang Gigi | C54: 0 | D54: 0 | E54: 0 | F54: 0 | G54: 0 | H54: 0 | I54: 0 | J54: 0 | K54: 0 | L54: 0 | M54: 0 | N54: 0 | O54: 0 | P54: 0 | Q54: 0 | R54: 0 | S54: 0 | T54: 0 | U54: 0 | V54: 0 | W54: 0 | X54: 0 | Y54: 0 | Z54: 0 | AA54: 0 | AB54: 0 | AC54: 0 | AD54: 0 | AE54: 0 | AF54: 0 | AG54: 0 | AH54: =SUM(C54:AG54) -> 0 | AI54: =Juni!AI54 -> 49 | AJ54: =AH54+AI54 -> 49 | AK54: =Juni!AM54 -> 43 | AL54: =Juni!AN54 -> 6 | AM54: 0 | AN54: =AK54+AM54 -> 43 | AO54: =AJ54-AN54 -> 6 | AP54: dalam proses
A55: Jumlah | C55: =SUM(C7:C54) -> 0 | D55: =SUM(D7:D54) -> 0 | E55: =SUM(E7:E54) -> 4 | F55: =SUM(F7:F54) -> 5 | G55: =SUM(G7:G54) -> 6 | H55: =SUM(H7:H54) -> 19 | I55: =SUM(I7:I54) -> 3 | J55: =SUM(J7:J54) -> 0 | ... AI55: =SUM(AI7:AI54) -> 1780 | AJ55: =AH55+AI55 -> 1978 | AK55: =Juni!AM55 -> 1541 | AL55: =Juni!AN55 -> 239 | AM55: =SUM(AM7:AM54) -> 304 | AN55: =AK55+AM55 -> 1845 | AO55: =AJ55-AN55 -> 133 | AP55: dalam proses
AB57: Kebumen, 05 Agustus 2017
AB58: KEPALA DINAS PENANAMAN MODAL
AB59: DAN PELAYANAN TERPADU SATU PINTU
AB60: KABUPATEN KEBUMEN
AB65: Drs. H. Hery Setyanto
AB66: Pembina Utama Muda
AB67: NIP. 19601023 199001 1 001

Sheet Agustus
A1: LAPORAN BERKAS IZIN MASUK DAN TERPROSES DINAS PENANAMAN MODAL DAN PELAYANAN TERPADU SATU PINTU
A2: KABUPATEN KEBUMEN
A3: Bulan Agustus 2017
A5: NO | B5: JENIS IZIN | C5: TANGGAL | AH5: PEMOHON BLN INI | AI5: PEMOHON BULAN LALU | AJ5: TOTAL PERMOHONAN | AK5: TERPROSES BULAN LALU | AL5: DALAM PROSES BULAN LALU | AM5: TERPROSES BLN INI (SK) | AN5: TOTAL TERPROSES | AO5: IZIN BELUM JADI | AP5: KETERANGAN
C6: 1 | D6: 2 | E6: 3 | F6: 4 | G6: 5 | H6: 6 | I6: 7 | J6: 8 | K6: 9 | L6: 10 | M6: 11 | N6: 12 | O6: 13 | P6: 14 | Q6: 15 | R6: 16 | S6: 17 | T6: 18 | U6: 19 | V6: 20 | W6: 21 | X6: 22 | Y6: 23 | Z6: 24 | AA6: 25 | AB6: 26 | AC6: 27 | AD6: 28 | AE6: 29 | AF6: 30 | AG6: 31
A7: 1 | B7: Izin Prinsip | C7: 0 | D7: 1 | E7: 0 | F7: 0 | G7: 0 | H7: 0 | I7: 0 | J7: 0 | K7: 0 | L7: 1 | M7: 0 | N7: 0 | O7: 0 | P7: 0 | Q7: 0 | R7: 0 | S7: 0 | T7: 0 | U7: 0 | V7: 0 | W7: 1 | X7: 0 | Y7: 0 | Z7: 0 | AA7: 0 | AB7: 0 | AC7: 0 | AD7: 1 | AE7: 0 | AF7: 0 | AG7: 2 | AH7: =SUM(C7:AG7) -> 6 | AI7: =Juli!AJ7 -> 60 | AJ7: =AH7+AI7 -> 66 | AK7: =Juli!AN7 -> 40 | AL7: =Juli!AO7 -> 20 | AM7: 3 | AN7: =AK7+AM7 -> 43 | AO7: =AJ7-AN7 -> 23 | AP7: dlm proses
A8: 2 | B8: Izin Lokasi/Izin perencanaan letak penggunaan tanah/ penetapan lokasi | C8: 0 | D8: 0 | E8: 0 | F8: 0 | G8: 0 | H8: 0 | I8: 0 | J8: 0 | K8: 0 | L8: 1 | M8: 0 | N8: 0 | O8: 0 | P8: 0 | Q8: 0 | R8: 0 | S8: 0 | T8: 0 | U8: 0 | V8: 0 | W8: 1 | X8: 0 | Y8: 0 | Z8: 0 | AA8: 0 | AB8: 0 | AC8: 0 | AD8: 0 | AE8: 0 | AF8: 0 | AG8: 2 | AH8: =SUM(C8:AG8) -> 4 | AI8: =Juli!AJ8 -> 36 | AJ8: =AH8+AI8 -> 40 | AK8: =Juli!AN8 -> 24 | AL8: =Juli!AO8 -> 12 | AM8: 2 | AN8: =AK8+AM8 -> 26 | AO8: =AJ8-AN8 -> 14 | AP8: dlm proses
A9: 3 | B9: Izin Gangguan/HO | C9: 0 | D9: 0 | E9: 0 | F9: 0 | G9: 0 | H9: 0 | I9: 0 | J9: 0 | K9: 0 | L9: 0 | M9: 0 | N9: 0 | O9: 0 | P9: 0 | Q9: 0 | R9: 0 | S9: 0 | T9: 0 | U9: 0 | V9: 0 | W9: 0 | X9: 0 | Y9: 0 | Z9: 0 | AA9: 0 | AB9: 0 | AC9: 0 | AD9: 0 | AE9: 0 | AF9: 0 | AG9: 0 | AH9: =SUM(C9:AG9) -> 0 | AI9: =Juli!AJ9 -> 44 | AJ9: =AH9+AI9 -> 44 | AK9: =Juli!AN9 -> 27 | AL9: =Juli!AO9 -> 17 | AM9: 0 | AN9: =AK9+AM9 -> 27 | AO9: =AJ9-AN9 -> 17 | AP9: berkas dikembalikan
B10: Izin Gangguan Ulang / HO | C10: 0 | D10: 0 | E10: 0 | F10: 0 | G10: 0 | H10: 0 | I10: 0 | J10: 0 | K10: 0 | L10: 0 | M10: 0 | N10: 0 | O10: 0 | P10: 0 | Q10: 0 | R10: 0 | S10: 0 | T10: 0 | U10: 0 | V10: 0 | W10: 0 | X10: 0 | Y10: 0 | Z10: 0 | AA10: 0 | AB10: 0 | AC10: 0 | AD10: 0 | AE10: 0 | AF10: 0 | AG10: 0 | AH10: =SUM(C10:AG10) -> 0 | AI10: =Juli!AJ10 -> 67 | AJ10: =AH10+AI10 -> 67 | AK10: =Juli!AN10 -> 62 | AL10: =Juli!AO10 -> 5 | AM10: 0 | AN10: =AK10+AM10 -> 62 | AO10: =AJ10-AN10 -> 5 | AP10: berkas dikembalikan
A11: 4 | B11: Izin Penggilingan Padi Keliling | C11: 0 | D11: 0 | E11: 0 | F11: 0 | G11: 0 | H11: 0 | I11: 0 | J11: 0 | K11: 0 | L11: 0 | M11: 0 | N11: 0 | O11: 0 | P11: 0 | Q11: 0 | R11: 0 | S11: 0 | T11: 0 | U11: 0 | V11: 0 | W11: 0 | X11: 0 | Y11: 0 | Z11: 0 | AA11: 0 | AB11: 0 | AC11: 0 | AD11: 0 | AE11: 0 | AF11: 0 | AG11: 0 | AH11: =SUM(C11:AG11) -> 0 | AI11: =Juli!AJ11 -> 0 | AJ11: =AH11+AI11 -> 0 | AK11: =Juli!AN11 -> 0 | AL11: =Juli!AO11 -> 0 | AM11: 0 | AN11: =AK11+AM11 -> 0
A12: 5 | B12: Izin Usaha Pengangkutan | C12: 0 | D12: 0 | E12: 0 | F12: 0 | G12: 0 | H12: 0 | I12: 0 | J12: 0 | K12: 0 | L12: 0 | M12: 0 | N12: 0 | O12: 0 | P12: 0 | Q12: 0 | R12: 0 | S12: 0 | T12: 0 | U12: 0 | V12: 0 | W12: 0 | X12: 0 | Y12: 0 | Z12: 0 | AA12: 0 | AB12: 0 | AC12: 0 | AD12: 0 | AE12: 0 | AF12: 0 | AG12: 0 | AH12: =SUM(C12:AG12) -> 0 | AI12: =Juli!AJ12 -> 0 | AJ12: =AH12+AI12 -> 0 | AK12: =Juli!AN12 -> 0 | AL12: =Juli!AO12 -> 0 | AM12: 0 | AN12: =AK12+AM12 -> 0
A13: 6 | B13: Izin Trayek | C13: 0 | D13: 0 | E13: 0 | F13: 0 | G13: 0 | H13: 0 | I13: 0 | J13: 0 | K13: 0 | L13: 0 | M13: 0 | N13: 0 | O13: 0 | P13: 0 | Q13: 0 | R13: 0 | S13: 0 | T13: 0 | U13: 0 | V13: 0 | W13: 0 | X13: 0 | Y13: 0 | Z13: 0 | AA13: 0 | AB13: 0 | AC13: 0 | AD13: 0 | AE13: 0 | AF13: 0 | AG13: 0 | AH13: =SUM(C13:AG13) -> 0 | AI13: =Juli!AJ13 -> 0 | AJ13: =AH13+AI13 -> 0 | AK13: =Juli!AN13 -> 0 | AL13: =Juli!AO13 -> 0 | AM13: 0 | AN13: =AK13+AM13 -> 0
A14: 7 | B14: Izin Insidentil | C14: 0 | D14: 0 | E14: 0 | F14: 0 | G14: 0 | H14: 0 | I14: 0 | J14: 0 | K14: 0 | L14: 0 | M14: 0 | N14: 0 | O14: 0 | P14: 0 | Q14: 0 | R14: 0 | S14: 0 | T14: 0 | U14: 0 | V14: 0 | W14: 0 | X14: 0 | Y14: 0 | Z14: 0 | AA14: 0 | AB14: 0 | AC14: 0 | AD14: 0 | AE14: 0 | AF14: 0 | AG14: 0 | AH14: =SUM(C14:AG14) -> 0 | AI14: =Juli!AJ14 -> 0 | AJ14: =AH14+AI14 -> 0 | AK14: =Juli!AN14 -> 0 | AL14: =Juli!AO14 -> 0 | AM14: 0 | AN14: =AK14+AM14 -> 0
A15: 8 | B15: Izin Mendirikan Bangunan (IMB) | C15: 2 | D15: 2 | E15: 0 | F15: 0 | G15: 0 | H15: 0 | I15: 1 | J15: 1 | K15: 0 | L15: 3 | M15: 0 | N15: 0 | O15: 0 | P15: 1 | Q15: 0 | R15: 0 | S15: 0 | T15: 0 | U15: 0 | V15: 0 | W15: 1 | X15: 0 | Y15: 2 | Z15: 2 | AA15: 0 | AB15: 0 | AC15: 0 | AD15: 1 | AE15: 3 | AF15: 0 | AG15: 0 | AH15: =SUM(C15:AG15) -> 19 | AI15: =Juli!AJ15 -> 115 | AJ15: =AH15+AI15 -> 134 | AK15: =Juli!AN15 -> 91 | AL15: =Juli!AO15 -> 24 | AM15: 14 | AN15: =AK15+AM15 -> 105 | AO15: =AJ15-AN15 -> 29 | AP15: dlm proses
A16: 9 | B16: Izin Usaha Industri (IUI) | C16: 0 | D16: 0 | E16: 0 | F16: 0 | G16: 0 | H16: 0 | I16: 0 | J16: 0 | K16: 0 | L16: 0 | M16: 0 | N16: 0 | O16: 0 | P16: 0 | Q16: 0 | R16: 0 | S16: 0 | T16: 0 | U16: 0 | V16: 0 | W16: 0 | X16: 0 | Y16: 0 | Z16: 0 | AA16: 0 | AB16: 0 | AC16: 0 | AD16: 0 | AE16: 0 | AF16: 0 | AG16: 0 | AH16: =SUM(C16:AG16) -> 0 | AI16: =Juli!AJ16 -> 2 | AJ16: =AH16+AI16 -> 2 | AK16: =Juli!AN16 -> 2 | AL16: =Juli!AO16 -> 0 | AM16: 0 | AN16: =AK16+AM16 -> 2
A17: 10 | B17: Tanda Daftar Industri (TDI) | C17: 0 | D17: 0 | E17: 0 | F17: 0 | G17: 0 | H17: 0 | I17: 0 | J17: 0 | K17: 1 | L17: 0 | M17: 0 | N17: 0 | O17: 0 | P17: 0 | Q17: 0 | R17: 0 | S17: 0 | T17: 0 | U17: 0 | V17: 0 | W17: 1 | X17: 0 | Y17: 0 | Z17: 1 | AA17: 0 | AB17: 0 | AC17: 0 | AD17: 0 | AE17: 0 | AF17: 0 | AG17: 0 | AH17: =SUM(C17:AG17) -> 3 | AI17: =Juli!AJ17 -> 11 | AJ17: =AH17+AI17 -> 14 | AK17: =Juli!AN17 -> 11 | AL17: =Juli!AO17 -> 0 | AM17: 3 | AN17: =AK17+AM17 -> 14
A18: 11 | B18: Surat Izin Usaha Perdagangan (SIUP) | C18: 5 | D18: 0 | E18: 3 | F18: 1 | G18: 0 | H18: 0 | I18: 8 | J18: 2 | K18: 2 | L18: 2 | M18: 1 | N18: 0 | O18: 0 | P18: 4 | Q18: 2 | R18: 1 | S18: 2 | T18: 0 | U18: 0 | V18: 0 | W18: 7 | X18: 2 | Y18: 3 | Z18: 5 | AA18: 0 | AB18: 0 | AC18: 0 | AD18: 3 | AE18: 3 | AF18: 2 | AG18: 0 | AH18: =SUM(C18:AG18) -> 58 | AI18: =Juli!AJ18 -> 433 | AJ18: =AH18+AI18 -> 491 | AK18: =Juli!AN18 -> 433 | AL18: =Juli!AO18 -> 0 | AM18: 58 | AN18: =AK18+AM18 -> 491
A19: 12 | B19: Tanda Daftar Gudang (TDG) | C19: 0 | D19: 0 | E19: 0 | F19: 0 | G19: 0 | H19: 0 | I19: 0 | J19: 0 | K19: 0 | L19: 0 | M19: 0 | N19: 0 | O19: 0 | P19: 0 | Q19: 0 | R19: 0 | S19: 0 | T19: 0 | U19: 0 | V19: 0 | W19: 0 | X19: 0 | Y19: 0 | Z19: 1 | AA19: 0 | AB19: 0 | AC19: 0 | AD19: 0 | AE19: 0 | AF19: 0 | AG19: 0 | AH19: =SUM(C19:AG19) -> 1 | AI19: =Juli!AJ19 -> 15 | AJ19: =AH19+AI19 -> 16 | AK19: =Juli!AN19 -> 15 | AL19: =Juli!AO19 -> 0 | AM19: 1 | AN19: =AK19+AM19 -> 16
A20: 13 | B20: Tanda Daftar Perusahaan (TDP) | C20: 5 | D20: 0 | E20: 3 | F20: 1 | G20: 0 | H20: 0 | I20: 8 | J20: 3 | K20: 2 | L20: 3 | M20: 2 | N20: 0 | O20: 0 | P20: 4 | Q20: 3 | R20: 1 | S20: 2 | T20: 0 | U20: 0 | V20: 0 | W20: 7 | X20: 2 | Y20: 2 | Z20: 5 | AA20: 0 | AB20: 0 | AC20: 0 | AD20: 3 | AE20: 3 | AF20: 2 | AG20: 0 | AH20: =SUM(C20:AG20) -> 61 | AI20: =Juli!AJ20 -> 371 | AJ20: =AH20+AI20 -> 432 | AK20: =Juli!AN20 -> 361 | AL20: =Juli!AO20 -> 10 | AM20: 61 | AN20: =AK20+AM20 -> 422 | AO20: =AJ20-AN20 -> 10 | AP20: dlm proses
A21: 14 | B21: Izin Usaha Jasa Kontruksi (IUJK) | C21: 0 | D21: 0 | E21: 0 | F21: 0 | G21: 0 | H21: 0 | I21: 1 | J21: 0 | K21: 0 | L21: 0 | M21: 0 | N21: 0 | O21: 0 | P21: 0 | Q21: 0 | R21: 0 | S21: 0 | T21: 0 | U21: 0 | V21: 0 | W21: 0 | X21: 0 | Y21: 0 | Z21: 1 | AA21: 0 | AB21: 0 | AC21: 0 | AD21: 0 | AE21: 2 | AF21: 0 | AG21: 0 | AH21: =SUM(C21:AG21) -> 4 | AI21: =Juli!AJ21 -> 47 | AJ21: =AH21+AI21 -> 51 | AK21: =Juli!AN21 -> 46 | AL21: =Juli!AO21 -> 1 | AM21: 4 | AN21: =AK21+AM21 -> 50 | AO21: =AJ21-AN21 -> 1 | AP21: dlm proses
B22: Kartu Penanggungjawab Teknik Badan (KPTJBU) | C22: 1 | D22: 0 | E22: 0 | F22: 0 | G22: 0 | H22: 0 | I22: 0 | J22: 0 | K22: 0 | L22: 0 | M22: 0 | N22: 0 | O22: 0 | P22: 1 | Q22: 0 | R22: 0 | S22: 0 | T22: 0 | U22: 0 | V22: 0 | W22: 0 | X22: 0 | Y22: 0 | Z22: 1 | AA22: 0 | AB22: 0 | AC22: 0 | AD22: 1 | AE22: 2 | AF22: 0 | AG22: 0 | AH22: =SUM(C22:AG22) -> 6 | AI22: =Juli!AJ22 -> 36 | AJ22: =AH22+AI22 -> 42 | AK22: =Juli!AN22 -> 36 | AL22: =Juli!AO22 -> 0 | AM22: 6 | AN22: =AK22+AM22 -> 42
A23: 15 | B23: Tanda Daftar Usaha Pariwisata | C23: 0 | D23: 0 | E23: 0 | F23: 0 | G23: 0 | H23: 0 | I23: 0 | J23: 0 | K23: 0 | L23: 0 | M23: 0 | N23: 0 | O23: 0 | P23: 1 | Q23: 0 | R23: 0 | S23: 0 | T23: 0 | U23: 0 | V23: 0 | W23: 0 | X23: 0 | Y23: 0 | Z23: 0 | AA23: 0 | AB23: 0 | AC23: 0 | AD23: 1 | AE23: 0 | AF23: 0 | AG23: 0 | AH23: =SUM(C23:AG23) -> 2 | AI23: =Juli!AJ23 -> 13 | AJ23: =AH23+AI23 -> 15 | AK23: =Juli!AN23 -> 13 | AL23: =Juli!AO23 -> 0 | AM23: 2 | AN23: =AK23+AM23 -> 15
A24: 16 | B24: Izin Penggunaan Gedung Juang | C24: 2 | D24: 0 | E24: 0 | F24: 0 | G24: 0 | H24: 0 | I24: 0 | J24: 0 | K24: 0 | L24: 0 | M24: 0 | N24: 0 | O24: 0 | P24: 1 | Q24: 0 | R24: 0 | S24: 0 | T24: 0 | U24: 0 | V24: 0 | W24: 0 | X24: 2 | Y24: 0 | Z24: 0 | AA24: 0 | AB24: 0 | AC24: 0 | AD24: 0 | AE24: 0 | AF24: 0 | AG24: 0 | AH24: =SUM(C24:AG24) -> 5 | AI24: =Juli!AJ24 -> 26 | AJ24: =AH24+AI24 -> 31 | AK24: =Juli!AN24 -> 26 | AL24: =Juli!AO24 -> 0 | AM24: 5 | AN24: =AK24+AM24 -> 31
A25: 17 | B25: Izin Penggunaan Alun-alun Kebumen | C25: 0 | D25: 0 | E25: 0 | F25: 0 | G25: 0 | H25: 0 | I25: 0 | J25: 0 | K25: 0 | L25: 0 | M25: 0 | N25: 0 | O25: 0 | P25: 1 | Q25: 0 | R25: 0 | S25: 0 | T25: 0 | U25: 0 | V25: 0 | W25: 0 | X25: 0 | Y25: 0 | Z25: 0 | AA25: 1 | AB25: 0 | AC25: 0 | AD25: 0 | AE25: 0 | AF25: 0 | AG25: 1 | AH25: =SUM(C25:AG25) -> 3 | AI25: =Juli!AJ25 -> 25 | AJ25: =AH25+AI25 -> 28 | AK25: =Juli!AN25 -> 25 | AL25: =Juli!AO25 -> 0 | AM25: 3 | AN25: =AK25+AM25 -> 28
A26: 18 | B26: Izin Pemasangan Reklame | C26: 1 | D26: 2 | E26: 0 | F26: 2 | G26: 0 | H26: 0 | I26: 0 | J26: 1 | K26: 0 | L26: 0 | M26: 0 | N26: 0 | O26: 0 | P26: 0 | Q26: 2 | R26: 0 | S26: 1 | T26: 0 | U26: 0 | V26: 0 | W26: 1 | X26: 0 | Y26: 0 | Z26: 0 | AA26: 0 | AB26: 0 | AC26: 0 | AD26: 2 | AE26: 0 | AF26: 0 | AG26: 0 | AH26: =SUM(C26:AG26) -> 12 | AI26: =Juli!AJ26 -> 213 | AJ26: =AH26+AI26 -> 225 | AK26: =Juli!AN26 -> 213 | AL26: =Juli!AO26 -> 0 | AM26: 12 | AN26: =AK26+AM26 -> 225
A27: 19 | B27: Izin Pengelolaan Sarang Burung Lawet | C27: 0 | D27: 0 | E27: 0 | F27: 0 | G27: 0 | H27: 0 | I27: 0 | J27: 0 | K27: 0 | L27: 0 | M27: 0 | N27: 0 | O27: 0 | P27: 0 | Q27: 0 | R27: 0 | S27: 0 | T27: 0 | U27: 0 | V27: 0 | W27: 0 | X27: 0 | Y27: 0 | Z27: 0 | AA27: 0 | AB27: 0 | AC27: 0 | AD27: 0 | AE27: 0 | AF27: 0 | AG27: 0 | AH27: =SUM(C27:AG27) -> 0 | AI27: =Juli!AJ27 -> 0 | AJ27: =AH27+AI27 -> 0 | AK27: =Juli!AN27 -> 0 | AL27: =Juli!AO27 -> 0 | AM27: 0 | AN27: =AK27+AM27 -> 0
A28: 20 | B28: Izin Mendirikan Rumah Sakit Umum | C28: 0 | D28: 0 | E28: 0 | F28: 0 | G28: 0 | H28: 0 | I28: 0 | J28: 0 | K28: 0 | L28: 0 | M28: 0 | N28: 0 | O28: 0 | P28: 0 | Q28: 0 | R28: 0 | S28: 0 | T28: 0 | U28: 0 | V28: 0 | W28: 0 | X28: 0 | Y28: 0 | Z28: 0 | AA28: 0 | AB28: 0 | AC28: 0 | AD28: 0 | AE28: 0 | AF28: 0 | AG28: 0 | AH28: =SUM(C28:AG28) -> 0 | AI28: =Juli!AJ28 -> 0 | AJ28: =AH28+AI28 -> 0 | AK28: =Juli!AN28 -> 0 | AL28: =Juli!AO28 -> 0 | AM28: 0 | AN28: =AK28+AM28 -> 0
A29: 21 | B29: Izin Mendirikan Rumah Sakit Khusus | C29: 0 | D29: 0 | E29: 0 | F29: 0 | G29: 0 | H29: 0 | I29: 0 | J29: 0 | K29: 0 | L29: 0 | M29: 0 | N29: 0 | O29: 0 | P29: 0 | Q29: 0 | R29: 0 | S29: 0 | T29: 0 | U29: 0 | V29: 0 | W29: 0 | X29: 0 | Y29: 0 | Z29: 0 | AA29: 0 | AB29: 0 | AC29: 0 | AD29: 0 | AE29: 0 | AF29: 0 | AG29: 0 | AH29: =SUM(C29:AG29) -> 0 | AI29: =Juli!AJ29 -> 0 | AJ29: =AH29+AI29 -> 0 | AK29: =Juli!AN29 -> 0 | AL29: =Juli!AO29 -> 0 | AM29: 0 | AN29: =AK29+AM29 -> 0
A30: 22 | B30: Izin Klinik Pratama | C30: 0 | D30: 0 | E30: 0 | F30: 0 | G30: 0 | H30: 0 | I30: 0 | J30: 0 | K30: 0 | L30: 0 | M30: 0 | N30: 0 | O30: 0 | P30: 0 | Q30: 0 | R30: 0 | S30: 0 | T30: 0 | U30: 0 | V30: 0 | W30: 0 | X30: 0 | Y30: 0 | Z30: 0 | AA30: 0 | AB30: 0 | AC30: 0 | AD30: 0 | AE30: 0 | AF30: 0 | AG30: 0 | AH30: =SUM(C30:AG30) -> 0 | AI30: =Juli!AJ30 -> 1 | AJ30: =AH30+AI30 -> 1 | AK30: =Juli!AN30 -> 1 | AL30: =Juli!AO30 -> 0 | AM30: 0 | AN30: =AK30+AM30 -> 1
A31: 23 | B31: Izin Klinik Utama | C31: 0 | D31: 0 | E31: 0 | F31: 0 | G31: 0 | H31: 0 | I31: 0 | J31: 0 | K31: 0 | L31: 0 | M31: 0 | N31: 0 | O31: 0 | P31: 0 | Q31: 0 | R31: 0 | S31: 0 | T31: 0 | U31: 0 | V31: 0 | W31: 0 | X31: 0 | Y31: 0 | Z31: 0 | AA31: 0 | AB31: 0 | AC31: 0 | AD31: 0 | AE31: 0 | AF31: 0 | AG31: 0 | AH31: =SUM(C31:AG31) -> 0 | AI31: =Juli!AJ31 -> 0 | AJ31: =AH31+AI31 -> 0 | AK31: =Juli!AN31 -> 0 | AL31: =Juli!AO31 -> 0 | AM31: 0 | AN31: =AK31+AM31 -> 0
A32: 24 | B32: Izin Laboratorium Klinik Pratama | C32: 0 | D32: 0 | E32: 0 | F32: 0 | G32: 0 | H32: 0 | I32: 0 | J32: 0 | K32: 0 | L32: 0 | M32: 0 | N32: 0 | O32: 0 | P32: 0 | Q32: 0 | R32: 0 | S32: 0 | T32: 0 | U32: 0 | V32: 0 | W32: 0 | X32: 0 | Y32: 0 | Z32: 0 | AA32: 0 | AB32: 0 | AC32: 0 | AD32: 0 | AE32: 0 | AF32: 0 | AG32: 0 | AH32: =SUM(C32:AG32) -> 0 | AI32: =Juli!AJ32 -> 0 | AJ32: =AH32+AI32 -> 0 | AK32: =Juli!AN32 -> 0 | AL32: =Juli!AO32 -> 0 | AM32: 0 | AN32: =AK32+AM32 -> 0
A33: 25 | B33: Izin Laboratorium Klinik Utama | C33: 0 | D33: 0 | E33: 0 | F33: 0 | G33: 0 | H33: 0 | I33: 0 | J33: 0 | K33: 0 | L33: 0 | M33: 0 | N33: 0 | O33: 0 | P33: 0 | Q33: 0 | R33: 0 | S33: 0 | T33: 0 | U33: 0 | V33: 0 | W33: 0 | X33: 0 | Y33: 0 | Z33: 0 | AA33: 0 | AB33: 0 | AC33: 0 | AD33: 0 | AE33: 0 | AF33: 0 | AG33: 0 | AH33: =SUM(C33:AG33) -> 0 | AI33: =Juli!AJ33 -> 0 | AJ33: =AH33+AI33 -> 0 | AK33: =Juli!AN33 -> 0 | AL33: =Juli!AO33 -> 0 | AM33: 0 | AN33: =AK33+AM33 -> 0
A34: 26 | B34: Izin Apotik | C34: 0 | D34: 0 | E34: 0 | F34: 0 | G34: 0 | H34: 0 | I34: 0 | J34: 0 | K34: 0 | L34: 0 | M34: 1 | N34: 0 | O34: 0 | P34: 1 | Q34: 0 | R34: 0 | S34: 0 | T34: 0 | U34: 0 | V34: 0 | W34: 1 | X34: 0 | Y34: 0 | Z34: 0 | AA34: 0 | AB34: 0 | AC34: 0 | AD34: 1 | AE34: 0 | AF34: 0 | AG34: 0 | AH34: =SUM(C34:AG34) -> 4 | AI34: =Juli!AJ34 -> 13 | AJ34: =AH34+AI34 -> 17 | AK34: =Juli!AN34 -> 11 | AL34: =Juli!AO34 -> 2 | AM34: 5 | AN34: =AK34+AM34 -> 16 | AO34: =AJ34-AN34 -> 1 | AP34: dlm proses
A35: 27 | B35: Izin Toko Obat | C35: 0 | D35: 0 | E35: 0 | F35: 0 | G35: 0 | H35: 0 | I35: 0 | J35: 0 | K35: 0 | L35: 0 | M35: 0 | N35: 0 | O35: 0 | P35: 0 | Q35: 0 | R35: 0 | S35: 0 | T35: 0 | U35: 0 | V35: 0 | W35: 0 | X35: 0 | Y35: 0 | Z35: 0 | AA35: 0 | AB35: 0 | AC35: 0 | AD35: 0 | AE35: 0 | AF35: 0 | AG35: 0 | AH35: =SUM(C35:AG35) -> 0 | AI35: =Juli!AJ35 -> 3 | AJ35: =AH35+AI35 -> 3 | AK35: =Juli!AN35 -> 3 | AL35: =Juli!AO35 -> 0 | AM35: 0 | AN35: =AK35+AM35 -> 3
A36: 28 | B36: Izin Optik | C36: 0 | D36: 0 | E36: 0 | F36: 0 | G36: 0 | H36: 0 | I36: 0 | J36: 0 | K36: 0 | L36: 0 | M36: 0 | N36: 0 | O36: 0 | P36: 0 | Q36: 0 | R36: 0 | S36: 0 | T36: 0 | U36: 0 | V36: 0 | W36: 0 | X36: 0 | Y36: 0 | Z36: 0 | AA36: 0 | AB36: 0 | AC36: 0 | AD36: 0 | AE36: 0 | AF36: 0 | AG36: 0 | AH36: =SUM(C36:AG36) -> 0 | AI36: =Juli!AJ36 -> 1 | AJ36: =AH36+AI36 -> 1 | AK36: =Juli!AN36 -> 1 | AL36: =Juli!AO36 -> 0 | AM36: 0 | AN36: =AK36+AM36 -> 1
A37: 29 | B37: Izin Industri Rumah Tangga Makanan Minuman (PIRT) | C37: 0 | D37: 0 | E37: 1 | F37: 0 | G37: 0 | H37: 0 | I37: 0 | J37: 1 | K37: 1 | L37: 0 | M37: 0 | N37: 0 | O37: 0 | P37: 0 | Q37: 1 | R37: 0 | S37: 0 | T37: 0 | U37: 0 | V37: 0 | W37: 1 | X37: 0 | Y37: 1 | Z37: 0 | AA37: 0 | AB37: 0 | AC37: 0 | AD37: 0 | AE37: 0 | AF37: 1 | AG37: 0 | AH37: =SUM(C37:AG37) -> 7 | AI37: =Juli!AJ37 -> 157 | AJ37: =AH37+AI37 -> 164 | AK37: =Juli!AN37 -> 157 | AL37: =Juli!AO37 -> 0 | AM37: 7 | AN37: =AK37+AM37 -> 164
A38: 30 | B38: Tanda Daftar Depot Air Minum | C38: 0 | D38: 0 | E38: 0 | F38: 0 | G38: 0 | H38: 0 | I38: 0 | J38: 0 | K38: 0 | L38: 0 | M38: 0 | N38: 0 | O38: 0 | P38: 0 | Q38: 0 | R38: 0 | S38: 0 | T38: 0 | U38: 0 | V38: 0 | W38: 0 | X38: 0 | Y38: 0 | Z38: 0 | AA38: 0 | AB38: 0 | AC38: 0 | AD38: 0 | AE38: 0 | AF38: 0 | AG38: 0 | AH38: =SUM(C38:AG38) -> 0 | AI38: =Juli!AJ38 -> 8 | AJ38: =AH38+AI38 -> 8 | AK38: =Juli!AN38 -> 8 | AL38: =Juli!AO38 -> 0 | AM38: 0 | AN38: =AK38+AM38 -> 8
A39: 31 | B39: Tanda Daftar Pengobatan Tradisional | C39: 0 | D39: 0 | E39: 0 | F39: 0 | G39: 0 | H39: 0 | I39: 0 | J39: 0 | K39: 0 | L39: 0 | M39: 0 | N39: 0 | O39: 0 | P39: 0 | Q39: 0 | R39: 0 | S39: 0 | T39: 0 | U39: 0 | V39: 0 | W39: 0 | X39: 0 | Y39: 0 | Z39: 0 | AA39: 0 | AB39: 0 | AC39: 0 | AD39: 0 | AE39: 0 | AF39: 0 | AG39: 0 | AH39: =SUM(C39:AG39) -> 0 | AI39: =Juli!AJ39 -> 2 | AJ39: =AH39+AI39 -> 2 | AK39: =Juli!AN39 -> 2 | AL39: =Juli!AO39 -> 0 | AM39: 0 | AN39: =AK39+AM39 -> 2
A40: 32 | B40: Izin Operasional Pendirian Bursa Kerja Khusus (BKK) | C40: 0 | D40: 0 | E40: 0 | F40: 0 | G40: 0 | H40: 0 | I40: 0 | J40: 0 | K40: 0 | L40: 0 | M40: 0 | N40: 0 | O40: 0 | P40: 0 | Q40: 0 | R40: 0 | S40: 0 | T40: 0 | U40: 0 | V40: 0 | W40: 0 | X40: 0 | Y40: 0 | Z40: 0 | AA40: 0 | AB40: 0 | AC40: 0 | AD40: 0 | AE40: 0 | AF40: 0 | AG40: 0 | AH40: =SUM(C40:AG40) -> 0 | AI40: =Juli!AJ40 -> 4 | AJ40: =AH40+AI40 -> 4 | AK40: =Juli!AN40 -> 3 | AL40: =Juli!AO40 -> 1 | AM40: 0 | AN40: =AK40+AM40 -> 3 | AO40: =AJ40-AN40 -> 1 | AP40: dlm proses
A41: 33 | B41: Izin Lembaga Pelatihan Kerja | C41: 0 | D41: 0 | E41: 0 | F41: 0 | G41: 0 | H41: 0 | I41: 2 | J41: 0 | K41: 0 | L41: 0 | M41: 0 | N41: 0 | O41: 0 | P41: 1 | Q41: 0 | R41: 0 | S41: 0 | T41: 0 | U41: 0 | V41: 0 | W41: 0 | X41: 0 | Y41: 0 | Z41: 0 | AA41: 0 | AB41: 0 | AC41: 0 | AD41: 0 | AE41: 0 | AF41: 0 | AG41: 0 | AH41: =SUM(C41:AG41) -> 3 | AI41: =Juli!AJ41 -> 5 | AJ41: =AH41+AI41 -> 8 | AK41: =Juli!AN41 -> 5 | AL41: =Juli!AO41 -> 0 | AM41: 3 | AN41: =AK41+AM41 -> 8
A42: 34 | B42: Izin Perusahaan Penyedia Jasa Buruh ( Out Sourching) | C42: 0 | D42: 0 | E42: 0 | F42: 0 | G42: 0 | H42: 0 | I42: 0 | J42: 0 | K42: 0 | L42: 0 | M42: 0 | N42: 0 | O42: 0 | P42: 0 | Q42: 0 | R42: 0 | S42: 0 | T42: 0 | U42: 0 | V42: 0 | W42: 0 | X42: 0 | Y42: 0 | Z42: 0 | AA42: 0 | AB42: 0 | AC42: 0 | AD42: 0 | AE42: 0 | AF42: 0 | AG42: 0 | AH42: =SUM(C42:AG42) -> 0 | AI42: =Juli!AJ42 -> 0 | AJ42: =AH42+AI42 -> 0 | AK42: =Juli!AN42 -> 0 | AL42: =Juli!AO42 -> 0 | AM42: 0 | AN42: =AK42+AM42 -> 0
A43: 35 | B43: Izin Pembuatan Tambak | C43: 0 | D43: 0 | E43: 0 | F43: 0 | G43: 0 | H43: 0 | I43: 0 | J43: 0 | K43: 0 | L43: 0 | M43: 0 | N43: 0 | O43: 0 | P43: 0 | Q43: 0 | R43: 0 | S43: 0 | T43: 0 | U43: 0 | V43: 0 | W43: 0 | X43: 0 | Y43: 0 | Z43: 0 | AA43: 0 | AB43: 0 | AC43: 0 | AD43: 0 | AE43: 0 | AF43: 0 | AG43: 0 | AH43: =SUM(C43:AG43) -> 0 | AI43: =Juli!AJ43 -> 0 | AJ43: =AH43+AI43 -> 0 | AK43: =Juli!AN43 -> 0 | AL43: =Juli!AO43 -> 0 | AM43: 0 | AN43: =AK43+AM43 -> 0
A44: 36 | B44: Izin Usaha Perikanan | C44: 0 | D44: 0 | E44: 0 | F44: 0 | G44: 0 | H44: 0 | I44: 0 | J44: 0 | K44: 0 | L44: 0 | M44: 0 | N44: 0 | O44: 0 | P44: 0 | Q44: 0 | R44: 0 | S44: 0 | T44: 0 | U44: 0 | V44: 0 | W44: 0 | X44: 0 | Y44: 0 | Z44: 0 | AA44: 0 | AB44: 0 | AC44: 0 | AD44: 0 | AE44: 0 | AF44: 0 | AG44: 0 | AH44: =SUM(C44:AG44) -> 0 | AI44: =Juli!AJ44 -> 1 | AJ44: =AH44+AI44 -> 1 | AK44: =Juli!AN44 -> 1 | AL44: =Juli!AO44 -> 0 | AM44: 0 | AN44: =AK44+AM44 -> 1
A45: 37 | B45: Izin Usaha Peternakan | C45: 0 | D45: 0 | E45: 0 | F45: 0 | G45: 0 | H45: 0 | I45: 0 | J45: 0 | K45: 0 | L45: 0 | M45: 0 | N45: 0 | O45: 0 | P45: 0 | Q45: 0 | R45: 0 | S45: 0 | T45: 0 | U45: 0 | V45: 0 | W45: 0 | X45: 0 | Y45: 0 | Z45: 0 | AA45: 0 | AB45: 0 | AC45: 0 | AD45: 0 | AE45: 0 | AF45: 0 | AG45: 0 | AH45: =SUM(C45:AG45) -> 0 | AI45: =Juli!AJ45 -> 0 | AJ45: =AH45+AI45 -> 0 | AK45: =Juli!AN45 -> 0 | AL45: =Juli!AO45 -> 0 | AM45: 0 | AN45: =AK45+AM45 -> 0
A46: 38 | B46: Izin Pemakaian Tanah Pengairan | C46: 0 | D46: 0 | E46: 0 | F46: 0 | G46: 0 | H46: 0 | I46: 0 | J46: 0 | K46: 0 | L46: 0 | M46: 0 | N46: 0 | O46: 0 | P46: 0 | Q46: 0 | R46: 0 | S46: 0 | T46: 0 | U46: 0 | V46: 0 | W46: 0 | X46: 0 | Y46: 0 | Z46: 0 | AA46: 0 | AB46: 0 | AC46: 0 | AD46: 0 | AE46: 0 | AF46: 0 | AG46: 0 | AH46: =SUM(C46:AG46) -> 0 | AI46: =Juli!AJ46 -> 0 | AJ46: =AH46+AI46 -> 0 | AK46: =Juli!AN46 -> 0 | AL46: =Juli!AO46 -> 0 | AM46: 0 | AN46: =AK46+AM46 -> 0
A47: 39 | B47: Izin Tebang dan Pengangkutan Kayu Rakyat | C47: 0 | D47: 0 | E47: 0 | F47: 0 | G47: 0 | H47: 0 | I47: 0 | J47: 0 | K47: 0 | L47: 0 | M47: 0 | N47: 0 | O47: 0 | P47: 0 | Q47: 0 | R47: 0 | S47: 0 | T47: 0 | U47: 0 | V47: 0 | W47: 0 | X47: 0 | Y47: 0 | Z47: 0 | AA47: 0 | AB47: 0 | AC47: 0 | AD47: 0 | AE47: 0 | AF47: 0 | AG47: 0 | AH47: =SUM(C47:AG47) -> 0 | AI47: =Juli!AJ47 -> 0 | AJ47: =AH47+AI47 -> 0 | AK47: =Juli!AN47 -> 0 | AL47: =Juli!AO47 -> 0 | AM47: 0 | AN47: =AK47+AM47 -> 0
A48: 40 | B48: Izin Penggunaaan Tanah/Bangunan Milik Pemerintah Kabupaten | C48: 0 | D48: 0 | E48: 0 | F48: 0 | G48: 0 | H48: 0 | I48: 0 | J48: 0 | K48: 0 | L48: 0 | M48: 0 | N48: 0 | O48: 0 | P48: 0 | Q48: 0 | R48: 0 | S48: 0 | T48: 0 | U48: 0 | V48: 0 | W48: 0 | X48: 0 | Y48: 0 | Z48: 0 | AA48: 0 | AB48: 0 | AC48: 0 | AD48: 0 | AE48: 0 | AF48: 0 | AG48: 0 | AH48: =SUM(C48:AG48) -> 0 | AI48: =Juli!AJ48 -> 1 | AJ48: =AH48+AI48 -> 1 | AK48: =Juli!AN48 -> 0 | AL48: =Juli!AO48 -> 1 | AM48: 1 | AN48: =AK48+AM48 -> 1
A49: 41 | B49: Izin Penempatan Kios /Los | C49: 0 | D49: 0 | E49: 13 | F49: 0 | G49: 0 | H49: 0 | I49: 0 | J49: 0 | K49: 0 | L49: 0 | M49: 0 | N49: 0 | O49: 0 | P49: 0 | Q49: 0 | R49: 0 | S49: 0 | T49: 0 | U49: 0 | V49: 0 | W49: 0 | X49: 0 | Y49: 0 | Z49: 0 | AA49: 0 | AB49: 0 | AC49: 0 | AD49: 0 | AE49: 0 | AF49: 0 | AG49: 0 | AH49: =SUM(C49:AG49) -> 13 | AI49: =Juli!AJ49 -> 154 | AJ49: =AH49+AI49 -> 167 | AK49: =Juli!AN49 -> 154 | AL49: =Juli!AO49 -> 0 | AM49: 13 | AN49: =AK49+AM49 -> 167
A50: 42 | B50: Limbah B3 | C50: 0 | D50: 0 | E50: 0 | F50: 0 | G50: 0 | H50: 0 | I50: 0 | J50: 0 | K50: 0 | L50: 0 | M50: 0 | N50: 0 | O50: 0 | P50: 0 | Q50: 0 | R50: 0 | S50: 0 | T50: 0 | U50: 0 | V50: 0 | W50: 0 | X50: 0 | Y50: 0 | Z50: 0 | AA50: 0 | AB50: 0 | AC50: 0 | AD50: 0 | AE50: 0 | AF50: 0 | AG50: 0 | AH50: =SUM(C50:AG50) -> 0 | AI50: =Juli!AJ50 -> 11 | AJ50: =AH50+AI50 -> 11 | AK50: =Juli!AN50 -> 3 | AL50: =Juli!AO50 -> 8 | AM50: 3 | AN50: =AK50+AM50 -> 6 | AO50: =AJ50-AN50 -> 5 | AP50: dlm proses
